{"text_format":"3","workbook":"xlsx","n_sheets":1,"sheets":["11"],"not_rendered":{"external_links":1,"defined_names":9},"read":"whole","date_system":"1900"}

{"sheet":"11","index":0,"n_rows":99,"n_cols":16340,"rows_kept":99}
["№","Код участника","Название ОУ","СНИЛС","Фамилия","Имя","Отчество","Пол","Дата рождения","Участник с ОВЗ","Класс","Класс участия","Первичный балл","Добавлено по итогам апелляций","Итоговый балл","Макс. Балл","Статус","Призер регионального / республиканского этапа прошлого года","Учитель","Место работы учителя"]
[1,"291006_15806894808_25","МБОУ \"ЗСОШ №6\" ЗМР РТ",15806894808,"Абрамова","Кристина","Геннадьевна","ж","2007-11-02",null,11,11,44,null,null,70,null,"призер","Васильева Ирина Ивановна","МБОУ «ЗСОШ №6»"]
[2,"291006_15834369595_25","МБОУ \"ЗСОШ №6\" ЗМР РТ",15834369595,"Набиуллина","Лилия","Ренатовна","ж","2007-11-09",null,11,11,67,null,null,70,"победитель",null,"Миннегулова Милеуша Мусавировна","МБОУ «ЗСОШ №6»"]
[3,"291001_18708344396_25","МБОУ \"ЗСОШ №1\" ЗМР РТ",18708344396,"Кондратьева","Ольга","Михайловна","ж","2008-10-28",null,11,11,46,null,null,70,"призер",null,"Мухамадиева Сария Муллаяновна","МБОУ \"ЗСОШ № 1\""]
[4,"291004_15593932909_25","МБОУ ЗСОШ№4",15593932909,"Зиатдинов","Ильназ","Рамисович","М","2007-04-23",null,11,11,36,null,null,70,null,null,"Габдрахимова Венера Алмасовна","МБОУ ЗСОШ№4"]
[5,"291001_15992347921_25","МБОУ \"ЗСОШ №1\" ЗМР РТ",15992347921,"Алешкина","Ксения","Андреевна","ж","2007-06-09",null,11,11,16,null,null,70,null,null,"Мухамадиева Сария Муллаяновна","МБОУ \"ЗСОШ № 1\""]
[6,"291004_16154302837_25","МБОУ ЗСОШ№4",16154302837,"Тимофеева ","Алина","Вячеславовна","Ж","2007-08-02",null,11,11,23,null,null,70,null,null,"Габдрахимова Венера Алмасовна","МБОУ ЗСОШ№4"]
[7,"291001_15843479401_25","МБОУ \"ЗСОШ №1\" ЗМР РТ",15843479401,"Изосимов","Денис","Александрович","м","2007-01-14",null,11,11,20,null,null,70,null,null,"Мухамадиева Сария Муллаяновна","МБОУ \"ЗСОШ № 1\""]
[8,"291006_15443870977_25","МБОУ \"ЗСОШ №6\" ЗМР РТ",15443870977,"Хасаншина","Раиля","Рафаилевна","ж","2007-04-04",null,11,11,28,null,null,70,null,null,"Миннегулова Милеуша Мусавировна","МБОУ «ЗСОШ №6»"]
[9,{"$f":"'[1]11 кл'!B15","v":"291006_14609644980_25"},{"$f":"'[1]11 кл'!C15","v":"МБОУ \"ЗСОШ №6\" ЗМР РТ"},{"$f":"'[1]11 кл'!D15","v":14609644980},{"$f":"'[1]11 кл'!E15","v":"Агапова"},{"$f":"'[1]11 кл'!F15","v":"Эльвина"},{"$f":"'[1]11 кл'!G15","v":"Федоровна"},{"$f":"'[1]11 кл'!H15","v":"ж"},"2007-03-30",null,11,11,13,null,null,70,null,null,"Миннегулова Милеуша Мусавировна","МБОУ «ЗСОШ №6»",{"$nulls":15},{"$f":"'[1]11 кл'!CB15","v":0},{"$f":"'[1]11 кл'!CC15","v":0},{"$f":"'[1]11 кл'!CD15","v":0},{"$f":"'[1]11 кл'!CE15","v":0},{"$f":"'[1]11 кл'!CF15","v":0},{"$f":"'[1]11 кл'!CG15","v":0},{"$f":"'[1]11 кл'!CH15","v":0},{"$f":"'[1]11 кл'!CI15","v":0},{"$f":"'[1]11 кл'!CJ15","v":0},{"$f":"'[1]11 кл'!CK15","v":0},{"$f":"'[1]11 кл'!CL15","v":0},{"$f":"'[1]11 кл'!CM15","v":0},{"$f":"'[1]11 кл'!CN15","v":0},{"$f":"'[1]11 кл'!CO15","v":0},{"$f":"'[1]11 кл'!CP15","v":0},{"$f":"'[1]11 кл'!CQ15","v":0},{"$f":"'[1]11 кл'!CR15","v":0},{"$f":"'[1]11 кл'!CS15","v":0},{"$f":"'[1]11 кл'!CT15","v":0},{"$f":"'[1]11 кл'!CU15","v":0},{"$f":"'[1]11 кл'!CV15","v":0},{"$f":"'[1]11 кл'!CW15","v":0},{"$f":"'[1]11 кл'!CX15","v":0},{"$f":"'[1]11 кл'!CY15","v":0},{"$f":"'[1]11 кл'!CZ15","v":0},{"$f":"'[1]11 кл'!DA15","v":0},{"$f":"'[1]11 кл'!DB15","v":0},{"$f":"'[1]11 кл'!DC15","v":0},{"$f":"'[1]11 кл'!DD15","v":0},{"$f":"'[1]11 кл'!DE15","v":0},{"$f":"'[1]11 кл'!DF15","v":0},{"$f":"'[1]11 кл'!DG15","v":0},{"$f":"'[1]11 кл'!DH15","v":0},{"$f":"'[1]11 кл'!DI15","v":0},{"$f":"'[1]11 кл'!DJ15","v":0},{"$f":"'[1]11 кл'!DK15","v":0},{"$f":"'[1]11 кл'!DL15","v":0},{"$f":"'[1]11 кл'!DM15","v":0},{"$f":"'[1]11 кл'!DN15","v":0},{"$f":"'[1]11 кл'!DO15","v":0},{"$f":"'[1]11 кл'!DP15","v":0},{"$f":"'[1]11 кл'!DQ15","v":0},{"$f":"'[1]11 кл'!DR15","v":0},{"$f":"'[1]11 кл'!DS15","v":0},{"$f":"'[1]11 кл'!DT15","v":0},{"$f":"'[1]11 кл'!DU15","v":0},{"$f":"'[1]11 кл'!DV15","v":0},{"$f":"'[1]11 кл'!DW15","v":0},{"$f":"'[1]11 кл'!DX15","v":0},{"$f":"'[1]11 кл'!DY15","v":0},{"$f":"'[1]11 кл'!DZ15","v":0},{"$f":"'[1]11 кл'!EA15","v":0},{"$f":"'[1]11 кл'!EB15","v":0},{"$f":"'[1]11 кл'!EC15","v":0},{"$f":"'[1]11 кл'!ED15","v":0},{"$f":"'[1]11 кл'!EE15","v":0},{"$f":"'[1]11 кл'!EF15","v":0},{"$f":"'[1]11 кл'!EG15","v":0},{"$f":"'[1]11 кл'!EH15","v":0},{"$f":"'[1]11 кл'!EI15","v":0},{"$f":"'[1]11 кл'!EJ15","v":0},{"$f":"'[1]11 кл'!EK15","v":0},{"$f":"'[1]11 кл'!EL15","v":0},{"$f":"'[1]11 кл'!EM15","v":0},{"$f":"'[1]11 кл'!EN15","v":0},{"$f":"'[1]11 кл'!EO15","v":0},{"$f":"'[1]11 кл'!EP15","v":0},{"$f":"'[1]11 кл'!EQ15","v":0},{"$f":"'[1]11 кл'!ER15","v":0},{"$f":"'[1]11 кл'!ES15","v":0},{"$f":"'[1]11 кл'!ET15","v":0},{"$f":"'[1]11 кл'!EU15","v":0},{"$f":"'[1]11 кл'!EV15","v":0},{"$f":"'[1]11 кл'!EW15","v":0},{"$f":"'[1]11 кл'!EX15","v":0},{"$f":"'[1]11 кл'!EY15","v":0},{"$f":"'[1]11 кл'!EZ15","v":0},{"$f":"'[1]11 кл'!FA15","v":0},{"$f":"'[1]11 кл'!FB15","v":0},{"$f":"'[1]11 кл'!FC15","v":0},{"$f":"'[1]11 кл'!FD15","v":0},{"$f":"'[1]11 кл'!FE15","v":0},{"$f":"'[1]11 кл'!FF15","v":0},{"$f":"'[1]11 кл'!FG15","v":0},{"$f":"'[1]11 кл'!FH15","v":0},{"$f":"'[1]11 кл'!FI15","v":0},{"$f":"'[1]11 кл'!FJ15","v":0},{"$f":"'[1]11 кл'!FK15","v":0},{"$f":"'[1]11 кл'!FL15","v":0},{"$f":"'[1]11 кл'!FM15","v":0},{"$f":"'[1]11 кл'!FN15","v":0},{"$f":"'[1]11 кл'!FO15","v":0},{"$f":"'[1]11 кл'!FP15","v":0},{"$f":"'[1]11 кл'!FQ15","v":0},{"$f":"'[1]11 кл'!FR15","v":0},{"$f":"'[1]11 кл'!FS15","v":0},{"$f":"'[1]11 кл'!FT15","v":0},{"$f":"'[1]11 кл'!FU15","v":0},{"$f":"'[1]11 кл'!FV15","v":0},{"$f":"'[1]11 кл'!FW15","v":0},{"$f":"'[1]11 кл'!FX15","v":0},{"$f":"'[1]11 кл'!FY15","v":0},{"$f":"'[1]11 кл'!FZ15","v":0},{"$f":"'[1]11 кл'!GA15","v":0},{"$f":"'[1]11 кл'!GB15","v":0},{"$f":"'[1]11 кл'!GC15","v":0},{"$f":"'[1]11 кл'!GD15","v":0},{"$f":"'[1]11 кл'!GE15","v":0},{"$f":"'[1]11 кл'!GF15","v":0},{"$f":"'[1]11 кл'!GG15","v":0},{"$f":"'[1]11 кл'!GH15","v":0},{"$f":"'[1]11 кл'!GI15","v":0},{"$f":"'[1]11 кл'!GJ15","v":0},{"$f":"'[1]11 кл'!GK15","v":0},{"$f":"'[1]11 кл'!GL15","v":0},{"$f":"'[1]11 кл'!GM15","v":0},{"$f":"'[1]11 кл'!GN15","v":0},{"$f":"'[1]11 кл'!GO15","v":0},{"$f":"'[1]11 кл'!GP15","v":0},{"$f":"'[1]11 кл'!GQ15","v":0},{"$f":"'[1]11 кл'!GR15","v":0},{"$f":"'[1]11 кл'!GS15","v":0},{"$f":"'[1]11 кл'!GT15","v":0},{"$f":"'[1]11 кл'!GU15","v":0},{"$f":"'[1]11 кл'!GV15","v":0},{"$f":"'[1]11 кл'!GW15","v":0},{"$f":"'[1]11 кл'!GX15","v":0},{"$f":"'[1]11 кл'!GY15","v":0},{"$f":"'[1]11 кл'!GZ15","v":0},{"$f":"'[1]11 кл'!HA15","v":0},{"$f":"'[1]11 кл'!HB15","v":0},{"$f":"'[1]11 кл'!HC15","v":0},{"$f":"'[1]11 кл'!HD15","v":0},{"$f":"'[1]11 кл'!HE15","v":0},{"$f":"'[1]11 кл'!HF15","v":0},{"$f":"'[1]11 кл'!HG15","v":0},{"$f":"'[1]11 кл'!HH15","v":0},{"$f":"'[1]11 кл'!HI15","v":0},{"$f":"'[1]11 кл'!HJ15","v":0},{"$f":"'[1]11 кл'!HK15","v":0},{"$f":"'[1]11 кл'!HL15","v":0},{"$f":"'[1]11 кл'!HM15","v":0},{"$f":"'[1]11 кл'!HN15","v":0},{"$f":"'[1]11 кл'!HO15","v":0},{"$f":"'[1]11 кл'!HP15","v":0},{"$f":"'[1]11 кл'!HQ15","v":0},{"$f":"'[1]11 кл'!HR15","v":0},{"$f":"'[1]11 кл'!HS15","v":0},{"$f":"'[1]11 кл'!HT15","v":0},{"$f":"'[1]11 кл'!HU15","v":0},{"$f":"'[1]11 кл'!HV15","v":0},{"$f":"'[1]11 кл'!HW15","v":0},{"$f":"'[1]11 кл'!HX15","v":0},{"$f":"'[1]11 кл'!HY15","v":0},{"$f":"'[1]11 кл'!HZ15","v":0},{"$f":"'[1]11 кл'!IA15","v":0},{"$f":"'[1]11 кл'!IB15","v":0},{"$f":"'[1]11 кл'!IC15","v":0},{"$f":"'[1]11 кл'!ID15","v":0},{"$f":"'[1]11 кл'!IE15","v":0},{"$f":"'[1]11 кл'!IF15","v":0},{"$f":"'[1]11 кл'!IG15","v":0},{"$f":"'[1]11 кл'!IH15","v":0},{"$f":"'[1]11 кл'!II15","v":0},{"$f":"'[1]11 кл'!IJ15","v":0},{"$f":"'[1]11 кл'!IK15","v":0},{"$f":"'[1]11 кл'!IL15","v":0},{"$f":"'[1]11 кл'!IM15","v":0},{"$f":"'[1]11 кл'!IN15","v":0},{"$f":"'[1]11 кл'!IO15","v":0},{"$f":"'[1]11 кл'!IP15","v":0},{"$f":"'[1]11 кл'!IQ15","v":0},{"$f":"'[1]11 кл'!IR15","v":0},{"$f":"'[1]11 кл'!IS15","v":0},{"$f":"'[1]11 кл'!IT15","v":0},{"$f":"'[1]11 кл'!IU15","v":0},{"$f":"'[1]11 кл'!IV15","v":0},{"$f":"'[1]11 кл'!IW15","v":0},{"$f":"'[1]11 кл'!IX15","v":0},{"$f":"'[1]11 кл'!IY15","v":0},{"$f":"'[1]11 кл'!IZ15","v":0},{"$f":"'[1]11 кл'!JA15","v":0},{"$f":"'[1]11 кл'!JB15","v":0},{"$f":"'[1]11 кл'!JC15","v":0},{"$f":"'[1]11 кл'!JD15","v":0},{"$f":"'[1]11 кл'!JE15","v":0},{"$f":"'[1]11 кл'!JF15","v":0},{"$f":"'[1]11 кл'!JG15","v":0},{"$f":"'[1]11 кл'!JH15","v":0},{"$f":"'[1]11 кл'!JI15","v":0},{"$f":"'[1]11 кл'!JJ15","v":0},{"$f":"'[1]11 кл'!JK15","v":0},{"$f":"'[1]11 кл'!JL15","v":0},{"$f":"'[1]11 кл'!JM15","v":0},{"$f":"'[1]11 кл'!JN15","v":0},{"$f":"'[1]11 кл'!JO15","v":0},{"$f":"'[1]11 кл'!JP15","v":0},{"$f":"'[1]11 кл'!JQ15","v":0},{"$f":"'[1]11 кл'!JR15","v":0},{"$f":"'[1]11 кл'!JS15","v":0},{"$f":"'[1]11 кл'!JT15","v":0},{"$f":"'[1]11 кл'!JU15","v":0},{"$f":"'[1]11 кл'!JV15","v":0},{"$f":"'[1]11 кл'!JW15","v":0},{"$f":"'[1]11 кл'!JX15","v":0},{"$f":"'[1]11 кл'!JY15","v":0},{"$f":"'[1]11 кл'!JZ15","v":0},{"$f":"'[1]11 кл'!KA15","v":0},{"$f":"'[1]11 кл'!KB15","v":0},{"$f":"'[1]11 кл'!KC15","v":0},{"$f":"'[1]11 кл'!KD15","v":0},{"$f":"'[1]11 кл'!KE15","v":0},{"$f":"'[1]11 кл'!KF15","v":0},{"$f":"'[1]11 кл'!KG15","v":0},{"$f":"'[1]11 кл'!KH15","v":0},{"$f":"'[1]11 кл'!KI15","v":0},{"$f":"'[1]11 кл'!KJ15","v":0},{"$f":"'[1]11 кл'!KK15","v":0},{"$f":"'[1]11 кл'!KL15","v":0},{"$f":"'[1]11 кл'!KM15","v":0},{"$f":"'[1]11 кл'!KN15","v":0},{"$f":"'[1]11 кл'!KO15","v":0},{"$f":"'[1]11 кл'!KP15","v":0},{"$f":"'[1]11 кл'!KQ15","v":0},{"$f":"'[1]11 кл'!KR15","v":0},{"$f":"'[1]11 кл'!KS15","v":0},{"$f":"'[1]11 кл'!KT15","v":0},{"$f":"'[1]11 кл'!KU15","v":0},{"$f":"'[1]11 кл'!KV15","v":0},{"$f":"'[1]11 кл'!KW15","v":0},{"$f":"'[1]11 кл'!KX15","v":0},{"$f":"'[1]11 кл'!KY15","v":0},{"$f":"'[1]11 кл'!KZ15","v":0},{"$f":"'[1]11 кл'!LA15","v":0},{"$f":"'[1]11 кл'!LB15","v":0},{"$f":"'[1]11 кл'!LC15","v":0},{"$f":"'[1]11 кл'!LD15","v":0},{"$f":"'[1]11 кл'!LE15","v":0},{"$f":"'[1]11 кл'!LF15","v":0},{"$f":"'[1]11 кл'!LG15","v":0},{"$f":"'[1]11 кл'!LH15","v":0},{"$f":"'[1]11 кл'!LI15","v":0},{"$f":"'[1]11 кл'!LJ15","v":0},{"$f":"'[1]11 кл'!LK15","v":0},{"$f":"'[1]11 кл'!LL15","v":0},{"$f":"'[1]11 кл'!LM15","v":0},{"$f":"'[1]11 кл'!LN15","v":0},{"$f":"'[1]11 кл'!LO15","v":0},{"$f":"'[1]11 кл'!LP15","v":0},{"$f":"'[1]11 кл'!LQ15","v":0},{"$f":"'[1]11 кл'!LR15","v":0},{"$f":"'[1]11 кл'!LS15","v":0},{"$f":"'[1]11 кл'!LT15","v":0},{"$f":"'[1]11 кл'!LU15","v":0},{"$f":"'[1]11 кл'!LV15","v":0},{"$f":"'[1]11 кл'!LW15","v":0},{"$f":"'[1]11 кл'!LX15","v":0},{"$f":"'[1]11 кл'!LY15","v":0},{"$f":"'[1]11 кл'!LZ15","v":0},{"$f":"'[1]11 кл'!MA15","v":0},{"$f":"'[1]11 кл'!MB15","v":0},{"$f":"'[1]11 кл'!MC15","v":0},{"$f":"'[1]11 кл'!MD15","v":0},{"$f":"'[1]11 кл'!ME15","v":0},{"$f":"'[1]11 кл'!MF15","v":0},{"$f":"'[1]11 кл'!MG15","v":0},{"$f":"'[1]11 кл'!MH15","v":0},{"$f":"'[1]11 кл'!MI15","v":0},{"$f":"'[1]11 кл'!MJ15","v":0},{"$f":"'[1]11 кл'!MK15","v":0},{"$f":"'[1]11 кл'!ML15","v":0},{"$f":"'[1]11 кл'!MM15","v":0},{"$f":"'[1]11 кл'!MN15","v":0},{"$f":"'[1]11 кл'!MO15","v":0},{"$f":"'[1]11 кл'!MP15","v":0},{"$f":"'[1]11 кл'!MQ15","v":0},{"$f":"'[1]11 кл'!MR15","v":0},{"$f":"'[1]11 кл'!MS15","v":0},{"$f":"'[1]11 кл'!MT15","v":0},{"$f":"'[1]11 кл'!MU15","v":0},{"$f":"'[1]11 кл'!MV15","v":0},{"$f":"'[1]11 кл'!MW15","v":0},{"$f":"'[1]11 кл'!MX15","v":0},{"$f":"'[1]11 кл'!MY15","v":0},{"$f":"'[1]11 кл'!MZ15","v":0},{"$f":"'[1]11 кл'!NA15","v":0},{"$f":"'[1]11 кл'!NB15","v":0},{"$f":"'[1]11 кл'!NC15","v":0},{"$f":"'[1]11 кл'!ND15","v":0},{"$f":"'[1]11 кл'!NE15","v":0},{"$f":"'[1]11 кл'!NF15","v":0},{"$f":"'[1]11 кл'!NG15","v":0},{"$f":"'[1]11 кл'!NH15","v":0},{"$f":"'[1]11 кл'!NI15","v":0},{"$f":"'[1]11 кл'!NJ15","v":0},{"$f":"'[1]11 кл'!NK15","v":0},{"$f":"'[1]11 кл'!NL15","v":0},{"$f":"'[1]11 кл'!NM15","v":0},{"$f":"'[1]11 кл'!NN15","v":0},{"$f":"'[1]11 кл'!NO15","v":0},{"$f":"'[1]11 кл'!NP15","v":0},{"$f":"'[1]11 кл'!NQ15","v":0},{"$f":"'[1]11 кл'!NR15","v":0},{"$f":"'[1]11 кл'!NS15","v":0},{"$f":"'[1]11 кл'!NT15","v":0},{"$f":"'[1]11 кл'!NU15","v":0},{"$f":"'[1]11 кл'!NV15","v":0},{"$f":"'[1]11 кл'!NW15","v":0},{"$f":"'[1]11 кл'!NX15","v":0},{"$f":"'[1]11 кл'!NY15","v":0},{"$f":"'[1]11 кл'!NZ15","v":0},{"$f":"'[1]11 кл'!OA15","v":0},{"$f":"'[1]11 кл'!OB15","v":0},{"$f":"'[1]11 кл'!OC15","v":0},{"$f":"'[1]11 кл'!OD15","v":0},{"$f":"'[1]11 кл'!OE15","v":0},{"$f":"'[1]11 кл'!OF15","v":0},{"$f":"'[1]11 кл'!OG15","v":0},{"$f":"'[1]11 кл'!OH15","v":0},{"$f":"'[1]11 кл'!OI15","v":0},{"$f":"'[1]11 кл'!OJ15","v":0},{"$f":"'[1]11 кл'!OK15","v":0},{"$f":"'[1]11 кл'!OL15","v":0},{"$f":"'[1]11 кл'!OM15","v":0},{"$f":"'[1]11 кл'!ON15","v":0},{"$f":"'[1]11 кл'!OO15","v":0},{"$f":"'[1]11 кл'!OP15","v":0},{"$f":"'[1]11 кл'!OQ15","v":0},{"$f":"'[1]11 кл'!OR15","v":0},{"$f":"'[1]11 кл'!OS15","v":0},{"$f":"'[1]11 кл'!OT15","v":0},{"$f":"'[1]11 кл'!OU15","v":0},{"$f":"'[1]11 кл'!OV15","v":0},{"$f":"'[1]11 кл'!OW15","v":0},{"$f":"'[1]11 кл'!OX15","v":0},{"$f":"'[1]11 кл'!OY15","v":0},{"$f":"'[1]11 кл'!OZ15","v":0},{"$f":"'[1]11 кл'!PA15","v":0},{"$f":"'[1]11 кл'!PB15","v":0},{"$f":"'[1]11 кл'!PC15","v":0},{"$f":"'[1]11 кл'!PD15","v":0},{"$f":"'[1]11 кл'!PE15","v":0},{"$f":"'[1]11 кл'!PF15","v":0},{"$f":"'[1]11 кл'!PG15","v":0},{"$f":"'[1]11 кл'!PH15","v":0},{"$f":"'[1]11 кл'!PI15","v":0},{"$f":"'[1]11 кл'!PJ15","v":0},{"$f":"'[1]11 кл'!PK15","v":0},{"$f":"'[1]11 кл'!PL15","v":0},{"$f":"'[1]11 кл'!PM15","v":0},{"$f":"'[1]11 кл'!PN15","v":0},{"$f":"'[1]11 кл'!PO15","v":0},{"$f":"'[1]11 кл'!PP15","v":0},{"$f":"'[1]11 кл'!PQ15","v":0},{"$f":"'[1]11 кл'!PR15","v":0},{"$f":"'[1]11 кл'!PS15","v":0},{"$f":"'[1]11 кл'!PT15","v":0},{"$f":"'[1]11 кл'!PU15","v":0},{"$f":"'[1]11 кл'!PV15","v":0},{"$f":"'[1]11 кл'!PW15","v":0},{"$f":"'[1]11 кл'!PX15","v":0},{"$f":"'[1]11 кл'!PY15","v":0},{"$f":"'[1]11 кл'!PZ15","v":0},{"$f":"'[1]11 кл'!QA15","v":0},{"$f":"'[1]11 кл'!QB15","v":0},{"$f":"'[1]11 кл'!QC15","v":0},{"$f":"'[1]11 кл'!QD15","v":0},{"$f":"'[1]11 кл'!QE15","v":0},{"$f":"'[1]11 кл'!QF15","v":0},{"$f":"'[1]11 кл'!QG15","v":0},{"$f":"'[1]11 кл'!QH15","v":0},{"$f":"'[1]11 кл'!QI15","v":0},{"$f":"'[1]11 кл'!QJ15","v":0},{"$f":"'[1]11 кл'!QK15","v":0},{"$f":"'[1]11 кл'!QL15","v":0},{"$f":"'[1]11 кл'!QM15","v":0},{"$f":"'[1]11 кл'!QN15","v":0},{"$f":"'[1]11 кл'!QO15","v":0},{"$f":"'[1]11 кл'!QP15","v":0},{"$f":"'[1]11 кл'!QQ15","v":0},{"$f":"'[1]11 кл'!QR15","v":0},{"$f":"'[1]11 кл'!QS15","v":0},{"$f":"'[1]11 кл'!QT15","v":0},{"$f":"'[1]11 кл'!QU15","v":0},{"$f":"'[1]11 кл'!QV15","v":0},{"$f":"'[1]11 кл'!QW15","v":0},{"$f":"'[1]11 кл'!QX15","v":0},{"$f":"'[1]11 кл'!QY15","v":0},{"$f":"'[1]11 кл'!QZ15","v":0},{"$f":"'[1]11 кл'!RA15","v":0},{"$f":"'[1]11 кл'!RB15","v":0},{"$f":"'[1]11 кл'!RC15","v":0},{"$f":"'[1]11 кл'!RD15","v":0},{"$f":"'[1]11 кл'!RE15","v":0},{"$f":"'[1]11 кл'!RF15","v":0},{"$f":"'[1]11 кл'!RG15","v":0},{"$f":"'[1]11 кл'!RH15","v":0},{"$f":"'[1]11 кл'!RI15","v":0},{"$f":"'[1]11 кл'!RJ15","v":0},{"$f":"'[1]11 кл'!RK15","v":0},{"$f":"'[1]11 кл'!RL15","v":0},{"$f":"'[1]11 кл'!RM15","v":0},{"$f":"'[1]11 кл'!RN15","v":0},{"$f":"'[1]11 кл'!RO15","v":0},{"$f":"'[1]11 кл'!RP15","v":0},{"$f":"'[1]11 кл'!RQ15","v":0},{"$f":"'[1]11 кл'!RR15","v":0},{"$f":"'[1]11 кл'!RS15","v":0},{"$f":"'[1]11 кл'!RT15","v":0},{"$f":"'[1]11 кл'!RU15","v":0},{"$f":"'[1]11 кл'!RV15","v":0},{"$f":"'[1]11 кл'!RW15","v":0},{"$f":"'[1]11 кл'!RX15","v":0},{"$f":"'[1]11 кл'!RY15","v":0},{"$f":"'[1]11 кл'!RZ15","v":0},{"$f":"'[1]11 кл'!SA15","v":0},{"$f":"'[1]11 кл'!SB15","v":0},{"$f":"'[1]11 кл'!SC15","v":0},{"$f":"'[1]11 кл'!SD15","v":0},{"$f":"'[1]11 кл'!SE15","v":0},{"$f":"'[1]11 кл'!SF15","v":0},{"$f":"'[1]11 кл'!SG15","v":0},{"$f":"'[1]11 кл'!SH15","v":0},{"$f":"'[1]11 кл'!SI15","v":0},{"$f":"'[1]11 кл'!SJ15","v":0},{"$f":"'[1]11 кл'!SK15","v":0},{"$f":"'[1]11 кл'!SL15","v":0},{"$f":"'[1]11 кл'!SM15","v":0},{"$f":"'[1]11 кл'!SN15","v":0},{"$f":"'[1]11 кл'!SO15","v":0},{"$f":"'[1]11 кл'!SP15","v":0},{"$f":"'[1]11 кл'!SQ15","v":0},{"$f":"'[1]11 кл'!SR15","v":0},{"$f":"'[1]11 кл'!SS15","v":0},{"$f":"'[1]11 кл'!ST15","v":0},{"$f":"'[1]11 кл'!SU15","v":0},{"$f":"'[1]11 кл'!SV15","v":0},{"$f":"'[1]11 кл'!SW15","v":0},{"$f":"'[1]11 кл'!SX15","v":0},{"$f":"'[1]11 кл'!SY15","v":0},{"$f":"'[1]11 кл'!SZ15","v":0},{"$f":"'[1]11 кл'!TA15","v":0},{"$f":"'[1]11 кл'!TB15","v":0},{"$f":"'[1]11 кл'!TC15","v":0},{"$f":"'[1]11 кл'!TD15","v":0},{"$f":"'[1]11 кл'!TE15","v":0},{"$f":"'[1]11 кл'!TF15","v":0},{"$f":"'[1]11 кл'!TG15","v":0},{"$f":"'[1]11 кл'!TH15","v":0},{"$f":"'[1]11 кл'!TI15","v":0},{"$f":"'[1]11 кл'!TJ15","v":0},{"$f":"'[1]11 кл'!TK15","v":0},{"$f":"'[1]11 кл'!TL15","v":0},{"$f":"'[1]11 кл'!TM15","v":0},{"$f":"'[1]11 кл'!TN15","v":0},{"$f":"'[1]11 кл'!TO15","v":0},{"$f":"'[1]11 кл'!TP15","v":0},{"$f":"'[1]11 кл'!TQ15","v":0},{"$f":"'[1]11 кл'!TR15","v":0},{"$f":"'[1]11 кл'!TS15","v":0},{"$f":"'[1]11 кл'!TT15","v":0},{"$f":"'[1]11 кл'!TU15","v":0},{"$f":"'[1]11 кл'!TV15","v":0},{"$f":"'[1]11 кл'!TW15","v":0},{"$f":"'[1]11 кл'!TX15","v":0},{"$f":"'[1]11 кл'!TY15","v":0},{"$f":"'[1]11 кл'!TZ15","v":0},{"$f":"'[1]11 кл'!UA15","v":0},{"$f":"'[1]11 кл'!UB15","v":0},{"$f":"'[1]11 кл'!UC15","v":0},{"$f":"'[1]11 кл'!UD15","v":0},{"$f":"'[1]11 кл'!UE15","v":0},{"$f":"'[1]11 кл'!UF15","v":0},{"$f":"'[1]11 кл'!UG15","v":0},{"$f":"'[1]11 кл'!UH15","v":0},{"$f":"'[1]11 кл'!UI15","v":0},{"$f":"'[1]11 кл'!UJ15","v":0},{"$f":"'[1]11 кл'!UK15","v":0},{"$f":"'[1]11 кл'!UL15","v":0},{"$f":"'[1]11 кл'!UM15","v":0},{"$f":"'[1]11 кл'!UN15","v":0},{"$f":"'[1]11 кл'!UO15","v":0},{"$f":"'[1]11 кл'!UP15","v":0},{"$f":"'[1]11 кл'!UQ15","v":0},{"$f":"'[1]11 кл'!UR15","v":0},{"$f":"'[1]11 кл'!US15","v":0},{"$f":"'[1]11 кл'!UT15","v":0},{"$f":"'[1]11 кл'!UU15","v":0},{"$f":"'[1]11 кл'!UV15","v":0},{"$f":"'[1]11 кл'!UW15","v":0},{"$f":"'[1]11 кл'!UX15","v":0},{"$f":"'[1]11 кл'!UY15","v":0},{"$f":"'[1]11 кл'!UZ15","v":0},{"$f":"'[1]11 кл'!VA15","v":0},{"$f":"'[1]11 кл'!VB15","v":0},{"$f":"'[1]11 кл'!VC15","v":0},{"$f":"'[1]11 кл'!VD15","v":0},{"$f":"'[1]11 кл'!VE15","v":0},{"$f":"'[1]11 кл'!VF15","v":0},{"$f":"'[1]11 кл'!VG15","v":0},{"$f":"'[1]11 кл'!VH15","v":0},{"$f":"'[1]11 кл'!VI15","v":0},{"$f":"'[1]11 кл'!VJ15","v":0},{"$f":"'[1]11 кл'!VK15","v":0},{"$f":"'[1]11 кл'!VL15","v":0},{"$f":"'[1]11 кл'!VM15","v":0},{"$f":"'[1]11 кл'!VN15","v":0},{"$f":"'[1]11 кл'!VO15","v":0},{"$f":"'[1]11 кл'!VP15","v":0},{"$f":"'[1]11 кл'!VQ15","v":0},{"$f":"'[1]11 кл'!VR15","v":0},{"$f":"'[1]11 кл'!VS15","v":0},{"$f":"'[1]11 кл'!VT15","v":0},{"$f":"'[1]11 кл'!VU15","v":0},{"$f":"'[1]11 кл'!VV15","v":0},{"$f":"'[1]11 кл'!VW15","v":0},{"$f":"'[1]11 кл'!VX15","v":0},{"$f":"'[1]11 кл'!VY15","v":0},{"$f":"'[1]11 кл'!VZ15","v":0},{"$f":"'[1]11 кл'!WA15","v":0},{"$f":"'[1]11 кл'!WB15","v":0},{"$f":"'[1]11 кл'!WC15","v":0},{"$f":"'[1]11 кл'!WD15","v":0},{"$f":"'[1]11 кл'!WE15","v":0},{"$f":"'[1]11 кл'!WF15","v":0},{"$f":"'[1]11 кл'!WG15","v":0},{"$f":"'[1]11 кл'!WH15","v":0},{"$f":"'[1]11 кл'!WI15","v":0},{"$f":"'[1]11 кл'!WJ15","v":0},{"$f":"'[1]11 кл'!WK15","v":0},{"$f":"'[1]11 кл'!WL15","v":0},{"$f":"'[1]11 кл'!WM15","v":0},{"$f":"'[1]11 кл'!WN15","v":0},{"$f":"'[1]11 кл'!WO15","v":0},{"$f":"'[1]11 кл'!WP15","v":0},{"$f":"'[1]11 кл'!WQ15","v":0},{"$f":"'[1]11 кл'!WR15","v":0},{"$f":"'[1]11 кл'!WS15","v":0},{"$f":"'[1]11 кл'!WT15","v":0},{"$f":"'[1]11 кл'!WU15","v":0},{"$f":"'[1]11 кл'!WV15","v":0},{"$f":"'[1]11 кл'!WW15","v":0},{"$f":"'[1]11 кл'!WX15","v":0},{"$f":"'[1]11 кл'!WY15","v":0},{"$f":"'[1]11 кл'!WZ15","v":0},{"$f":"'[1]11 кл'!XA15","v":0},{"$f":"'[1]11 кл'!XB15","v":0},{"$f":"'[1]11 кл'!XC15","v":0},{"$f":"'[1]11 кл'!XD15","v":0},{"$f":"'[1]11 кл'!XE15","v":0},{"$f":"'[1]11 кл'!XF15","v":0},{"$f":"'[1]11 кл'!XG15","v":0},{"$f":"'[1]11 кл'!XH15","v":0},{"$f":"'[1]11 кл'!XI15","v":0},{"$f":"'[1]11 кл'!XJ15","v":0},{"$f":"'[1]11 кл'!XK15","v":0},{"$f":"'[1]11 кл'!XL15","v":0},{"$f":"'[1]11 кл'!XM15","v":0},{"$f":"'[1]11 кл'!XN15","v":0},{"$f":"'[1]11 кл'!XO15","v":0},{"$f":"'[1]11 кл'!XP15","v":0},{"$f":"'[1]11 кл'!XQ15","v":0},{"$f":"'[1]11 кл'!XR15","v":0},{"$f":"'[1]11 кл'!XS15","v":0},{"$f":"'[1]11 кл'!XT15","v":0},{"$f":"'[1]11 кл'!XU15","v":0},{"$f":"'[1]11 кл'!XV15","v":0},{"$f":"'[1]11 кл'!XW15","v":0},{"$f":"'[1]11 кл'!XX15","v":0},{"$f":"'[1]11 кл'!XY15","v":0},{"$f":"'[1]11 кл'!XZ15","v":0},{"$f":"'[1]11 кл'!YA15","v":0},{"$f":"'[1]11 кл'!YB15","v":0},{"$f":"'[1]11 кл'!YC15","v":0},{"$f":"'[1]11 кл'!YD15","v":0},{"$f":"'[1]11 кл'!YE15","v":0},{"$f":"'[1]11 кл'!YF15","v":0},{"$f":"'[1]11 кл'!YG15","v":0},{"$f":"'[1]11 кл'!YH15","v":0},{"$f":"'[1]11 кл'!YI15","v":0},{"$f":"'[1]11 кл'!YJ15","v":0},{"$f":"'[1]11 кл'!YK15","v":0},{"$f":"'[1]11 кл'!YL15","v":0},{"$f":"'[1]11 кл'!YM15","v":0},{"$f":"'[1]11 кл'!YN15","v":0},{"$f":"'[1]11 кл'!YO15","v":0},{"$f":"'[1]11 кл'!YP15","v":0},{"$f":"'[1]11 кл'!YQ15","v":0},{"$f":"'[1]11 кл'!YR15","v":0},{"$f":"'[1]11 кл'!YS15","v":0},{"$f":"'[1]11 кл'!YT15","v":0},{"$f":"'[1]11 кл'!YU15","v":0},{"$f":"'[1]11 кл'!YV15","v":0},{"$f":"'[1]11 кл'!YW15","v":0},{"$f":"'[1]11 кл'!YX15","v":0},{"$f":"'[1]11 кл'!YY15","v":0},{"$f":"'[1]11 кл'!YZ15","v":0},{"$f":"'[1]11 кл'!ZA15","v":0},{"$f":"'[1]11 кл'!ZB15","v":0},{"$f":"'[1]11 кл'!ZC15","v":0},{"$f":"'[1]11 кл'!ZD15","v":0},{"$f":"'[1]11 кл'!ZE15","v":0},{"$f":"'[1]11 кл'!ZF15","v":0},{"$f":"'[1]11 кл'!ZG15","v":0},{"$f":"'[1]11 кл'!ZH15","v":0},{"$f":"'[1]11 кл'!ZI15","v":0},{"$f":"'[1]11 кл'!ZJ15","v":0},{"$f":"'[1]11 кл'!ZK15","v":0},{"$f":"'[1]11 кл'!ZL15","v":0},{"$f":"'[1]11 кл'!ZM15","v":0},{"$f":"'[1]11 кл'!ZN15","v":0},{"$f":"'[1]11 кл'!ZO15","v":0},{"$f":"'[1]11 кл'!ZP15","v":0},{"$f":"'[1]11 кл'!ZQ15","v":0},{"$f":"'[1]11 кл'!ZR15","v":0},{"$f":"'[1]11 кл'!ZS15","v":0},{"$f":"'[1]11 кл'!ZT15","v":0},{"$f":"'[1]11 кл'!ZU15","v":0},{"$f":"'[1]11 кл'!ZV15","v":0},{"$f":"'[1]11 кл'!ZW15","v":0},{"$f":"'[1]11 кл'!ZX15","v":0},{"$f":"'[1]11 кл'!ZY15","v":0},{"$f":"'[1]11 кл'!ZZ15","v":0},{"$f":"'[1]11 кл'!AAA15","v":0},{"$f":"'[1]11 кл'!AAB15","v":0},{"$f":"'[1]11 кл'!AAC15","v":0},{"$f":"'[1]11 кл'!AAD15","v":0},{"$f":"'[1]11 кл'!AAE15","v":0},{"$f":"'[1]11 кл'!AAF15","v":0},{"$f":"'[1]11 кл'!AAG15","v":0},{"$f":"'[1]11 кл'!AAH15","v":0},{"$f":"'[1]11 кл'!AAI15","v":0},{"$f":"'[1]11 кл'!AAJ15","v":0},{"$f":"'[1]11 кл'!AAK15","v":0},{"$f":"'[1]11 кл'!AAL15","v":0},{"$f":"'[1]11 кл'!AAM15","v":0},{"$f":"'[1]11 кл'!AAN15","v":0},{"$f":"'[1]11 кл'!AAO15","v":0},{"$f":"'[1]11 кл'!AAP15","v":0},{"$f":"'[1]11 кл'!AAQ15","v":0},{"$f":"'[1]11 кл'!AAR15","v":0},{"$f":"'[1]11 кл'!AAS15","v":0},{"$f":"'[1]11 кл'!AAT15","v":0},{"$f":"'[1]11 кл'!AAU15","v":0},{"$f":"'[1]11 кл'!AAV15","v":0},{"$f":"'[1]11 кл'!AAW15","v":0},{"$f":"'[1]11 кл'!AAX15","v":0},{"$f":"'[1]11 кл'!AAY15","v":0},{"$f":"'[1]11 кл'!AAZ15","v":0},{"$f":"'[1]11 кл'!ABA15","v":0},{"$f":"'[1]11 кл'!ABB15","v":0},{"$f":"'[1]11 кл'!ABC15","v":0},{"$f":"'[1]11 кл'!ABD15","v":0},{"$f":"'[1]11 кл'!ABE15","v":0},{"$f":"'[1]11 кл'!ABF15","v":0},{"$f":"'[1]11 кл'!ABG15","v":0},{"$f":"'[1]11 кл'!ABH15","v":0},{"$f":"'[1]11 кл'!ABI15","v":0},{"$f":"'[1]11 кл'!ABJ15","v":0},{"$f":"'[1]11 кл'!ABK15","v":0},{"$f":"'[1]11 кл'!ABL15","v":0},{"$f":"'[1]11 кл'!ABM15","v":0},{"$f":"'[1]11 кл'!ABN15","v":0},{"$f":"'[1]11 кл'!ABO15","v":0},{"$f":"'[1]11 кл'!ABP15","v":0},{"$f":"'[1]11 кл'!ABQ15","v":0},{"$f":"'[1]11 кл'!ABR15","v":0},{"$f":"'[1]11 кл'!ABS15","v":0},{"$f":"'[1]11 кл'!ABT15","v":0},{"$f":"'[1]11 кл'!ABU15","v":0},{"$f":"'[1]11 кл'!ABV15","v":0},{"$f":"'[1]11 кл'!ABW15","v":0},{"$f":"'[1]11 кл'!ABX15","v":0},{"$f":"'[1]11 кл'!ABY15","v":0},{"$f":"'[1]11 кл'!ABZ15","v":0},{"$f":"'[1]11 кл'!ACA15","v":0},{"$f":"'[1]11 кл'!ACB15","v":0},{"$f":"'[1]11 кл'!ACC15","v":0},{"$f":"'[1]11 кл'!ACD15","v":0},{"$f":"'[1]11 кл'!ACE15","v":0},{"$f":"'[1]11 кл'!ACF15","v":0},{"$f":"'[1]11 кл'!ACG15","v":0},{"$f":"'[1]11 кл'!ACH15","v":0},{"$f":"'[1]11 кл'!ACI15","v":0},{"$f":"'[1]11 кл'!ACJ15","v":0},{"$f":"'[1]11 кл'!ACK15","v":0},{"$f":"'[1]11 кл'!ACL15","v":0},{"$f":"'[1]11 кл'!ACM15","v":0},{"$f":"'[1]11 кл'!ACN15","v":0},{"$f":"'[1]11 кл'!ACO15","v":0},{"$f":"'[1]11 кл'!ACP15","v":0},{"$f":"'[1]11 кл'!ACQ15","v":0},{"$f":"'[1]11 кл'!ACR15","v":0},{"$f":"'[1]11 кл'!ACS15","v":0},{"$f":"'[1]11 кл'!ACT15","v":0},{"$f":"'[1]11 кл'!ACU15","v":0},{"$f":"'[1]11 кл'!ACV15","v":0},{"$f":"'[1]11 кл'!ACW15","v":0},{"$f":"'[1]11 кл'!ACX15","v":0},{"$f":"'[1]11 кл'!ACY15","v":0},{"$f":"'[1]11 кл'!ACZ15","v":0},{"$f":"'[1]11 кл'!ADA15","v":0},{"$f":"'[1]11 кл'!ADB15","v":0},{"$f":"'[1]11 кл'!ADC15","v":0},{"$f":"'[1]11 кл'!ADD15","v":0},{"$f":"'[1]11 кл'!ADE15","v":0},{"$f":"'[1]11 кл'!ADF15","v":0},{"$f":"'[1]11 кл'!ADG15","v":0},{"$f":"'[1]11 кл'!ADH15","v":0},{"$f":"'[1]11 кл'!ADI15","v":0},{"$f":"'[1]11 кл'!ADJ15","v":0},{"$f":"'[1]11 кл'!ADK15","v":0},{"$f":"'[1]11 кл'!ADL15","v":0},{"$f":"'[1]11 кл'!ADM15","v":0},{"$f":"'[1]11 кл'!ADN15","v":0},{"$f":"'[1]11 кл'!ADO15","v":0},{"$f":"'[1]11 кл'!ADP15","v":0},{"$f":"'[1]11 кл'!ADQ15","v":0},{"$f":"'[1]11 кл'!ADR15","v":0},{"$f":"'[1]11 кл'!ADS15","v":0},{"$f":"'[1]11 кл'!ADT15","v":0},{"$f":"'[1]11 кл'!ADU15","v":0},{"$f":"'[1]11 кл'!ADV15","v":0},{"$f":"'[1]11 кл'!ADW15","v":0},{"$f":"'[1]11 кл'!ADX15","v":0},{"$f":"'[1]11 кл'!ADY15","v":0},{"$f":"'[1]11 кл'!ADZ15","v":0},{"$f":"'[1]11 кл'!AEA15","v":0},{"$f":"'[1]11 кл'!AEB15","v":0},{"$f":"'[1]11 кл'!AEC15","v":0},{"$f":"'[1]11 кл'!AED15","v":0},{"$f":"'[1]11 кл'!AEE15","v":0},{"$f":"'[1]11 кл'!AEF15","v":0},{"$f":"'[1]11 кл'!AEG15","v":0},{"$f":"'[1]11 кл'!AEH15","v":0},{"$f":"'[1]11 кл'!AEI15","v":0},{"$f":"'[1]11 кл'!AEJ15","v":0},{"$f":"'[1]11 кл'!AEK15","v":0},{"$f":"'[1]11 кл'!AEL15","v":0},{"$f":"'[1]11 кл'!AEM15","v":0},{"$f":"'[1]11 кл'!AEN15","v":0},{"$f":"'[1]11 кл'!AEO15","v":0},{"$f":"'[1]11 кл'!AEP15","v":0},{"$f":"'[1]11 кл'!AEQ15","v":0},{"$f":"'[1]11 кл'!AER15","v":0},{"$f":"'[1]11 кл'!AES15","v":0},{"$f":"'[1]11 кл'!AET15","v":0},{"$f":"'[1]11 кл'!AEU15","v":0},{"$f":"'[1]11 кл'!AEV15","v":0},{"$f":"'[1]11 кл'!AEW15","v":0},{"$f":"'[1]11 кл'!AEX15","v":0},{"$f":"'[1]11 кл'!AEY15","v":0},{"$f":"'[1]11 кл'!AEZ15","v":0},{"$f":"'[1]11 кл'!AFA15","v":0},{"$f":"'[1]11 кл'!AFB15","v":0},{"$f":"'[1]11 кл'!AFC15","v":0},{"$f":"'[1]11 кл'!AFD15","v":0},{"$f":"'[1]11 кл'!AFE15","v":0},{"$f":"'[1]11 кл'!AFF15","v":0},{"$f":"'[1]11 кл'!AFG15","v":0},{"$f":"'[1]11 кл'!AFH15","v":0},{"$f":"'[1]11 кл'!AFI15","v":0},{"$f":"'[1]11 кл'!AFJ15","v":0},{"$f":"'[1]11 кл'!AFK15","v":0},{"$f":"'[1]11 кл'!AFL15","v":0},{"$f":"'[1]11 кл'!AFM15","v":0},{"$f":"'[1]11 кл'!AFN15","v":0},{"$f":"'[1]11 кл'!AFO15","v":0},{"$f":"'[1]11 кл'!AFP15","v":0},{"$f":"'[1]11 кл'!AFQ15","v":0},{"$f":"'[1]11 кл'!AFR15","v":0},{"$f":"'[1]11 кл'!AFS15","v":0},{"$f":"'[1]11 кл'!AFT15","v":0},{"$f":"'[1]11 кл'!AFU15","v":0},{"$f":"'[1]11 кл'!AFV15","v":0},{"$f":"'[1]11 кл'!AFW15","v":0},{"$f":"'[1]11 кл'!AFX15","v":0},{"$f":"'[1]11 кл'!AFY15","v":0},{"$f":"'[1]11 кл'!AFZ15","v":0},{"$f":"'[1]11 кл'!AGA15","v":0},{"$f":"'[1]11 кл'!AGB15","v":0},{"$f":"'[1]11 кл'!AGC15","v":0},{"$f":"'[1]11 кл'!AGD15","v":0},{"$f":"'[1]11 кл'!AGE15","v":0},{"$f":"'[1]11 кл'!AGF15","v":0},{"$f":"'[1]11 кл'!AGG15","v":0},{"$f":"'[1]11 кл'!AGH15","v":0},{"$f":"'[1]11 кл'!AGI15","v":0},{"$f":"'[1]11 кл'!AGJ15","v":0},{"$f":"'[1]11 кл'!AGK15","v":0},{"$f":"'[1]11 кл'!AGL15","v":0},{"$f":"'[1]11 кл'!AGM15","v":0},{"$f":"'[1]11 кл'!AGN15","v":0},{"$f":"'[1]11 кл'!AGO15","v":0},{"$f":"'[1]11 кл'!AGP15","v":0},{"$f":"'[1]11 кл'!AGQ15","v":0},{"$f":"'[1]11 кл'!AGR15","v":0},{"$f":"'[1]11 кл'!AGS15","v":0},{"$f":"'[1]11 кл'!AGT15","v":0},{"$f":"'[1]11 кл'!AGU15","v":0},{"$f":"'[1]11 кл'!AGV15","v":0},{"$f":"'[1]11 кл'!AGW15","v":0},{"$f":"'[1]11 кл'!AGX15","v":0},{"$f":"'[1]11 кл'!AGY15","v":0},{"$f":"'[1]11 кл'!AGZ15","v":0},{"$f":"'[1]11 кл'!AHA15","v":0},{"$f":"'[1]11 кл'!AHB15","v":0},{"$f":"'[1]11 кл'!AHC15","v":0},{"$f":"'[1]11 кл'!AHD15","v":0},{"$f":"'[1]11 кл'!AHE15","v":0},{"$f":"'[1]11 кл'!AHF15","v":0},{"$f":"'[1]11 кл'!AHG15","v":0},{"$f":"'[1]11 кл'!AHH15","v":0},{"$f":"'[1]11 кл'!AHI15","v":0},{"$f":"'[1]11 кл'!AHJ15","v":0},{"$f":"'[1]11 кл'!AHK15","v":0},{"$f":"'[1]11 кл'!AHL15","v":0},{"$f":"'[1]11 кл'!AHM15","v":0},{"$f":"'[1]11 кл'!AHN15","v":0},{"$f":"'[1]11 кл'!AHO15","v":0},{"$f":"'[1]11 кл'!AHP15","v":0},{"$f":"'[1]11 кл'!AHQ15","v":0},{"$f":"'[1]11 кл'!AHR15","v":0},{"$f":"'[1]11 кл'!AHS15","v":0},{"$f":"'[1]11 кл'!AHT15","v":0},{"$f":"'[1]11 кл'!AHU15","v":0},{"$f":"'[1]11 кл'!AHV15","v":0},{"$f":"'[1]11 кл'!AHW15","v":0},{"$f":"'[1]11 кл'!AHX15","v":0},{"$f":"'[1]11 кл'!AHY15","v":0},{"$f":"'[1]11 кл'!AHZ15","v":0},{"$f":"'[1]11 кл'!AIA15","v":0},{"$f":"'[1]11 кл'!AIB15","v":0},{"$f":"'[1]11 кл'!AIC15","v":0},{"$f":"'[1]11 кл'!AID15","v":0},{"$f":"'[1]11 кл'!AIE15","v":0},{"$f":"'[1]11 кл'!AIF15","v":0},{"$f":"'[1]11 кл'!AIG15","v":0},{"$f":"'[1]11 кл'!AIH15","v":0},{"$f":"'[1]11 кл'!AII15","v":0},{"$f":"'[1]11 кл'!AIJ15","v":0},{"$f":"'[1]11 кл'!AIK15","v":0},{"$f":"'[1]11 кл'!AIL15","v":0},{"$f":"'[1]11 кл'!AIM15","v":0},{"$f":"'[1]11 кл'!AIN15","v":0},{"$f":"'[1]11 кл'!AIO15","v":0},{"$f":"'[1]11 кл'!AIP15","v":0},{"$f":"'[1]11 кл'!AIQ15","v":0},{"$f":"'[1]11 кл'!AIR15","v":0},{"$f":"'[1]11 кл'!AIS15","v":0},{"$f":"'[1]11 кл'!AIT15","v":0},{"$f":"'[1]11 кл'!AIU15","v":0},{"$f":"'[1]11 кл'!AIV15","v":0},{"$f":"'[1]11 кл'!AIW15","v":0},{"$f":"'[1]11 кл'!AIX15","v":0},{"$f":"'[1]11 кл'!AIY15","v":0},{"$f":"'[1]11 кл'!AIZ15","v":0},{"$f":"'[1]11 кл'!AJA15","v":0},{"$f":"'[1]11 кл'!AJB15","v":0},{"$f":"'[1]11 кл'!AJC15","v":0},{"$f":"'[1]11 кл'!AJD15","v":0},{"$f":"'[1]11 кл'!AJE15","v":0},{"$f":"'[1]11 кл'!AJF15","v":0},{"$f":"'[1]11 кл'!AJG15","v":0},{"$f":"'[1]11 кл'!AJH15","v":0},{"$f":"'[1]11 кл'!AJI15","v":0},{"$f":"'[1]11 кл'!AJJ15","v":0},{"$f":"'[1]11 кл'!AJK15","v":0},{"$f":"'[1]11 кл'!AJL15","v":0},{"$f":"'[1]11 кл'!AJM15","v":0},{"$f":"'[1]11 кл'!AJN15","v":0},{"$f":"'[1]11 кл'!AJO15","v":0},{"$f":"'[1]11 кл'!AJP15","v":0},{"$f":"'[1]11 кл'!AJQ15","v":0},{"$f":"'[1]11 кл'!AJR15","v":0},{"$f":"'[1]11 кл'!AJS15","v":0},{"$f":"'[1]11 кл'!AJT15","v":0},{"$f":"'[1]11 кл'!AJU15","v":0},{"$f":"'[1]11 кл'!AJV15","v":0},{"$f":"'[1]11 кл'!AJW15","v":0},{"$f":"'[1]11 кл'!AJX15","v":0},{"$f":"'[1]11 кл'!AJY15","v":0},{"$f":"'[1]11 кл'!AJZ15","v":0},{"$f":"'[1]11 кл'!AKA15","v":0},{"$f":"'[1]11 кл'!AKB15","v":0},{"$f":"'[1]11 кл'!AKC15","v":0},{"$f":"'[1]11 кл'!AKD15","v":0},{"$f":"'[1]11 кл'!AKE15","v":0},{"$f":"'[1]11 кл'!AKF15","v":0},{"$f":"'[1]11 кл'!AKG15","v":0},{"$f":"'[1]11 кл'!AKH15","v":0},{"$f":"'[1]11 кл'!AKI15","v":0},{"$f":"'[1]11 кл'!AKJ15","v":0},{"$f":"'[1]11 кл'!AKK15","v":0},{"$f":"'[1]11 кл'!AKL15","v":0},{"$f":"'[1]11 кл'!AKM15","v":0},{"$f":"'[1]11 кл'!AKN15","v":0},{"$f":"'[1]11 кл'!AKO15","v":0},{"$f":"'[1]11 кл'!AKP15","v":0},{"$f":"'[1]11 кл'!AKQ15","v":0},{"$f":"'[1]11 кл'!AKR15","v":0},{"$f":"'[1]11 кл'!AKS15","v":0},{"$f":"'[1]11 кл'!AKT15","v":0},{"$f":"'[1]11 кл'!AKU15","v":0},{"$f":"'[1]11 кл'!AKV15","v":0},{"$f":"'[1]11 кл'!AKW15","v":0},{"$f":"'[1]11 кл'!AKX15","v":0},{"$f":"'[1]11 кл'!AKY15","v":0},{"$f":"'[1]11 кл'!AKZ15","v":0},{"$f":"'[1]11 кл'!ALA15","v":0},{"$f":"'[1]11 кл'!ALB15","v":0},{"$f":"'[1]11 кл'!ALC15","v":0},{"$f":"'[1]11 кл'!ALD15","v":0},{"$f":"'[1]11 кл'!ALE15","v":0},{"$f":"'[1]11 кл'!ALF15","v":0},{"$f":"'[1]11 кл'!ALG15","v":0},{"$f":"'[1]11 кл'!ALH15","v":0},{"$f":"'[1]11 кл'!ALI15","v":0},{"$f":"'[1]11 кл'!ALJ15","v":0},{"$f":"'[1]11 кл'!ALK15","v":0},{"$f":"'[1]11 кл'!ALL15","v":0},{"$f":"'[1]11 кл'!ALM15","v":0},{"$f":"'[1]11 кл'!ALN15","v":0},{"$f":"'[1]11 кл'!ALO15","v":0},{"$f":"'[1]11 кл'!ALP15","v":0},{"$f":"'[1]11 кл'!ALQ15","v":0},{"$f":"'[1]11 кл'!ALR15","v":0},{"$f":"'[1]11 кл'!ALS15","v":0},{"$f":"'[1]11 кл'!ALT15","v":0},{"$f":"'[1]11 кл'!ALU15","v":0},{"$f":"'[1]11 кл'!ALV15","v":0},{"$f":"'[1]11 кл'!ALW15","v":0},{"$f":"'[1]11 кл'!ALX15","v":0},{"$f":"'[1]11 кл'!ALY15","v":0},{"$f":"'[1]11 кл'!ALZ15","v":0},{"$f":"'[1]11 кл'!AMA15","v":0},{"$f":"'[1]11 кл'!AMB15","v":0},{"$f":"'[1]11 кл'!AMC15","v":0},{"$f":"'[1]11 кл'!AMD15","v":0},{"$f":"'[1]11 кл'!AME15","v":0},{"$f":"'[1]11 кл'!AMF15","v":0},{"$f":"'[1]11 кл'!AMG15","v":0},{"$f":"'[1]11 кл'!AMH15","v":0},{"$f":"'[1]11 кл'!AMI15","v":0},{"$f":"'[1]11 кл'!AMJ15","v":0},{"$f":"'[1]11 кл'!AMK15","v":0},{"$f":"'[1]11 кл'!AML15","v":0},{"$f":"'[1]11 кл'!AMM15","v":0},{"$f":"'[1]11 кл'!AMN15","v":0},{"$f":"'[1]11 кл'!AMO15","v":0},{"$f":"'[1]11 кл'!AMP15","v":0},{"$f":"'[1]11 кл'!AMQ15","v":0},{"$f":"'[1]11 кл'!AMR15","v":0},{"$f":"'[1]11 кл'!AMS15","v":0},{"$f":"'[1]11 кл'!AMT15","v":0},{"$f":"'[1]11 кл'!AMU15","v":0},{"$f":"'[1]11 кл'!AMV15","v":0},{"$f":"'[1]11 кл'!AMW15","v":0},{"$f":"'[1]11 кл'!AMX15","v":0},{"$f":"'[1]11 кл'!AMY15","v":0},{"$f":"'[1]11 кл'!AMZ15","v":0},{"$f":"'[1]11 кл'!ANA15","v":0},{"$f":"'[1]11 кл'!ANB15","v":0},{"$f":"'[1]11 кл'!ANC15","v":0},{"$f":"'[1]11 кл'!AND15","v":0},{"$f":"'[1]11 кл'!ANE15","v":0},{"$f":"'[1]11 кл'!ANF15","v":0},{"$f":"'[1]11 кл'!ANG15","v":0},{"$f":"'[1]11 кл'!ANH15","v":0},{"$f":"'[1]11 кл'!ANI15","v":0},{"$f":"'[1]11 кл'!ANJ15","v":0},{"$f":"'[1]11 кл'!ANK15","v":0},{"$f":"'[1]11 кл'!ANL15","v":0},{"$f":"'[1]11 кл'!ANM15","v":0},{"$f":"'[1]11 кл'!ANN15","v":0},{"$f":"'[1]11 кл'!ANO15","v":0},{"$f":"'[1]11 кл'!ANP15","v":0},{"$f":"'[1]11 кл'!ANQ15","v":0},{"$f":"'[1]11 кл'!ANR15","v":0},{"$f":"'[1]11 кл'!ANS15","v":0},{"$f":"'[1]11 кл'!ANT15","v":0},{"$f":"'[1]11 кл'!ANU15","v":0},{"$f":"'[1]11 кл'!ANV15","v":0},{"$f":"'[1]11 кл'!ANW15","v":0},{"$f":"'[1]11 кл'!ANX15","v":0},{"$f":"'[1]11 кл'!ANY15","v":0},{"$f":"'[1]11 кл'!ANZ15","v":0},{"$f":"'[1]11 кл'!AOA15","v":0},{"$f":"'[1]11 кл'!AOB15","v":0},{"$f":"'[1]11 кл'!AOC15","v":0},{"$f":"'[1]11 кл'!AOD15","v":0},{"$f":"'[1]11 кл'!AOE15","v":0},{"$f":"'[1]11 кл'!AOF15","v":0},{"$f":"'[1]11 кл'!AOG15","v":0},{"$f":"'[1]11 кл'!AOH15","v":0},{"$f":"'[1]11 кл'!AOI15","v":0},{"$f":"'[1]11 кл'!AOJ15","v":0},{"$f":"'[1]11 кл'!AOK15","v":0},{"$f":"'[1]11 кл'!AOL15","v":0},{"$f":"'[1]11 кл'!AOM15","v":0},{"$f":"'[1]11 кл'!AON15","v":0},{"$f":"'[1]11 кл'!AOO15","v":0},{"$f":"'[1]11 кл'!AOP15","v":0},{"$f":"'[1]11 кл'!AOQ15","v":0},{"$f":"'[1]11 кл'!AOR15","v":0},{"$f":"'[1]11 кл'!AOS15","v":0},{"$f":"'[1]11 кл'!AOT15","v":0},{"$f":"'[1]11 кл'!AOU15","v":0},{"$f":"'[1]11 кл'!AOV15","v":0},{"$f":"'[1]11 кл'!AOW15","v":0},{"$f":"'[1]11 кл'!AOX15","v":0},{"$f":"'[1]11 кл'!AOY15","v":0},{"$f":"'[1]11 кл'!AOZ15","v":0},{"$f":"'[1]11 кл'!APA15","v":0},{"$f":"'[1]11 кл'!APB15","v":0},{"$f":"'[1]11 кл'!APC15","v":0},{"$f":"'[1]11 кл'!APD15","v":0},{"$f":"'[1]11 кл'!APE15","v":0},{"$f":"'[1]11 кл'!APF15","v":0},{"$f":"'[1]11 кл'!APG15","v":0},{"$f":"'[1]11 кл'!APH15","v":0},{"$f":"'[1]11 кл'!API15","v":0},{"$f":"'[1]11 кл'!APJ15","v":0},{"$f":"'[1]11 кл'!APK15","v":0},{"$f":"'[1]11 кл'!APL15","v":0},{"$f":"'[1]11 кл'!APM15","v":0},{"$f":"'[1]11 кл'!APN15","v":0},{"$f":"'[1]11 кл'!APO15","v":0},{"$f":"'[1]11 кл'!APP15","v":0},{"$f":"'[1]11 кл'!APQ15","v":0},{"$f":"'[1]11 кл'!APR15","v":0},{"$f":"'[1]11 кл'!APS15","v":0},{"$f":"'[1]11 кл'!APT15","v":0},{"$f":"'[1]11 кл'!APU15","v":0},{"$f":"'[1]11 кл'!APV15","v":0},{"$f":"'[1]11 кл'!APW15","v":0},{"$f":"'[1]11 кл'!APX15","v":0},{"$f":"'[1]11 кл'!APY15","v":0},{"$f":"'[1]11 кл'!APZ15","v":0},{"$f":"'[1]11 кл'!AQA15","v":0},{"$f":"'[1]11 кл'!AQB15","v":0},{"$f":"'[1]11 кл'!AQC15","v":0},{"$f":"'[1]11 кл'!AQD15","v":0},{"$f":"'[1]11 кл'!AQE15","v":0},{"$f":"'[1]11 кл'!AQF15","v":0},{"$f":"'[1]11 кл'!AQG15","v":0},{"$f":"'[1]11 кл'!AQH15","v":0},{"$f":"'[1]11 кл'!AQI15","v":0},{"$f":"'[1]11 кл'!AQJ15","v":0},{"$f":"'[1]11 кл'!AQK15","v":0},{"$f":"'[1]11 кл'!AQL15","v":0},{"$f":"'[1]11 кл'!AQM15","v":0},{"$f":"'[1]11 кл'!AQN15","v":0},{"$f":"'[1]11 кл'!AQO15","v":0},{"$f":"'[1]11 кл'!AQP15","v":0},{"$f":"'[1]11 кл'!AQQ15","v":0},{"$f":"'[1]11 кл'!AQR15","v":0},{"$f":"'[1]11 кл'!AQS15","v":0},{"$f":"'[1]11 кл'!AQT15","v":0},{"$f":"'[1]11 кл'!AQU15","v":0},{"$f":"'[1]11 кл'!AQV15","v":0},{"$f":"'[1]11 кл'!AQW15","v":0},{"$f":"'[1]11 кл'!AQX15","v":0},{"$f":"'[1]11 кл'!AQY15","v":0},{"$f":"'[1]11 кл'!AQZ15","v":0},{"$f":"'[1]11 кл'!ARA15","v":0},{"$f":"'[1]11 кл'!ARB15","v":0},{"$f":"'[1]11 кл'!ARC15","v":0},{"$f":"'[1]11 кл'!ARD15","v":0},{"$f":"'[1]11 кл'!ARE15","v":0},{"$f":"'[1]11 кл'!ARF15","v":0},{"$f":"'[1]11 кл'!ARG15","v":0},{"$f":"'[1]11 кл'!ARH15","v":0},{"$f":"'[1]11 кл'!ARI15","v":0},{"$f":"'[1]11 кл'!ARJ15","v":0},{"$f":"'[1]11 кл'!ARK15","v":0},{"$f":"'[1]11 кл'!ARL15","v":0},{"$f":"'[1]11 кл'!ARM15","v":0},{"$f":"'[1]11 кл'!ARN15","v":0},{"$f":"'[1]11 кл'!ARO15","v":0},{"$f":"'[1]11 кл'!ARP15","v":0},{"$f":"'[1]11 кл'!ARQ15","v":0},{"$f":"'[1]11 кл'!ARR15","v":0},{"$f":"'[1]11 кл'!ARS15","v":0},{"$f":"'[1]11 кл'!ART15","v":0},{"$f":"'[1]11 кл'!ARU15","v":0},{"$f":"'[1]11 кл'!ARV15","v":0},{"$f":"'[1]11 кл'!ARW15","v":0},{"$f":"'[1]11 кл'!ARX15","v":0},{"$f":"'[1]11 кл'!ARY15","v":0},{"$f":"'[1]11 кл'!ARZ15","v":0},{"$f":"'[1]11 кл'!ASA15","v":0},{"$f":"'[1]11 кл'!ASB15","v":0},{"$f":"'[1]11 кл'!ASC15","v":0},{"$f":"'[1]11 кл'!ASD15","v":0},{"$f":"'[1]11 кл'!ASE15","v":0},{"$f":"'[1]11 кл'!ASF15","v":0},{"$f":"'[1]11 кл'!ASG15","v":0},{"$f":"'[1]11 кл'!ASH15","v":0},{"$f":"'[1]11 кл'!ASI15","v":0},{"$f":"'[1]11 кл'!ASJ15","v":0},{"$f":"'[1]11 кл'!ASK15","v":0},{"$f":"'[1]11 кл'!ASL15","v":0},{"$f":"'[1]11 кл'!ASM15","v":0},{"$f":"'[1]11 кл'!ASN15","v":0},{"$f":"'[1]11 кл'!ASO15","v":0},{"$f":"'[1]11 кл'!ASP15","v":0},{"$f":"'[1]11 кл'!ASQ15","v":0},{"$f":"'[1]11 кл'!ASR15","v":0},{"$f":"'[1]11 кл'!ASS15","v":0},{"$f":"'[1]11 кл'!AST15","v":0},{"$f":"'[1]11 кл'!ASU15","v":0},{"$f":"'[1]11 кл'!ASV15","v":0},{"$f":"'[1]11 кл'!ASW15","v":0},{"$f":"'[1]11 кл'!ASX15","v":0},{"$f":"'[1]11 кл'!ASY15","v":0},{"$f":"'[1]11 кл'!ASZ15","v":0},{"$f":"'[1]11 кл'!ATA15","v":0},{"$f":"'[1]11 кл'!ATB15","v":0},{"$f":"'[1]11 кл'!ATC15","v":0},{"$f":"'[1]11 кл'!ATD15","v":0},{"$f":"'[1]11 кл'!ATE15","v":0},{"$f":"'[1]11 кл'!ATF15","v":0},{"$f":"'[1]11 кл'!ATG15","v":0},{"$f":"'[1]11 кл'!ATH15","v":0},{"$f":"'[1]11 кл'!ATI15","v":0},{"$f":"'[1]11 кл'!ATJ15","v":0},{"$f":"'[1]11 кл'!ATK15","v":0},{"$f":"'[1]11 кл'!ATL15","v":0},{"$f":"'[1]11 кл'!ATM15","v":0},{"$f":"'[1]11 кл'!ATN15","v":0},{"$f":"'[1]11 кл'!ATO15","v":0},{"$f":"'[1]11 кл'!ATP15","v":0},{"$f":"'[1]11 кл'!ATQ15","v":0},{"$f":"'[1]11 кл'!ATR15","v":0},{"$f":"'[1]11 кл'!ATS15","v":0},{"$f":"'[1]11 кл'!ATT15","v":0},{"$f":"'[1]11 кл'!ATU15","v":0},{"$f":"'[1]11 кл'!ATV15","v":0},{"$f":"'[1]11 кл'!ATW15","v":0},{"$f":"'[1]11 кл'!ATX15","v":0},{"$f":"'[1]11 кл'!ATY15","v":0},{"$f":"'[1]11 кл'!ATZ15","v":0},{"$f":"'[1]11 кл'!AUA15","v":0},{"$f":"'[1]11 кл'!AUB15","v":0},{"$f":"'[1]11 кл'!AUC15","v":0},{"$f":"'[1]11 кл'!AUD15","v":0},{"$f":"'[1]11 кл'!AUE15","v":0},{"$f":"'[1]11 кл'!AUF15","v":0},{"$f":"'[1]11 кл'!AUG15","v":0},{"$f":"'[1]11 кл'!AUH15","v":0},{"$f":"'[1]11 кл'!AUI15","v":0},{"$f":"'[1]11 кл'!AUJ15","v":0},{"$f":"'[1]11 кл'!AUK15","v":0},{"$f":"'[1]11 кл'!AUL15","v":0},{"$f":"'[1]11 кл'!AUM15","v":0},{"$f":"'[1]11 кл'!AUN15","v":0},{"$f":"'[1]11 кл'!AUO15","v":0},{"$f":"'[1]11 кл'!AUP15","v":0},{"$f":"'[1]11 кл'!AUQ15","v":0},{"$f":"'[1]11 кл'!AUR15","v":0},{"$f":"'[1]11 кл'!AUS15","v":0},{"$f":"'[1]11 кл'!AUT15","v":0},{"$f":"'[1]11 кл'!AUU15","v":0},{"$f":"'[1]11 кл'!AUV15","v":0},{"$f":"'[1]11 кл'!AUW15","v":0},{"$f":"'[1]11 кл'!AUX15","v":0},{"$f":"'[1]11 кл'!AUY15","v":0},{"$f":"'[1]11 кл'!AUZ15","v":0},{"$f":"'[1]11 кл'!AVA15","v":0},{"$f":"'[1]11 кл'!AVB15","v":0},{"$f":"'[1]11 кл'!AVC15","v":0},{"$f":"'[1]11 кл'!AVD15","v":0},{"$f":"'[1]11 кл'!AVE15","v":0},{"$f":"'[1]11 кл'!AVF15","v":0},{"$f":"'[1]11 кл'!AVG15","v":0},{"$f":"'[1]11 кл'!AVH15","v":0},{"$f":"'[1]11 кл'!AVI15","v":0},{"$f":"'[1]11 кл'!AVJ15","v":0},{"$f":"'[1]11 кл'!AVK15","v":0},{"$f":"'[1]11 кл'!AVL15","v":0},{"$f":"'[1]11 кл'!AVM15","v":0},{"$f":"'[1]11 кл'!AVN15","v":0},{"$f":"'[1]11 кл'!AVO15","v":0},{"$f":"'[1]11 кл'!AVP15","v":0},{"$f":"'[1]11 кл'!AVQ15","v":0},{"$f":"'[1]11 кл'!AVR15","v":0},{"$f":"'[1]11 кл'!AVS15","v":0},{"$f":"'[1]11 кл'!AVT15","v":0},{"$f":"'[1]11 кл'!AVU15","v":0},{"$f":"'[1]11 кл'!AVV15","v":0},{"$f":"'[1]11 кл'!AVW15","v":0},{"$f":"'[1]11 кл'!AVX15","v":0},{"$f":"'[1]11 кл'!AVY15","v":0},{"$f":"'[1]11 кл'!AVZ15","v":0},{"$f":"'[1]11 кл'!AWA15","v":0},{"$f":"'[1]11 кл'!AWB15","v":0},{"$f":"'[1]11 кл'!AWC15","v":0},{"$f":"'[1]11 кл'!AWD15","v":0},{"$f":"'[1]11 кл'!AWE15","v":0},{"$f":"'[1]11 кл'!AWF15","v":0},{"$f":"'[1]11 кл'!AWG15","v":0},{"$f":"'[1]11 кл'!AWH15","v":0},{"$f":"'[1]11 кл'!AWI15","v":0},{"$f":"'[1]11 кл'!AWJ15","v":0},{"$f":"'[1]11 кл'!AWK15","v":0},{"$f":"'[1]11 кл'!AWL15","v":0},{"$f":"'[1]11 кл'!AWM15","v":0},{"$f":"'[1]11 кл'!AWN15","v":0},{"$f":"'[1]11 кл'!AWO15","v":0},{"$f":"'[1]11 кл'!AWP15","v":0},{"$f":"'[1]11 кл'!AWQ15","v":0},{"$f":"'[1]11 кл'!AWR15","v":0},{"$f":"'[1]11 кл'!AWS15","v":0},{"$f":"'[1]11 кл'!AWT15","v":0},{"$f":"'[1]11 кл'!AWU15","v":0},{"$f":"'[1]11 кл'!AWV15","v":0},{"$f":"'[1]11 кл'!AWW15","v":0},{"$f":"'[1]11 кл'!AWX15","v":0},{"$f":"'[1]11 кл'!AWY15","v":0},{"$f":"'[1]11 кл'!AWZ15","v":0},{"$f":"'[1]11 кл'!AXA15","v":0},{"$f":"'[1]11 кл'!AXB15","v":0},{"$f":"'[1]11 кл'!AXC15","v":0},{"$f":"'[1]11 кл'!AXD15","v":0},{"$f":"'[1]11 кл'!AXE15","v":0},{"$f":"'[1]11 кл'!AXF15","v":0},{"$f":"'[1]11 кл'!AXG15","v":0},{"$f":"'[1]11 кл'!AXH15","v":0},{"$f":"'[1]11 кл'!AXI15","v":0},{"$f":"'[1]11 кл'!AXJ15","v":0},{"$f":"'[1]11 кл'!AXK15","v":0},{"$f":"'[1]11 кл'!AXL15","v":0},{"$f":"'[1]11 кл'!AXM15","v":0},{"$f":"'[1]11 кл'!AXN15","v":0},{"$f":"'[1]11 кл'!AXO15","v":0},{"$f":"'[1]11 кл'!AXP15","v":0},{"$f":"'[1]11 кл'!AXQ15","v":0},{"$f":"'[1]11 кл'!AXR15","v":0},{"$f":"'[1]11 кл'!AXS15","v":0},{"$f":"'[1]11 кл'!AXT15","v":0},{"$f":"'[1]11 кл'!AXU15","v":0},{"$f":"'[1]11 кл'!AXV15","v":0},{"$f":"'[1]11 кл'!AXW15","v":0},{"$f":"'[1]11 кл'!AXX15","v":0},{"$f":"'[1]11 кл'!AXY15","v":0},{"$f":"'[1]11 кл'!AXZ15","v":0},{"$f":"'[1]11 кл'!AYA15","v":0},{"$f":"'[1]11 кл'!AYB15","v":0},{"$f":"'[1]11 кл'!AYC15","v":0},{"$f":"'[1]11 кл'!AYD15","v":0},{"$f":"'[1]11 кл'!AYE15","v":0},{"$f":"'[1]11 кл'!AYF15","v":0},{"$f":"'[1]11 кл'!AYG15","v":0},{"$f":"'[1]11 кл'!AYH15","v":0},{"$f":"'[1]11 кл'!AYI15","v":0},{"$f":"'[1]11 кл'!AYJ15","v":0},{"$f":"'[1]11 кл'!AYK15","v":0},{"$f":"'[1]11 кл'!AYL15","v":0},{"$f":"'[1]11 кл'!AYM15","v":0},{"$f":"'[1]11 кл'!AYN15","v":0},{"$f":"'[1]11 кл'!AYO15","v":0},{"$f":"'[1]11 кл'!AYP15","v":0},{"$f":"'[1]11 кл'!AYQ15","v":0},{"$f":"'[1]11 кл'!AYR15","v":0},{"$f":"'[1]11 кл'!AYS15","v":0},{"$f":"'[1]11 кл'!AYT15","v":0},{"$f":"'[1]11 кл'!AYU15","v":0},{"$f":"'[1]11 кл'!AYV15","v":0},{"$f":"'[1]11 кл'!AYW15","v":0},{"$f":"'[1]11 кл'!AYX15","v":0},{"$f":"'[1]11 кл'!AYY15","v":0},{"$f":"'[1]11 кл'!AYZ15","v":0},{"$f":"'[1]11 кл'!AZA15","v":0},{"$f":"'[1]11 кл'!AZB15","v":0},{"$f":"'[1]11 кл'!AZC15","v":0},{"$f":"'[1]11 кл'!AZD15","v":0},{"$f":"'[1]11 кл'!AZE15","v":0},{"$f":"'[1]11 кл'!AZF15","v":0},{"$f":"'[1]11 кл'!AZG15","v":0},{"$f":"'[1]11 кл'!AZH15","v":0},{"$f":"'[1]11 кл'!AZI15","v":0},{"$f":"'[1]11 кл'!AZJ15","v":0},{"$f":"'[1]11 кл'!AZK15","v":0},{"$f":"'[1]11 кл'!AZL15","v":0},{"$f":"'[1]11 кл'!AZM15","v":0},{"$f":"'[1]11 кл'!AZN15","v":0},{"$f":"'[1]11 кл'!AZO15","v":0},{"$f":"'[1]11 кл'!AZP15","v":0},{"$f":"'[1]11 кл'!AZQ15","v":0},{"$f":"'[1]11 кл'!AZR15","v":0},{"$f":"'[1]11 кл'!AZS15","v":0},{"$f":"'[1]11 кл'!AZT15","v":0},{"$f":"'[1]11 кл'!AZU15","v":0},{"$f":"'[1]11 кл'!AZV15","v":0},{"$f":"'[1]11 кл'!AZW15","v":0},{"$f":"'[1]11 кл'!AZX15","v":0},{"$f":"'[1]11 кл'!AZY15","v":0},{"$f":"'[1]11 кл'!AZZ15","v":0},{"$f":"'[1]11 кл'!BAA15","v":0},{"$f":"'[1]11 кл'!BAB15","v":0},{"$f":"'[1]11 кл'!BAC15","v":0},{"$f":"'[1]11 кл'!BAD15","v":0},{"$f":"'[1]11 кл'!BAE15","v":0},{"$f":"'[1]11 кл'!BAF15","v":0},{"$f":"'[1]11 кл'!BAG15","v":0},{"$f":"'[1]11 кл'!BAH15","v":0},{"$f":"'[1]11 кл'!BAI15","v":0},{"$f":"'[1]11 кл'!BAJ15","v":0},{"$f":"'[1]11 кл'!BAK15","v":0},{"$f":"'[1]11 кл'!BAL15","v":0},{"$f":"'[1]11 кл'!BAM15","v":0},{"$f":"'[1]11 кл'!BAN15","v":0},{"$f":"'[1]11 кл'!BAO15","v":0},{"$f":"'[1]11 кл'!BAP15","v":0},{"$f":"'[1]11 кл'!BAQ15","v":0},{"$f":"'[1]11 кл'!BAR15","v":0},{"$f":"'[1]11 кл'!BAS15","v":0},{"$f":"'[1]11 кл'!BAT15","v":0},{"$f":"'[1]11 кл'!BAU15","v":0},{"$f":"'[1]11 кл'!BAV15","v":0},{"$f":"'[1]11 кл'!BAW15","v":0},{"$f":"'[1]11 кл'!BAX15","v":0},{"$f":"'[1]11 кл'!BAY15","v":0},{"$f":"'[1]11 кл'!BAZ15","v":0},{"$f":"'[1]11 кл'!BBA15","v":0},{"$f":"'[1]11 кл'!BBB15","v":0},{"$f":"'[1]11 кл'!BBC15","v":0},{"$f":"'[1]11 кл'!BBD15","v":0},{"$f":"'[1]11 кл'!BBE15","v":0},{"$f":"'[1]11 кл'!BBF15","v":0},{"$f":"'[1]11 кл'!BBG15","v":0},{"$f":"'[1]11 кл'!BBH15","v":0},{"$f":"'[1]11 кл'!BBI15","v":0},{"$f":"'[1]11 кл'!BBJ15","v":0},{"$f":"'[1]11 кл'!BBK15","v":0},{"$f":"'[1]11 кл'!BBL15","v":0},{"$f":"'[1]11 кл'!BBM15","v":0},{"$f":"'[1]11 кл'!BBN15","v":0},{"$f":"'[1]11 кл'!BBO15","v":0},{"$f":"'[1]11 кл'!BBP15","v":0},{"$f":"'[1]11 кл'!BBQ15","v":0},{"$f":"'[1]11 кл'!BBR15","v":0},{"$f":"'[1]11 кл'!BBS15","v":0},{"$f":"'[1]11 кл'!BBT15","v":0},{"$f":"'[1]11 кл'!BBU15","v":0},{"$f":"'[1]11 кл'!BBV15","v":0},{"$f":"'[1]11 кл'!BBW15","v":0},{"$f":"'[1]11 кл'!BBX15","v":0},{"$f":"'[1]11 кл'!BBY15","v":0},{"$f":"'[1]11 кл'!BBZ15","v":0},{"$f":"'[1]11 кл'!BCA15","v":0},{"$f":"'[1]11 кл'!BCB15","v":0},{"$f":"'[1]11 кл'!BCC15","v":0},{"$f":"'[1]11 кл'!BCD15","v":0},{"$f":"'[1]11 кл'!BCE15","v":0},{"$f":"'[1]11 кл'!BCF15","v":0},{"$f":"'[1]11 кл'!BCG15","v":0},{"$f":"'[1]11 кл'!BCH15","v":0},{"$f":"'[1]11 кл'!BCI15","v":0},{"$f":"'[1]11 кл'!BCJ15","v":0},{"$f":"'[1]11 кл'!BCK15","v":0},{"$f":"'[1]11 кл'!BCL15","v":0},{"$f":"'[1]11 кл'!BCM15","v":0},{"$f":"'[1]11 кл'!BCN15","v":0},{"$f":"'[1]11 кл'!BCO15","v":0},{"$f":"'[1]11 кл'!BCP15","v":0},{"$f":"'[1]11 кл'!BCQ15","v":0},{"$f":"'[1]11 кл'!BCR15","v":0},{"$f":"'[1]11 кл'!BCS15","v":0},{"$f":"'[1]11 кл'!BCT15","v":0},{"$f":"'[1]11 кл'!BCU15","v":0},{"$f":"'[1]11 кл'!BCV15","v":0},{"$f":"'[1]11 кл'!BCW15","v":0},{"$f":"'[1]11 кл'!BCX15","v":0},{"$f":"'[1]11 кл'!BCY15","v":0},{"$f":"'[1]11 кл'!BCZ15","v":0},{"$f":"'[1]11 кл'!BDA15","v":0},{"$f":"'[1]11 кл'!BDB15","v":0},{"$f":"'[1]11 кл'!BDC15","v":0},{"$f":"'[1]11 кл'!BDD15","v":0},{"$f":"'[1]11 кл'!BDE15","v":0},{"$f":"'[1]11 кл'!BDF15","v":0},{"$f":"'[1]11 кл'!BDG15","v":0},{"$f":"'[1]11 кл'!BDH15","v":0},{"$f":"'[1]11 кл'!BDI15","v":0},{"$f":"'[1]11 кл'!BDJ15","v":0},{"$f":"'[1]11 кл'!BDK15","v":0},{"$f":"'[1]11 кл'!BDL15","v":0},{"$f":"'[1]11 кл'!BDM15","v":0},{"$f":"'[1]11 кл'!BDN15","v":0},{"$f":"'[1]11 кл'!BDO15","v":0},{"$f":"'[1]11 кл'!BDP15","v":0},{"$f":"'[1]11 кл'!BDQ15","v":0},{"$f":"'[1]11 кл'!BDR15","v":0},{"$f":"'[1]11 кл'!BDS15","v":0},{"$f":"'[1]11 кл'!BDT15","v":0},{"$f":"'[1]11 кл'!BDU15","v":0},{"$f":"'[1]11 кл'!BDV15","v":0},{"$f":"'[1]11 кл'!BDW15","v":0},{"$f":"'[1]11 кл'!BDX15","v":0},{"$f":"'[1]11 кл'!BDY15","v":0},{"$f":"'[1]11 кл'!BDZ15","v":0},{"$f":"'[1]11 кл'!BEA15","v":0},{"$f":"'[1]11 кл'!BEB15","v":0},{"$f":"'[1]11 кл'!BEC15","v":0},{"$f":"'[1]11 кл'!BED15","v":0},{"$f":"'[1]11 кл'!BEE15","v":0},{"$f":"'[1]11 кл'!BEF15","v":0},{"$f":"'[1]11 кл'!BEG15","v":0},{"$f":"'[1]11 кл'!BEH15","v":0},{"$f":"'[1]11 кл'!BEI15","v":0},{"$f":"'[1]11 кл'!BEJ15","v":0},{"$f":"'[1]11 кл'!BEK15","v":0},{"$f":"'[1]11 кл'!BEL15","v":0},{"$f":"'[1]11 кл'!BEM15","v":0},{"$f":"'[1]11 кл'!BEN15","v":0},{"$f":"'[1]11 кл'!BEO15","v":0},{"$f":"'[1]11 кл'!BEP15","v":0},{"$f":"'[1]11 кл'!BEQ15","v":0},{"$f":"'[1]11 кл'!BER15","v":0},{"$f":"'[1]11 кл'!BES15","v":0},{"$f":"'[1]11 кл'!BET15","v":0},{"$f":"'[1]11 кл'!BEU15","v":0},{"$f":"'[1]11 кл'!BEV15","v":0},{"$f":"'[1]11 кл'!BEW15","v":0},{"$f":"'[1]11 кл'!BEX15","v":0},{"$f":"'[1]11 кл'!BEY15","v":0},{"$f":"'[1]11 кл'!BEZ15","v":0},{"$f":"'[1]11 кл'!BFA15","v":0},{"$f":"'[1]11 кл'!BFB15","v":0},{"$f":"'[1]11 кл'!BFC15","v":0},{"$f":"'[1]11 кл'!BFD15","v":0},{"$f":"'[1]11 кл'!BFE15","v":0},{"$f":"'[1]11 кл'!BFF15","v":0},{"$f":"'[1]11 кл'!BFG15","v":0},{"$f":"'[1]11 кл'!BFH15","v":0},{"$f":"'[1]11 кл'!BFI15","v":0},{"$f":"'[1]11 кл'!BFJ15","v":0},{"$f":"'[1]11 кл'!BFK15","v":0},{"$f":"'[1]11 кл'!BFL15","v":0},{"$f":"'[1]11 кл'!BFM15","v":0},{"$f":"'[1]11 кл'!BFN15","v":0},{"$f":"'[1]11 кл'!BFO15","v":0},{"$f":"'[1]11 кл'!BFP15","v":0},{"$f":"'[1]11 кл'!BFQ15","v":0},{"$f":"'[1]11 кл'!BFR15","v":0},{"$f":"'[1]11 кл'!BFS15","v":0},{"$f":"'[1]11 кл'!BFT15","v":0},{"$f":"'[1]11 кл'!BFU15","v":0},{"$f":"'[1]11 кл'!BFV15","v":0},{"$f":"'[1]11 кл'!BFW15","v":0},{"$f":"'[1]11 кл'!BFX15","v":0},{"$f":"'[1]11 кл'!BFY15","v":0},{"$f":"'[1]11 кл'!BFZ15","v":0},{"$f":"'[1]11 кл'!BGA15","v":0},{"$f":"'[1]11 кл'!BGB15","v":0},{"$f":"'[1]11 кл'!BGC15","v":0},{"$f":"'[1]11 кл'!BGD15","v":0},{"$f":"'[1]11 кл'!BGE15","v":0},{"$f":"'[1]11 кл'!BGF15","v":0},{"$f":"'[1]11 кл'!BGG15","v":0},{"$f":"'[1]11 кл'!BGH15","v":0},{"$f":"'[1]11 кл'!BGI15","v":0},{"$f":"'[1]11 кл'!BGJ15","v":0},{"$f":"'[1]11 кл'!BGK15","v":0},{"$f":"'[1]11 кл'!BGL15","v":0},{"$f":"'[1]11 кл'!BGM15","v":0},{"$f":"'[1]11 кл'!BGN15","v":0},{"$f":"'[1]11 кл'!BGO15","v":0},{"$f":"'[1]11 кл'!BGP15","v":0},{"$f":"'[1]11 кл'!BGQ15","v":0},{"$f":"'[1]11 кл'!BGR15","v":0},{"$f":"'[1]11 кл'!BGS15","v":0},{"$f":"'[1]11 кл'!BGT15","v":0},{"$f":"'[1]11 кл'!BGU15","v":0},{"$f":"'[1]11 кл'!BGV15","v":0},{"$f":"'[1]11 кл'!BGW15","v":0},{"$f":"'[1]11 кл'!BGX15","v":0},{"$f":"'[1]11 кл'!BGY15","v":0},{"$f":"'[1]11 кл'!BGZ15","v":0},{"$f":"'[1]11 кл'!BHA15","v":0},{"$f":"'[1]11 кл'!BHB15","v":0},{"$f":"'[1]11 кл'!BHC15","v":0},{"$f":"'[1]11 кл'!BHD15","v":0},{"$f":"'[1]11 кл'!BHE15","v":0},{"$f":"'[1]11 кл'!BHF15","v":0},{"$f":"'[1]11 кл'!BHG15","v":0},{"$f":"'[1]11 кл'!BHH15","v":0},{"$f":"'[1]11 кл'!BHI15","v":0},{"$f":"'[1]11 кл'!BHJ15","v":0},{"$f":"'[1]11 кл'!BHK15","v":0},{"$f":"'[1]11 кл'!BHL15","v":0},{"$f":"'[1]11 кл'!BHM15","v":0},{"$f":"'[1]11 кл'!BHN15","v":0},{"$f":"'[1]11 кл'!BHO15","v":0},{"$f":"'[1]11 кл'!BHP15","v":0},{"$f":"'[1]11 кл'!BHQ15","v":0},{"$f":"'[1]11 кл'!BHR15","v":0},{"$f":"'[1]11 кл'!BHS15","v":0},{"$f":"'[1]11 кл'!BHT15","v":0},{"$f":"'[1]11 кл'!BHU15","v":0},{"$f":"'[1]11 кл'!BHV15","v":0},{"$f":"'[1]11 кл'!BHW15","v":0},{"$f":"'[1]11 кл'!BHX15","v":0},{"$f":"'[1]11 кл'!BHY15","v":0},{"$f":"'[1]11 кл'!BHZ15","v":0},{"$f":"'[1]11 кл'!BIA15","v":0},{"$f":"'[1]11 кл'!BIB15","v":0},{"$f":"'[1]11 кл'!BIC15","v":0},{"$f":"'[1]11 кл'!BID15","v":0},{"$f":"'[1]11 кл'!BIE15","v":0},{"$f":"'[1]11 кл'!BIF15","v":0},{"$f":"'[1]11 кл'!BIG15","v":0},{"$f":"'[1]11 кл'!BIH15","v":0},{"$f":"'[1]11 кл'!BII15","v":0},{"$f":"'[1]11 кл'!BIJ15","v":0},{"$f":"'[1]11 кл'!BIK15","v":0},{"$f":"'[1]11 кл'!BIL15","v":0},{"$f":"'[1]11 кл'!BIM15","v":0},{"$f":"'[1]11 кл'!BIN15","v":0},{"$f":"'[1]11 кл'!BIO15","v":0},{"$f":"'[1]11 кл'!BIP15","v":0},{"$f":"'[1]11 кл'!BIQ15","v":0},{"$f":"'[1]11 кл'!BIR15","v":0},{"$f":"'[1]11 кл'!BIS15","v":0},{"$f":"'[1]11 кл'!BIT15","v":0},{"$f":"'[1]11 кл'!BIU15","v":0},{"$f":"'[1]11 кл'!BIV15","v":0},{"$f":"'[1]11 кл'!BIW15","v":0},{"$f":"'[1]11 кл'!BIX15","v":0},{"$f":"'[1]11 кл'!BIY15","v":0},{"$f":"'[1]11 кл'!BIZ15","v":0},{"$f":"'[1]11 кл'!BJA15","v":0},{"$f":"'[1]11 кл'!BJB15","v":0},{"$f":"'[1]11 кл'!BJC15","v":0},{"$f":"'[1]11 кл'!BJD15","v":0},{"$f":"'[1]11 кл'!BJE15","v":0},{"$f":"'[1]11 кл'!BJF15","v":0},{"$f":"'[1]11 кл'!BJG15","v":0},{"$f":"'[1]11 кл'!BJH15","v":0},{"$f":"'[1]11 кл'!BJI15","v":0},{"$f":"'[1]11 кл'!BJJ15","v":0},{"$f":"'[1]11 кл'!BJK15","v":0},{"$f":"'[1]11 кл'!BJL15","v":0},{"$f":"'[1]11 кл'!BJM15","v":0},{"$f":"'[1]11 кл'!BJN15","v":0},{"$f":"'[1]11 кл'!BJO15","v":0},{"$f":"'[1]11 кл'!BJP15","v":0},{"$f":"'[1]11 кл'!BJQ15","v":0},{"$f":"'[1]11 кл'!BJR15","v":0},{"$f":"'[1]11 кл'!BJS15","v":0},{"$f":"'[1]11 кл'!BJT15","v":0},{"$f":"'[1]11 кл'!BJU15","v":0},{"$f":"'[1]11 кл'!BJV15","v":0},{"$f":"'[1]11 кл'!BJW15","v":0},{"$f":"'[1]11 кл'!BJX15","v":0},{"$f":"'[1]11 кл'!BJY15","v":0},{"$f":"'[1]11 кл'!BJZ15","v":0},{"$f":"'[1]11 кл'!BKA15","v":0},{"$f":"'[1]11 кл'!BKB15","v":0},{"$f":"'[1]11 кл'!BKC15","v":0},{"$f":"'[1]11 кл'!BKD15","v":0},{"$f":"'[1]11 кл'!BKE15","v":0},{"$f":"'[1]11 кл'!BKF15","v":0},{"$f":"'[1]11 кл'!BKG15","v":0},{"$f":"'[1]11 кл'!BKH15","v":0},{"$f":"'[1]11 кл'!BKI15","v":0},{"$f":"'[1]11 кл'!BKJ15","v":0},{"$f":"'[1]11 кл'!BKK15","v":0},{"$f":"'[1]11 кл'!BKL15","v":0},{"$f":"'[1]11 кл'!BKM15","v":0},{"$f":"'[1]11 кл'!BKN15","v":0},{"$f":"'[1]11 кл'!BKO15","v":0},{"$f":"'[1]11 кл'!BKP15","v":0},{"$f":"'[1]11 кл'!BKQ15","v":0},{"$f":"'[1]11 кл'!BKR15","v":0},{"$f":"'[1]11 кл'!BKS15","v":0},{"$f":"'[1]11 кл'!BKT15","v":0},{"$f":"'[1]11 кл'!BKU15","v":0},{"$f":"'[1]11 кл'!BKV15","v":0},{"$f":"'[1]11 кл'!BKW15","v":0},{"$f":"'[1]11 кл'!BKX15","v":0},{"$f":"'[1]11 кл'!BKY15","v":0},{"$f":"'[1]11 кл'!BKZ15","v":0},{"$f":"'[1]11 кл'!BLA15","v":0},{"$f":"'[1]11 кл'!BLB15","v":0},{"$f":"'[1]11 кл'!BLC15","v":0},{"$f":"'[1]11 кл'!BLD15","v":0},{"$f":"'[1]11 кл'!BLE15","v":0},{"$f":"'[1]11 кл'!BLF15","v":0},{"$f":"'[1]11 кл'!BLG15","v":0},{"$f":"'[1]11 кл'!BLH15","v":0},{"$f":"'[1]11 кл'!BLI15","v":0},{"$f":"'[1]11 кл'!BLJ15","v":0},{"$f":"'[1]11 кл'!BLK15","v":0},{"$f":"'[1]11 кл'!BLL15","v":0},{"$f":"'[1]11 кл'!BLM15","v":0},{"$f":"'[1]11 кл'!BLN15","v":0},{"$f":"'[1]11 кл'!BLO15","v":0},{"$f":"'[1]11 кл'!BLP15","v":0},{"$f":"'[1]11 кл'!BLQ15","v":0},{"$f":"'[1]11 кл'!BLR15","v":0},{"$f":"'[1]11 кл'!BLS15","v":0},{"$f":"'[1]11 кл'!BLT15","v":0},{"$f":"'[1]11 кл'!BLU15","v":0},{"$f":"'[1]11 кл'!BLV15","v":0},{"$f":"'[1]11 кл'!BLW15","v":0},{"$f":"'[1]11 кл'!BLX15","v":0},{"$f":"'[1]11 кл'!BLY15","v":0},{"$f":"'[1]11 кл'!BLZ15","v":0},{"$f":"'[1]11 кл'!BMA15","v":0},{"$f":"'[1]11 кл'!BMB15","v":0},{"$f":"'[1]11 кл'!BMC15","v":0},{"$f":"'[1]11 кл'!BMD15","v":0},{"$f":"'[1]11 кл'!BME15","v":0},{"$f":"'[1]11 кл'!BMF15","v":0},{"$f":"'[1]11 кл'!BMG15","v":0},{"$f":"'[1]11 кл'!BMH15","v":0},{"$f":"'[1]11 кл'!BMI15","v":0},{"$f":"'[1]11 кл'!BMJ15","v":0},{"$f":"'[1]11 кл'!BMK15","v":0},{"$f":"'[1]11 кл'!BML15","v":0},{"$f":"'[1]11 кл'!BMM15","v":0},{"$f":"'[1]11 кл'!BMN15","v":0},{"$f":"'[1]11 кл'!BMO15","v":0},{"$f":"'[1]11 кл'!BMP15","v":0},{"$f":"'[1]11 кл'!BMQ15","v":0},{"$f":"'[1]11 кл'!BMR15","v":0},{"$f":"'[1]11 кл'!BMS15","v":0},{"$f":"'[1]11 кл'!BMT15","v":0},{"$f":"'[1]11 кл'!BMU15","v":0},{"$f":"'[1]11 кл'!BMV15","v":0},{"$f":"'[1]11 кл'!BMW15","v":0},{"$f":"'[1]11 кл'!BMX15","v":0},{"$f":"'[1]11 кл'!BMY15","v":0},{"$f":"'[1]11 кл'!BMZ15","v":0},{"$f":"'[1]11 кл'!BNA15","v":0},{"$f":"'[1]11 кл'!BNB15","v":0},{"$f":"'[1]11 кл'!BNC15","v":0},{"$f":"'[1]11 кл'!BND15","v":0},{"$f":"'[1]11 кл'!BNE15","v":0},{"$f":"'[1]11 кл'!BNF15","v":0},{"$f":"'[1]11 кл'!BNG15","v":0},{"$f":"'[1]11 кл'!BNH15","v":0},{"$f":"'[1]11 кл'!BNI15","v":0},{"$f":"'[1]11 кл'!BNJ15","v":0},{"$f":"'[1]11 кл'!BNK15","v":0},{"$f":"'[1]11 кл'!BNL15","v":0},{"$f":"'[1]11 кл'!BNM15","v":0},{"$f":"'[1]11 кл'!BNN15","v":0},{"$f":"'[1]11 кл'!BNO15","v":0},{"$f":"'[1]11 кл'!BNP15","v":0},{"$f":"'[1]11 кл'!BNQ15","v":0},{"$f":"'[1]11 кл'!BNR15","v":0},{"$f":"'[1]11 кл'!BNS15","v":0},{"$f":"'[1]11 кл'!BNT15","v":0},{"$f":"'[1]11 кл'!BNU15","v":0},{"$f":"'[1]11 кл'!BNV15","v":0},{"$f":"'[1]11 кл'!BNW15","v":0},{"$f":"'[1]11 кл'!BNX15","v":0},{"$f":"'[1]11 кл'!BNY15","v":0},{"$f":"'[1]11 кл'!BNZ15","v":0},{"$f":"'[1]11 кл'!BOA15","v":0},{"$f":"'[1]11 кл'!BOB15","v":0},{"$f":"'[1]11 кл'!BOC15","v":0},{"$f":"'[1]11 кл'!BOD15","v":0},{"$f":"'[1]11 кл'!BOE15","v":0},{"$f":"'[1]11 кл'!BOF15","v":0},{"$f":"'[1]11 кл'!BOG15","v":0},{"$f":"'[1]11 кл'!BOH15","v":0},{"$f":"'[1]11 кл'!BOI15","v":0},{"$f":"'[1]11 кл'!BOJ15","v":0},{"$f":"'[1]11 кл'!BOK15","v":0},{"$f":"'[1]11 кл'!BOL15","v":0},{"$f":"'[1]11 кл'!BOM15","v":0},{"$f":"'[1]11 кл'!BON15","v":0},{"$f":"'[1]11 кл'!BOO15","v":0},{"$f":"'[1]11 кл'!BOP15","v":0},{"$f":"'[1]11 кл'!BOQ15","v":0},{"$f":"'[1]11 кл'!BOR15","v":0},{"$f":"'[1]11 кл'!BOS15","v":0},{"$f":"'[1]11 кл'!BOT15","v":0},{"$f":"'[1]11 кл'!BOU15","v":0},{"$f":"'[1]11 кл'!BOV15","v":0},{"$f":"'[1]11 кл'!BOW15","v":0},{"$f":"'[1]11 кл'!BOX15","v":0},{"$f":"'[1]11 кл'!BOY15","v":0},{"$f":"'[1]11 кл'!BOZ15","v":0},{"$f":"'[1]11 кл'!BPA15","v":0},{"$f":"'[1]11 кл'!BPB15","v":0},{"$f":"'[1]11 кл'!BPC15","v":0},{"$f":"'[1]11 кл'!BPD15","v":0},{"$f":"'[1]11 кл'!BPE15","v":0},{"$f":"'[1]11 кл'!BPF15","v":0},{"$f":"'[1]11 кл'!BPG15","v":0},{"$f":"'[1]11 кл'!BPH15","v":0},{"$f":"'[1]11 кл'!BPI15","v":0},{"$f":"'[1]11 кл'!BPJ15","v":0},{"$f":"'[1]11 кл'!BPK15","v":0},{"$f":"'[1]11 кл'!BPL15","v":0},{"$f":"'[1]11 кл'!BPM15","v":0},{"$f":"'[1]11 кл'!BPN15","v":0},{"$f":"'[1]11 кл'!BPO15","v":0},{"$f":"'[1]11 кл'!BPP15","v":0},{"$f":"'[1]11 кл'!BPQ15","v":0},{"$f":"'[1]11 кл'!BPR15","v":0},{"$f":"'[1]11 кл'!BPS15","v":0},{"$f":"'[1]11 кл'!BPT15","v":0},{"$f":"'[1]11 кл'!BPU15","v":0},{"$f":"'[1]11 кл'!BPV15","v":0},{"$f":"'[1]11 кл'!BPW15","v":0},{"$f":"'[1]11 кл'!BPX15","v":0},{"$f":"'[1]11 кл'!BPY15","v":0},{"$f":"'[1]11 кл'!BPZ15","v":0},{"$f":"'[1]11 кл'!BQA15","v":0},{"$f":"'[1]11 кл'!BQB15","v":0},{"$f":"'[1]11 кл'!BQC15","v":0},{"$f":"'[1]11 кл'!BQD15","v":0},{"$f":"'[1]11 кл'!BQE15","v":0},{"$f":"'[1]11 кл'!BQF15","v":0},{"$f":"'[1]11 кл'!BQG15","v":0},{"$f":"'[1]11 кл'!BQH15","v":0},{"$f":"'[1]11 кл'!BQI15","v":0},{"$f":"'[1]11 кл'!BQJ15","v":0},{"$f":"'[1]11 кл'!BQK15","v":0},{"$f":"'[1]11 кл'!BQL15","v":0},{"$f":"'[1]11 кл'!BQM15","v":0},{"$f":"'[1]11 кл'!BQN15","v":0},{"$f":"'[1]11 кл'!BQO15","v":0},{"$f":"'[1]11 кл'!BQP15","v":0},{"$f":"'[1]11 кл'!BQQ15","v":0},{"$f":"'[1]11 кл'!BQR15","v":0},{"$f":"'[1]11 кл'!BQS15","v":0},{"$f":"'[1]11 кл'!BQT15","v":0},{"$f":"'[1]11 кл'!BQU15","v":0},{"$f":"'[1]11 кл'!BQV15","v":0},{"$f":"'[1]11 кл'!BQW15","v":0},{"$f":"'[1]11 кл'!BQX15","v":0},{"$f":"'[1]11 кл'!BQY15","v":0},{"$f":"'[1]11 кл'!BQZ15","v":0},{"$f":"'[1]11 кл'!BRA15","v":0},{"$f":"'[1]11 кл'!BRB15","v":0},{"$f":"'[1]11 кл'!BRC15","v":0},{"$f":"'[1]11 кл'!BRD15","v":0},{"$f":"'[1]11 кл'!BRE15","v":0},{"$f":"'[1]11 кл'!BRF15","v":0},{"$f":"'[1]11 кл'!BRG15","v":0},{"$f":"'[1]11 кл'!BRH15","v":0},{"$f":"'[1]11 кл'!BRI15","v":0},{"$f":"'[1]11 кл'!BRJ15","v":0},{"$f":"'[1]11 кл'!BRK15","v":0},{"$f":"'[1]11 кл'!BRL15","v":0},{"$f":"'[1]11 кл'!BRM15","v":0},{"$f":"'[1]11 кл'!BRN15","v":0},{"$f":"'[1]11 кл'!BRO15","v":0},{"$f":"'[1]11 кл'!BRP15","v":0},{"$f":"'[1]11 кл'!BRQ15","v":0},{"$f":"'[1]11 кл'!BRR15","v":0},{"$f":"'[1]11 кл'!BRS15","v":0},{"$f":"'[1]11 кл'!BRT15","v":0},{"$f":"'[1]11 кл'!BRU15","v":0},{"$f":"'[1]11 кл'!BRV15","v":0},{"$f":"'[1]11 кл'!BRW15","v":0},{"$f":"'[1]11 кл'!BRX15","v":0},{"$f":"'[1]11 кл'!BRY15","v":0},{"$f":"'[1]11 кл'!BRZ15","v":0},{"$f":"'[1]11 кл'!BSA15","v":0},{"$f":"'[1]11 кл'!BSB15","v":0},{"$f":"'[1]11 кл'!BSC15","v":0},{"$f":"'[1]11 кл'!BSD15","v":0},{"$f":"'[1]11 кл'!BSE15","v":0},{"$f":"'[1]11 кл'!BSF15","v":0},{"$f":"'[1]11 кл'!BSG15","v":0},{"$f":"'[1]11 кл'!BSH15","v":0},{"$f":"'[1]11 кл'!BSI15","v":0},{"$f":"'[1]11 кл'!BSJ15","v":0},{"$f":"'[1]11 кл'!BSK15","v":0},{"$f":"'[1]11 кл'!BSL15","v":0},{"$f":"'[1]11 кл'!BSM15","v":0},{"$f":"'[1]11 кл'!BSN15","v":0},{"$f":"'[1]11 кл'!BSO15","v":0},{"$f":"'[1]11 кл'!BSP15","v":0},{"$f":"'[1]11 кл'!BSQ15","v":0},{"$f":"'[1]11 кл'!BSR15","v":0},{"$f":"'[1]11 кл'!BSS15","v":0},{"$f":"'[1]11 кл'!BST15","v":0},{"$f":"'[1]11 кл'!BSU15","v":0},{"$f":"'[1]11 кл'!BSV15","v":0},{"$f":"'[1]11 кл'!BSW15","v":0},{"$f":"'[1]11 кл'!BSX15","v":0},{"$f":"'[1]11 кл'!BSY15","v":0},{"$f":"'[1]11 кл'!BSZ15","v":0},{"$f":"'[1]11 кл'!BTA15","v":0},{"$f":"'[1]11 кл'!BTB15","v":0},{"$f":"'[1]11 кл'!BTC15","v":0},{"$f":"'[1]11 кл'!BTD15","v":0},{"$f":"'[1]11 кл'!BTE15","v":0},{"$f":"'[1]11 кл'!BTF15","v":0},{"$f":"'[1]11 кл'!BTG15","v":0},{"$f":"'[1]11 кл'!BTH15","v":0},{"$f":"'[1]11 кл'!BTI15","v":0},{"$f":"'[1]11 кл'!BTJ15","v":0},{"$f":"'[1]11 кл'!BTK15","v":0},{"$f":"'[1]11 кл'!BTL15","v":0},{"$f":"'[1]11 кл'!BTM15","v":0},{"$f":"'[1]11 кл'!BTN15","v":0},{"$f":"'[1]11 кл'!BTO15","v":0},{"$f":"'[1]11 кл'!BTP15","v":0},{"$f":"'[1]11 кл'!BTQ15","v":0},{"$f":"'[1]11 кл'!BTR15","v":0},{"$f":"'[1]11 кл'!BTS15","v":0},{"$f":"'[1]11 кл'!BTT15","v":0},{"$f":"'[1]11 кл'!BTU15","v":0},{"$f":"'[1]11 кл'!BTV15","v":0},{"$f":"'[1]11 кл'!BTW15","v":0},{"$f":"'[1]11 кл'!BTX15","v":0},{"$f":"'[1]11 кл'!BTY15","v":0},{"$f":"'[1]11 кл'!BTZ15","v":0},{"$f":"'[1]11 кл'!BUA15","v":0},{"$f":"'[1]11 кл'!BUB15","v":0},{"$f":"'[1]11 кл'!BUC15","v":0},{"$f":"'[1]11 кл'!BUD15","v":0},{"$f":"'[1]11 кл'!BUE15","v":0},{"$f":"'[1]11 кл'!BUF15","v":0},{"$f":"'[1]11 кл'!BUG15","v":0},{"$f":"'[1]11 кл'!BUH15","v":0},{"$f":"'[1]11 кл'!BUI15","v":0},{"$f":"'[1]11 кл'!BUJ15","v":0},{"$f":"'[1]11 кл'!BUK15","v":0},{"$f":"'[1]11 кл'!BUL15","v":0},{"$f":"'[1]11 кл'!BUM15","v":0},{"$f":"'[1]11 кл'!BUN15","v":0},{"$f":"'[1]11 кл'!BUO15","v":0},{"$f":"'[1]11 кл'!BUP15","v":0},{"$f":"'[1]11 кл'!BUQ15","v":0},{"$f":"'[1]11 кл'!BUR15","v":0},{"$f":"'[1]11 кл'!BUS15","v":0},{"$f":"'[1]11 кл'!BUT15","v":0},{"$f":"'[1]11 кл'!BUU15","v":0},{"$f":"'[1]11 кл'!BUV15","v":0},{"$f":"'[1]11 кл'!BUW15","v":0},{"$f":"'[1]11 кл'!BUX15","v":0},{"$f":"'[1]11 кл'!BUY15","v":0},{"$f":"'[1]11 кл'!BUZ15","v":0},{"$f":"'[1]11 кл'!BVA15","v":0},{"$f":"'[1]11 кл'!BVB15","v":0},{"$f":"'[1]11 кл'!BVC15","v":0},{"$f":"'[1]11 кл'!BVD15","v":0},{"$f":"'[1]11 кл'!BVE15","v":0},{"$f":"'[1]11 кл'!BVF15","v":0},{"$f":"'[1]11 кл'!BVG15","v":0},{"$f":"'[1]11 кл'!BVH15","v":0},{"$f":"'[1]11 кл'!BVI15","v":0},{"$f":"'[1]11 кл'!BVJ15","v":0},{"$f":"'[1]11 кл'!BVK15","v":0},{"$f":"'[1]11 кл'!BVL15","v":0},{"$f":"'[1]11 кл'!BVM15","v":0},{"$f":"'[1]11 кл'!BVN15","v":0},{"$f":"'[1]11 кл'!BVO15","v":0},{"$f":"'[1]11 кл'!BVP15","v":0},{"$f":"'[1]11 кл'!BVQ15","v":0},{"$f":"'[1]11 кл'!BVR15","v":0},{"$f":"'[1]11 кл'!BVS15","v":0},{"$f":"'[1]11 кл'!BVT15","v":0},{"$f":"'[1]11 кл'!BVU15","v":0},{"$f":"'[1]11 кл'!BVV15","v":0},{"$f":"'[1]11 кл'!BVW15","v":0},{"$f":"'[1]11 кл'!BVX15","v":0},{"$f":"'[1]11 кл'!BVY15","v":0},{"$f":"'[1]11 кл'!BVZ15","v":0},{"$f":"'[1]11 кл'!BWA15","v":0},{"$f":"'[1]11 кл'!BWB15","v":0},{"$f":"'[1]11 кл'!BWC15","v":0},{"$f":"'[1]11 кл'!BWD15","v":0},{"$f":"'[1]11 кл'!BWE15","v":0},{"$f":"'[1]11 кл'!BWF15","v":0},{"$f":"'[1]11 кл'!BWG15","v":0},{"$f":"'[1]11 кл'!BWH15","v":0},{"$f":"'[1]11 кл'!BWI15","v":0},{"$f":"'[1]11 кл'!BWJ15","v":0},{"$f":"'[1]11 кл'!BWK15","v":0},{"$f":"'[1]11 кл'!BWL15","v":0},{"$f":"'[1]11 кл'!BWM15","v":0},{"$f":"'[1]11 кл'!BWN15","v":0},{"$f":"'[1]11 кл'!BWO15","v":0},{"$f":"'[1]11 кл'!BWP15","v":0},{"$f":"'[1]11 кл'!BWQ15","v":0},{"$f":"'[1]11 кл'!BWR15","v":0},{"$f":"'[1]11 кл'!BWS15","v":0},{"$f":"'[1]11 кл'!BWT15","v":0},{"$f":"'[1]11 кл'!BWU15","v":0},{"$f":"'[1]11 кл'!BWV15","v":0},{"$f":"'[1]11 кл'!BWW15","v":0},{"$f":"'[1]11 кл'!BWX15","v":0},{"$f":"'[1]11 кл'!BWY15","v":0},{"$f":"'[1]11 кл'!BWZ15","v":0},{"$f":"'[1]11 кл'!BXA15","v":0},{"$f":"'[1]11 кл'!BXB15","v":0},{"$f":"'[1]11 кл'!BXC15","v":0},{"$f":"'[1]11 кл'!BXD15","v":0},{"$f":"'[1]11 кл'!BXE15","v":0},{"$f":"'[1]11 кл'!BXF15","v":0},{"$f":"'[1]11 кл'!BXG15","v":0},{"$f":"'[1]11 кл'!BXH15","v":0},{"$f":"'[1]11 кл'!BXI15","v":0},{"$f":"'[1]11 кл'!BXJ15","v":0},{"$f":"'[1]11 кл'!BXK15","v":0},{"$f":"'[1]11 кл'!BXL15","v":0},{"$f":"'[1]11 кл'!BXM15","v":0},{"$f":"'[1]11 кл'!BXN15","v":0},{"$f":"'[1]11 кл'!BXO15","v":0},{"$f":"'[1]11 кл'!BXP15","v":0},{"$f":"'[1]11 кл'!BXQ15","v":0},{"$f":"'[1]11 кл'!BXR15","v":0},{"$f":"'[1]11 кл'!BXS15","v":0},{"$f":"'[1]11 кл'!BXT15","v":0},{"$f":"'[1]11 кл'!BXU15","v":0},{"$f":"'[1]11 кл'!BXV15","v":0},{"$f":"'[1]11 кл'!BXW15","v":0},{"$f":"'[1]11 кл'!BXX15","v":0},{"$f":"'[1]11 кл'!BXY15","v":0},{"$f":"'[1]11 кл'!BXZ15","v":0},{"$f":"'[1]11 кл'!BYA15","v":0},{"$f":"'[1]11 кл'!BYB15","v":0},{"$f":"'[1]11 кл'!BYC15","v":0},{"$f":"'[1]11 кл'!BYD15","v":0},{"$f":"'[1]11 кл'!BYE15","v":0},{"$f":"'[1]11 кл'!BYF15","v":0},{"$f":"'[1]11 кл'!BYG15","v":0},{"$f":"'[1]11 кл'!BYH15","v":0},{"$f":"'[1]11 кл'!BYI15","v":0},{"$f":"'[1]11 кл'!BYJ15","v":0},{"$f":"'[1]11 кл'!BYK15","v":0},{"$f":"'[1]11 кл'!BYL15","v":0},{"$f":"'[1]11 кл'!BYM15","v":0},{"$f":"'[1]11 кл'!BYN15","v":0},{"$f":"'[1]11 кл'!BYO15","v":0},{"$f":"'[1]11 кл'!BYP15","v":0},{"$f":"'[1]11 кл'!BYQ15","v":0},{"$f":"'[1]11 кл'!BYR15","v":0},{"$f":"'[1]11 кл'!BYS15","v":0},{"$f":"'[1]11 кл'!BYT15","v":0},{"$f":"'[1]11 кл'!BYU15","v":0},{"$f":"'[1]11 кл'!BYV15","v":0},{"$f":"'[1]11 кл'!BYW15","v":0},{"$f":"'[1]11 кл'!BYX15","v":0},{"$f":"'[1]11 кл'!BYY15","v":0},{"$f":"'[1]11 кл'!BYZ15","v":0},{"$f":"'[1]11 кл'!BZA15","v":0},{"$f":"'[1]11 кл'!BZB15","v":0},{"$f":"'[1]11 кл'!BZC15","v":0},{"$f":"'[1]11 кл'!BZD15","v":0},{"$f":"'[1]11 кл'!BZE15","v":0},{"$f":"'[1]11 кл'!BZF15","v":0},{"$f":"'[1]11 кл'!BZG15","v":0},{"$f":"'[1]11 кл'!BZH15","v":0},{"$f":"'[1]11 кл'!BZI15","v":0},{"$f":"'[1]11 кл'!BZJ15","v":0},{"$f":"'[1]11 кл'!BZK15","v":0},{"$f":"'[1]11 кл'!BZL15","v":0},{"$f":"'[1]11 кл'!BZM15","v":0},{"$f":"'[1]11 кл'!BZN15","v":0},{"$f":"'[1]11 кл'!BZO15","v":0},{"$f":"'[1]11 кл'!BZP15","v":0},{"$f":"'[1]11 кл'!BZQ15","v":0},{"$f":"'[1]11 кл'!BZR15","v":0},{"$f":"'[1]11 кл'!BZS15","v":0},{"$f":"'[1]11 кл'!BZT15","v":0},{"$f":"'[1]11 кл'!BZU15","v":0},{"$f":"'[1]11 кл'!BZV15","v":0},{"$f":"'[1]11 кл'!BZW15","v":0},{"$f":"'[1]11 кл'!BZX15","v":0},{"$f":"'[1]11 кл'!BZY15","v":0},{"$f":"'[1]11 кл'!BZZ15","v":0},{"$f":"'[1]11 кл'!CAA15","v":0},{"$f":"'[1]11 кл'!CAB15","v":0},{"$f":"'[1]11 кл'!CAC15","v":0},{"$f":"'[1]11 кл'!CAD15","v":0},{"$f":"'[1]11 кл'!CAE15","v":0},{"$f":"'[1]11 кл'!CAF15","v":0},{"$f":"'[1]11 кл'!CAG15","v":0},{"$f":"'[1]11 кл'!CAH15","v":0},{"$f":"'[1]11 кл'!CAI15","v":0},{"$f":"'[1]11 кл'!CAJ15","v":0},{"$f":"'[1]11 кл'!CAK15","v":0},{"$f":"'[1]11 кл'!CAL15","v":0},{"$f":"'[1]11 кл'!CAM15","v":0},{"$f":"'[1]11 кл'!CAN15","v":0},{"$f":"'[1]11 кл'!CAO15","v":0},{"$f":"'[1]11 кл'!CAP15","v":0},{"$f":"'[1]11 кл'!CAQ15","v":0},{"$f":"'[1]11 кл'!CAR15","v":0},{"$f":"'[1]11 кл'!CAS15","v":0},{"$f":"'[1]11 кл'!CAT15","v":0},{"$f":"'[1]11 кл'!CAU15","v":0},{"$f":"'[1]11 кл'!CAV15","v":0},{"$f":"'[1]11 кл'!CAW15","v":0},{"$f":"'[1]11 кл'!CAX15","v":0},{"$f":"'[1]11 кл'!CAY15","v":0},{"$f":"'[1]11 кл'!CAZ15","v":0},{"$f":"'[1]11 кл'!CBA15","v":0},{"$f":"'[1]11 кл'!CBB15","v":0},{"$f":"'[1]11 кл'!CBC15","v":0},{"$f":"'[1]11 кл'!CBD15","v":0},{"$f":"'[1]11 кл'!CBE15","v":0},{"$f":"'[1]11 кл'!CBF15","v":0},{"$f":"'[1]11 кл'!CBG15","v":0},{"$f":"'[1]11 кл'!CBH15","v":0},{"$f":"'[1]11 кл'!CBI15","v":0},{"$f":"'[1]11 кл'!CBJ15","v":0},{"$f":"'[1]11 кл'!CBK15","v":0},{"$f":"'[1]11 кл'!CBL15","v":0},{"$f":"'[1]11 кл'!CBM15","v":0},{"$f":"'[1]11 кл'!CBN15","v":0},{"$f":"'[1]11 кл'!CBO15","v":0},{"$f":"'[1]11 кл'!CBP15","v":0},{"$f":"'[1]11 кл'!CBQ15","v":0},{"$f":"'[1]11 кл'!CBR15","v":0},{"$f":"'[1]11 кл'!CBS15","v":0},{"$f":"'[1]11 кл'!CBT15","v":0},{"$f":"'[1]11 кл'!CBU15","v":0},{"$f":"'[1]11 кл'!CBV15","v":0},{"$f":"'[1]11 кл'!CBW15","v":0},{"$f":"'[1]11 кл'!CBX15","v":0},{"$f":"'[1]11 кл'!CBY15","v":0},{"$f":"'[1]11 кл'!CBZ15","v":0},{"$f":"'[1]11 кл'!CCA15","v":0},{"$f":"'[1]11 кл'!CCB15","v":0},{"$f":"'[1]11 кл'!CCC15","v":0},{"$f":"'[1]11 кл'!CCD15","v":0},{"$f":"'[1]11 кл'!CCE15","v":0},{"$f":"'[1]11 кл'!CCF15","v":0},{"$f":"'[1]11 кл'!CCG15","v":0},{"$f":"'[1]11 кл'!CCH15","v":0},{"$f":"'[1]11 кл'!CCI15","v":0},{"$f":"'[1]11 кл'!CCJ15","v":0},{"$f":"'[1]11 кл'!CCK15","v":0},{"$f":"'[1]11 кл'!CCL15","v":0},{"$f":"'[1]11 кл'!CCM15","v":0},{"$f":"'[1]11 кл'!CCN15","v":0},{"$f":"'[1]11 кл'!CCO15","v":0},{"$f":"'[1]11 кл'!CCP15","v":0},{"$f":"'[1]11 кл'!CCQ15","v":0},{"$f":"'[1]11 кл'!CCR15","v":0},{"$f":"'[1]11 кл'!CCS15","v":0},{"$f":"'[1]11 кл'!CCT15","v":0},{"$f":"'[1]11 кл'!CCU15","v":0},{"$f":"'[1]11 кл'!CCV15","v":0},{"$f":"'[1]11 кл'!CCW15","v":0},{"$f":"'[1]11 кл'!CCX15","v":0},{"$f":"'[1]11 кл'!CCY15","v":0},{"$f":"'[1]11 кл'!CCZ15","v":0},{"$f":"'[1]11 кл'!CDA15","v":0},{"$f":"'[1]11 кл'!CDB15","v":0},{"$f":"'[1]11 кл'!CDC15","v":0},{"$f":"'[1]11 кл'!CDD15","v":0},{"$f":"'[1]11 кл'!CDE15","v":0},{"$f":"'[1]11 кл'!CDF15","v":0},{"$f":"'[1]11 кл'!CDG15","v":0},{"$f":"'[1]11 кл'!CDH15","v":0},{"$f":"'[1]11 кл'!CDI15","v":0},{"$f":"'[1]11 кл'!CDJ15","v":0},{"$f":"'[1]11 кл'!CDK15","v":0},{"$f":"'[1]11 кл'!CDL15","v":0},{"$f":"'[1]11 кл'!CDM15","v":0},{"$f":"'[1]11 кл'!CDN15","v":0},{"$f":"'[1]11 кл'!CDO15","v":0},{"$f":"'[1]11 кл'!CDP15","v":0},{"$f":"'[1]11 кл'!CDQ15","v":0},{"$f":"'[1]11 кл'!CDR15","v":0},{"$f":"'[1]11 кл'!CDS15","v":0},{"$f":"'[1]11 кл'!CDT15","v":0},{"$f":"'[1]11 кл'!CDU15","v":0},{"$f":"'[1]11 кл'!CDV15","v":0},{"$f":"'[1]11 кл'!CDW15","v":0},{"$f":"'[1]11 кл'!CDX15","v":0},{"$f":"'[1]11 кл'!CDY15","v":0},{"$f":"'[1]11 кл'!CDZ15","v":0},{"$f":"'[1]11 кл'!CEA15","v":0},{"$f":"'[1]11 кл'!CEB15","v":0},{"$f":"'[1]11 кл'!CEC15","v":0},{"$f":"'[1]11 кл'!CED15","v":0},{"$f":"'[1]11 кл'!CEE15","v":0},{"$f":"'[1]11 кл'!CEF15","v":0},{"$f":"'[1]11 кл'!CEG15","v":0},{"$f":"'[1]11 кл'!CEH15","v":0},{"$f":"'[1]11 кл'!CEI15","v":0},{"$f":"'[1]11 кл'!CEJ15","v":0},{"$f":"'[1]11 кл'!CEK15","v":0},{"$f":"'[1]11 кл'!CEL15","v":0},{"$f":"'[1]11 кл'!CEM15","v":0},{"$f":"'[1]11 кл'!CEN15","v":0},{"$f":"'[1]11 кл'!CEO15","v":0},{"$f":"'[1]11 кл'!CEP15","v":0},{"$f":"'[1]11 кл'!CEQ15","v":0},{"$f":"'[1]11 кл'!CER15","v":0},{"$f":"'[1]11 кл'!CES15","v":0},{"$f":"'[1]11 кл'!CET15","v":0},{"$f":"'[1]11 кл'!CEU15","v":0},{"$f":"'[1]11 кл'!CEV15","v":0},{"$f":"'[1]11 кл'!CEW15","v":0},{"$f":"'[1]11 кл'!CEX15","v":0},{"$f":"'[1]11 кл'!CEY15","v":0},{"$f":"'[1]11 кл'!CEZ15","v":0},{"$f":"'[1]11 кл'!CFA15","v":0},{"$f":"'[1]11 кл'!CFB15","v":0},{"$f":"'[1]11 кл'!CFC15","v":0},{"$f":"'[1]11 кл'!CFD15","v":0},{"$f":"'[1]11 кл'!CFE15","v":0},{"$f":"'[1]11 кл'!CFF15","v":0},{"$f":"'[1]11 кл'!CFG15","v":0},{"$f":"'[1]11 кл'!CFH15","v":0},{"$f":"'[1]11 кл'!CFI15","v":0},{"$f":"'[1]11 кл'!CFJ15","v":0},{"$f":"'[1]11 кл'!CFK15","v":0},{"$f":"'[1]11 кл'!CFL15","v":0},{"$f":"'[1]11 кл'!CFM15","v":0},{"$f":"'[1]11 кл'!CFN15","v":0},{"$f":"'[1]11 кл'!CFO15","v":0},{"$f":"'[1]11 кл'!CFP15","v":0},{"$f":"'[1]11 кл'!CFQ15","v":0},{"$f":"'[1]11 кл'!CFR15","v":0},{"$f":"'[1]11 кл'!CFS15","v":0},{"$f":"'[1]11 кл'!CFT15","v":0},{"$f":"'[1]11 кл'!CFU15","v":0},{"$f":"'[1]11 кл'!CFV15","v":0},{"$f":"'[1]11 кл'!CFW15","v":0},{"$f":"'[1]11 кл'!CFX15","v":0},{"$f":"'[1]11 кл'!CFY15","v":0},{"$f":"'[1]11 кл'!CFZ15","v":0},{"$f":"'[1]11 кл'!CGA15","v":0},{"$f":"'[1]11 кл'!CGB15","v":0},{"$f":"'[1]11 кл'!CGC15","v":0},{"$f":"'[1]11 кл'!CGD15","v":0},{"$f":"'[1]11 кл'!CGE15","v":0},{"$f":"'[1]11 кл'!CGF15","v":0},{"$f":"'[1]11 кл'!CGG15","v":0},{"$f":"'[1]11 кл'!CGH15","v":0},{"$f":"'[1]11 кл'!CGI15","v":0},{"$f":"'[1]11 кл'!CGJ15","v":0},{"$f":"'[1]11 кл'!CGK15","v":0},{"$f":"'[1]11 кл'!CGL15","v":0},{"$f":"'[1]11 кл'!CGM15","v":0},{"$f":"'[1]11 кл'!CGN15","v":0},{"$f":"'[1]11 кл'!CGO15","v":0},{"$f":"'[1]11 кл'!CGP15","v":0},{"$f":"'[1]11 кл'!CGQ15","v":0},{"$f":"'[1]11 кл'!CGR15","v":0},{"$f":"'[1]11 кл'!CGS15","v":0},{"$f":"'[1]11 кл'!CGT15","v":0},{"$f":"'[1]11 кл'!CGU15","v":0},{"$f":"'[1]11 кл'!CGV15","v":0},{"$f":"'[1]11 кл'!CGW15","v":0},{"$f":"'[1]11 кл'!CGX15","v":0},{"$f":"'[1]11 кл'!CGY15","v":0},{"$f":"'[1]11 кл'!CGZ15","v":0},{"$f":"'[1]11 кл'!CHA15","v":0},{"$f":"'[1]11 кл'!CHB15","v":0},{"$f":"'[1]11 кл'!CHC15","v":0},{"$f":"'[1]11 кл'!CHD15","v":0},{"$f":"'[1]11 кл'!CHE15","v":0},{"$f":"'[1]11 кл'!CHF15","v":0},{"$f":"'[1]11 кл'!CHG15","v":0},{"$f":"'[1]11 кл'!CHH15","v":0},{"$f":"'[1]11 кл'!CHI15","v":0},{"$f":"'[1]11 кл'!CHJ15","v":0},{"$f":"'[1]11 кл'!CHK15","v":0},{"$f":"'[1]11 кл'!CHL15","v":0},{"$f":"'[1]11 кл'!CHM15","v":0},{"$f":"'[1]11 кл'!CHN15","v":0},{"$f":"'[1]11 кл'!CHO15","v":0},{"$f":"'[1]11 кл'!CHP15","v":0},{"$f":"'[1]11 кл'!CHQ15","v":0},{"$f":"'[1]11 кл'!CHR15","v":0},{"$f":"'[1]11 кл'!CHS15","v":0},{"$f":"'[1]11 кл'!CHT15","v":0},{"$f":"'[1]11 кл'!CHU15","v":0},{"$f":"'[1]11 кл'!CHV15","v":0},{"$f":"'[1]11 кл'!CHW15","v":0},{"$f":"'[1]11 кл'!CHX15","v":0},{"$f":"'[1]11 кл'!CHY15","v":0},{"$f":"'[1]11 кл'!CHZ15","v":0},{"$f":"'[1]11 кл'!CIA15","v":0},{"$f":"'[1]11 кл'!CIB15","v":0},{"$f":"'[1]11 кл'!CIC15","v":0},{"$f":"'[1]11 кл'!CID15","v":0},{"$f":"'[1]11 кл'!CIE15","v":0},{"$f":"'[1]11 кл'!CIF15","v":0},{"$f":"'[1]11 кл'!CIG15","v":0},{"$f":"'[1]11 кл'!CIH15","v":0},{"$f":"'[1]11 кл'!CII15","v":0},{"$f":"'[1]11 кл'!CIJ15","v":0},{"$f":"'[1]11 кл'!CIK15","v":0},{"$f":"'[1]11 кл'!CIL15","v":0},{"$f":"'[1]11 кл'!CIM15","v":0},{"$f":"'[1]11 кл'!CIN15","v":0},{"$f":"'[1]11 кл'!CIO15","v":0},{"$f":"'[1]11 кл'!CIP15","v":0},{"$f":"'[1]11 кл'!CIQ15","v":0},{"$f":"'[1]11 кл'!CIR15","v":0},{"$f":"'[1]11 кл'!CIS15","v":0},{"$f":"'[1]11 кл'!CIT15","v":0},{"$f":"'[1]11 кл'!CIU15","v":0},{"$f":"'[1]11 кл'!CIV15","v":0},{"$f":"'[1]11 кл'!CIW15","v":0},{"$f":"'[1]11 кл'!CIX15","v":0},{"$f":"'[1]11 кл'!CIY15","v":0},{"$f":"'[1]11 кл'!CIZ15","v":0},{"$f":"'[1]11 кл'!CJA15","v":0},{"$f":"'[1]11 кл'!CJB15","v":0},{"$f":"'[1]11 кл'!CJC15","v":0},{"$f":"'[1]11 кл'!CJD15","v":0},{"$f":"'[1]11 кл'!CJE15","v":0},{"$f":"'[1]11 кл'!CJF15","v":0},{"$f":"'[1]11 кл'!CJG15","v":0},{"$f":"'[1]11 кл'!CJH15","v":0},{"$f":"'[1]11 кл'!CJI15","v":0},{"$f":"'[1]11 кл'!CJJ15","v":0},{"$f":"'[1]11 кл'!CJK15","v":0},{"$f":"'[1]11 кл'!CJL15","v":0},{"$f":"'[1]11 кл'!CJM15","v":0},{"$f":"'[1]11 кл'!CJN15","v":0},{"$f":"'[1]11 кл'!CJO15","v":0},{"$f":"'[1]11 кл'!CJP15","v":0},{"$f":"'[1]11 кл'!CJQ15","v":0},{"$f":"'[1]11 кл'!CJR15","v":0},{"$f":"'[1]11 кл'!CJS15","v":0},{"$f":"'[1]11 кл'!CJT15","v":0},{"$f":"'[1]11 кл'!CJU15","v":0},{"$f":"'[1]11 кл'!CJV15","v":0},{"$f":"'[1]11 кл'!CJW15","v":0},{"$f":"'[1]11 кл'!CJX15","v":0},{"$f":"'[1]11 кл'!CJY15","v":0},{"$f":"'[1]11 кл'!CJZ15","v":0},{"$f":"'[1]11 кл'!CKA15","v":0},{"$f":"'[1]11 кл'!CKB15","v":0},{"$f":"'[1]11 кл'!CKC15","v":0},{"$f":"'[1]11 кл'!CKD15","v":0},{"$f":"'[1]11 кл'!CKE15","v":0},{"$f":"'[1]11 кл'!CKF15","v":0},{"$f":"'[1]11 кл'!CKG15","v":0},{"$f":"'[1]11 кл'!CKH15","v":0},{"$f":"'[1]11 кл'!CKI15","v":0},{"$f":"'[1]11 кл'!CKJ15","v":0},{"$f":"'[1]11 кл'!CKK15","v":0},{"$f":"'[1]11 кл'!CKL15","v":0},{"$f":"'[1]11 кл'!CKM15","v":0},{"$f":"'[1]11 кл'!CKN15","v":0},{"$f":"'[1]11 кл'!CKO15","v":0},{"$f":"'[1]11 кл'!CKP15","v":0},{"$f":"'[1]11 кл'!CKQ15","v":0},{"$f":"'[1]11 кл'!CKR15","v":0},{"$f":"'[1]11 кл'!CKS15","v":0},{"$f":"'[1]11 кл'!CKT15","v":0},{"$f":"'[1]11 кл'!CKU15","v":0},{"$f":"'[1]11 кл'!CKV15","v":0},{"$f":"'[1]11 кл'!CKW15","v":0},{"$f":"'[1]11 кл'!CKX15","v":0},{"$f":"'[1]11 кл'!CKY15","v":0},{"$f":"'[1]11 кл'!CKZ15","v":0},{"$f":"'[1]11 кл'!CLA15","v":0},{"$f":"'[1]11 кл'!CLB15","v":0},{"$f":"'[1]11 кл'!CLC15","v":0},{"$f":"'[1]11 кл'!CLD15","v":0},{"$f":"'[1]11 кл'!CLE15","v":0},{"$f":"'[1]11 кл'!CLF15","v":0},{"$f":"'[1]11 кл'!CLG15","v":0},{"$f":"'[1]11 кл'!CLH15","v":0},{"$f":"'[1]11 кл'!CLI15","v":0},{"$f":"'[1]11 кл'!CLJ15","v":0},{"$f":"'[1]11 кл'!CLK15","v":0},{"$f":"'[1]11 кл'!CLL15","v":0},{"$f":"'[1]11 кл'!CLM15","v":0},{"$f":"'[1]11 кл'!CLN15","v":0},{"$f":"'[1]11 кл'!CLO15","v":0},{"$f":"'[1]11 кл'!CLP15","v":0},{"$f":"'[1]11 кл'!CLQ15","v":0},{"$f":"'[1]11 кл'!CLR15","v":0},{"$f":"'[1]11 кл'!CLS15","v":0},{"$f":"'[1]11 кл'!CLT15","v":0},{"$f":"'[1]11 кл'!CLU15","v":0},{"$f":"'[1]11 кл'!CLV15","v":0},{"$f":"'[1]11 кл'!CLW15","v":0},{"$f":"'[1]11 кл'!CLX15","v":0},{"$f":"'[1]11 кл'!CLY15","v":0},{"$f":"'[1]11 кл'!CLZ15","v":0},{"$f":"'[1]11 кл'!CMA15","v":0},{"$f":"'[1]11 кл'!CMB15","v":0},{"$f":"'[1]11 кл'!CMC15","v":0},{"$f":"'[1]11 кл'!CMD15","v":0},{"$f":"'[1]11 кл'!CME15","v":0},{"$f":"'[1]11 кл'!CMF15","v":0},{"$f":"'[1]11 кл'!CMG15","v":0},{"$f":"'[1]11 кл'!CMH15","v":0},{"$f":"'[1]11 кл'!CMI15","v":0},{"$f":"'[1]11 кл'!CMJ15","v":0},{"$f":"'[1]11 кл'!CMK15","v":0},{"$f":"'[1]11 кл'!CML15","v":0},{"$f":"'[1]11 кл'!CMM15","v":0},{"$f":"'[1]11 кл'!CMN15","v":0},{"$f":"'[1]11 кл'!CMO15","v":0},{"$f":"'[1]11 кл'!CMP15","v":0},{"$f":"'[1]11 кл'!CMQ15","v":0},{"$f":"'[1]11 кл'!CMR15","v":0},{"$f":"'[1]11 кл'!CMS15","v":0},{"$f":"'[1]11 кл'!CMT15","v":0},{"$f":"'[1]11 кл'!CMU15","v":0},{"$f":"'[1]11 кл'!CMV15","v":0},{"$f":"'[1]11 кл'!CMW15","v":0},{"$f":"'[1]11 кл'!CMX15","v":0},{"$f":"'[1]11 кл'!CMY15","v":0},{"$f":"'[1]11 кл'!CMZ15","v":0},{"$f":"'[1]11 кл'!CNA15","v":0},{"$f":"'[1]11 кл'!CNB15","v":0},{"$f":"'[1]11 кл'!CNC15","v":0},{"$f":"'[1]11 кл'!CND15","v":0},{"$f":"'[1]11 кл'!CNE15","v":0},{"$f":"'[1]11 кл'!CNF15","v":0},{"$f":"'[1]11 кл'!CNG15","v":0},{"$f":"'[1]11 кл'!CNH15","v":0},{"$f":"'[1]11 кл'!CNI15","v":0},{"$f":"'[1]11 кл'!CNJ15","v":0},{"$f":"'[1]11 кл'!CNK15","v":0},{"$f":"'[1]11 кл'!CNL15","v":0},{"$f":"'[1]11 кл'!CNM15","v":0},{"$f":"'[1]11 кл'!CNN15","v":0},{"$f":"'[1]11 кл'!CNO15","v":0},{"$f":"'[1]11 кл'!CNP15","v":0},{"$f":"'[1]11 кл'!CNQ15","v":0},{"$f":"'[1]11 кл'!CNR15","v":0},{"$f":"'[1]11 кл'!CNS15","v":0},{"$f":"'[1]11 кл'!CNT15","v":0},{"$f":"'[1]11 кл'!CNU15","v":0},{"$f":"'[1]11 кл'!CNV15","v":0},{"$f":"'[1]11 кл'!CNW15","v":0},{"$f":"'[1]11 кл'!CNX15","v":0},{"$f":"'[1]11 кл'!CNY15","v":0},{"$f":"'[1]11 кл'!CNZ15","v":0},{"$f":"'[1]11 кл'!COA15","v":0},{"$f":"'[1]11 кл'!COB15","v":0},{"$f":"'[1]11 кл'!COC15","v":0},{"$f":"'[1]11 кл'!COD15","v":0},{"$f":"'[1]11 кл'!COE15","v":0},{"$f":"'[1]11 кл'!COF15","v":0},{"$f":"'[1]11 кл'!COG15","v":0},{"$f":"'[1]11 кл'!COH15","v":0},{"$f":"'[1]11 кл'!COI15","v":0},{"$f":"'[1]11 кл'!COJ15","v":0},{"$f":"'[1]11 кл'!COK15","v":0},{"$f":"'[1]11 кл'!COL15","v":0},{"$f":"'[1]11 кл'!COM15","v":0},{"$f":"'[1]11 кл'!CON15","v":0},{"$f":"'[1]11 кл'!COO15","v":0},{"$f":"'[1]11 кл'!COP15","v":0},{"$f":"'[1]11 кл'!COQ15","v":0},{"$f":"'[1]11 кл'!COR15","v":0},{"$f":"'[1]11 кл'!COS15","v":0},{"$f":"'[1]11 кл'!COT15","v":0},{"$f":"'[1]11 кл'!COU15","v":0},{"$f":"'[1]11 кл'!COV15","v":0},{"$f":"'[1]11 кл'!COW15","v":0},{"$f":"'[1]11 кл'!COX15","v":0},{"$f":"'[1]11 кл'!COY15","v":0},{"$f":"'[1]11 кл'!COZ15","v":0},{"$f":"'[1]11 кл'!CPA15","v":0},{"$f":"'[1]11 кл'!CPB15","v":0},{"$f":"'[1]11 кл'!CPC15","v":0},{"$f":"'[1]11 кл'!CPD15","v":0},{"$f":"'[1]11 кл'!CPE15","v":0},{"$f":"'[1]11 кл'!CPF15","v":0},{"$f":"'[1]11 кл'!CPG15","v":0},{"$f":"'[1]11 кл'!CPH15","v":0},{"$f":"'[1]11 кл'!CPI15","v":0},{"$f":"'[1]11 кл'!CPJ15","v":0},{"$f":"'[1]11 кл'!CPK15","v":0},{"$f":"'[1]11 кл'!CPL15","v":0},{"$f":"'[1]11 кл'!CPM15","v":0},{"$f":"'[1]11 кл'!CPN15","v":0},{"$f":"'[1]11 кл'!CPO15","v":0},{"$f":"'[1]11 кл'!CPP15","v":0},{"$f":"'[1]11 кл'!CPQ15","v":0},{"$f":"'[1]11 кл'!CPR15","v":0},{"$f":"'[1]11 кл'!CPS15","v":0},{"$f":"'[1]11 кл'!CPT15","v":0},{"$f":"'[1]11 кл'!CPU15","v":0},{"$f":"'[1]11 кл'!CPV15","v":0},{"$f":"'[1]11 кл'!CPW15","v":0},{"$f":"'[1]11 кл'!CPX15","v":0},{"$f":"'[1]11 кл'!CPY15","v":0},{"$f":"'[1]11 кл'!CPZ15","v":0},{"$f":"'[1]11 кл'!CQA15","v":0},{"$f":"'[1]11 кл'!CQB15","v":0},{"$f":"'[1]11 кл'!CQC15","v":0},{"$f":"'[1]11 кл'!CQD15","v":0},{"$f":"'[1]11 кл'!CQE15","v":0},{"$f":"'[1]11 кл'!CQF15","v":0},{"$f":"'[1]11 кл'!CQG15","v":0},{"$f":"'[1]11 кл'!CQH15","v":0},{"$f":"'[1]11 кл'!CQI15","v":0},{"$f":"'[1]11 кл'!CQJ15","v":0},{"$f":"'[1]11 кл'!CQK15","v":0},{"$f":"'[1]11 кл'!CQL15","v":0},{"$f":"'[1]11 кл'!CQM15","v":0},{"$f":"'[1]11 кл'!CQN15","v":0},{"$f":"'[1]11 кл'!CQO15","v":0},{"$f":"'[1]11 кл'!CQP15","v":0},{"$f":"'[1]11 кл'!CQQ15","v":0},{"$f":"'[1]11 кл'!CQR15","v":0},{"$f":"'[1]11 кл'!CQS15","v":0},{"$f":"'[1]11 кл'!CQT15","v":0},{"$f":"'[1]11 кл'!CQU15","v":0},{"$f":"'[1]11 кл'!CQV15","v":0},{"$f":"'[1]11 кл'!CQW15","v":0},{"$f":"'[1]11 кл'!CQX15","v":0},{"$f":"'[1]11 кл'!CQY15","v":0},{"$f":"'[1]11 кл'!CQZ15","v":0},{"$f":"'[1]11 кл'!CRA15","v":0},{"$f":"'[1]11 кл'!CRB15","v":0},{"$f":"'[1]11 кл'!CRC15","v":0},{"$f":"'[1]11 кл'!CRD15","v":0},{"$f":"'[1]11 кл'!CRE15","v":0},{"$f":"'[1]11 кл'!CRF15","v":0},{"$f":"'[1]11 кл'!CRG15","v":0},{"$f":"'[1]11 кл'!CRH15","v":0},{"$f":"'[1]11 кл'!CRI15","v":0},{"$f":"'[1]11 кл'!CRJ15","v":0},{"$f":"'[1]11 кл'!CRK15","v":0},{"$f":"'[1]11 кл'!CRL15","v":0},{"$f":"'[1]11 кл'!CRM15","v":0},{"$f":"'[1]11 кл'!CRN15","v":0},{"$f":"'[1]11 кл'!CRO15","v":0},{"$f":"'[1]11 кл'!CRP15","v":0},{"$f":"'[1]11 кл'!CRQ15","v":0},{"$f":"'[1]11 кл'!CRR15","v":0},{"$f":"'[1]11 кл'!CRS15","v":0},{"$f":"'[1]11 кл'!CRT15","v":0},{"$f":"'[1]11 кл'!CRU15","v":0},{"$f":"'[1]11 кл'!CRV15","v":0},{"$f":"'[1]11 кл'!CRW15","v":0},{"$f":"'[1]11 кл'!CRX15","v":0},{"$f":"'[1]11 кл'!CRY15","v":0},{"$f":"'[1]11 кл'!CRZ15","v":0},{"$f":"'[1]11 кл'!CSA15","v":0},{"$f":"'[1]11 кл'!CSB15","v":0},{"$f":"'[1]11 кл'!CSC15","v":0},{"$f":"'[1]11 кл'!CSD15","v":0},{"$f":"'[1]11 кл'!CSE15","v":0},{"$f":"'[1]11 кл'!CSF15","v":0},{"$f":"'[1]11 кл'!CSG15","v":0},{"$f":"'[1]11 кл'!CSH15","v":0},{"$f":"'[1]11 кл'!CSI15","v":0},{"$f":"'[1]11 кл'!CSJ15","v":0},{"$f":"'[1]11 кл'!CSK15","v":0},{"$f":"'[1]11 кл'!CSL15","v":0},{"$f":"'[1]11 кл'!CSM15","v":0},{"$f":"'[1]11 кл'!CSN15","v":0},{"$f":"'[1]11 кл'!CSO15","v":0},{"$f":"'[1]11 кл'!CSP15","v":0},{"$f":"'[1]11 кл'!CSQ15","v":0},{"$f":"'[1]11 кл'!CSR15","v":0},{"$f":"'[1]11 кл'!CSS15","v":0},{"$f":"'[1]11 кл'!CST15","v":0},{"$f":"'[1]11 кл'!CSU15","v":0},{"$f":"'[1]11 кл'!CSV15","v":0},{"$f":"'[1]11 кл'!CSW15","v":0},{"$f":"'[1]11 кл'!CSX15","v":0},{"$f":"'[1]11 кл'!CSY15","v":0},{"$f":"'[1]11 кл'!CSZ15","v":0},{"$f":"'[1]11 кл'!CTA15","v":0},{"$f":"'[1]11 кл'!CTB15","v":0},{"$f":"'[1]11 кл'!CTC15","v":0},{"$f":"'[1]11 кл'!CTD15","v":0},{"$f":"'[1]11 кл'!CTE15","v":0},{"$f":"'[1]11 кл'!CTF15","v":0},{"$f":"'[1]11 кл'!CTG15","v":0},{"$f":"'[1]11 кл'!CTH15","v":0},{"$f":"'[1]11 кл'!CTI15","v":0},{"$f":"'[1]11 кл'!CTJ15","v":0},{"$f":"'[1]11 кл'!CTK15","v":0},{"$f":"'[1]11 кл'!CTL15","v":0},{"$f":"'[1]11 кл'!CTM15","v":0},{"$f":"'[1]11 кл'!CTN15","v":0},{"$f":"'[1]11 кл'!CTO15","v":0},{"$f":"'[1]11 кл'!CTP15","v":0},{"$f":"'[1]11 кл'!CTQ15","v":0},{"$f":"'[1]11 кл'!CTR15","v":0},{"$f":"'[1]11 кл'!CTS15","v":0},{"$f":"'[1]11 кл'!CTT15","v":0},{"$f":"'[1]11 кл'!CTU15","v":0},{"$f":"'[1]11 кл'!CTV15","v":0},{"$f":"'[1]11 кл'!CTW15","v":0},{"$f":"'[1]11 кл'!CTX15","v":0},{"$f":"'[1]11 кл'!CTY15","v":0},{"$f":"'[1]11 кл'!CTZ15","v":0},{"$f":"'[1]11 кл'!CUA15","v":0},{"$f":"'[1]11 кл'!CUB15","v":0},{"$f":"'[1]11 кл'!CUC15","v":0},{"$f":"'[1]11 кл'!CUD15","v":0},{"$f":"'[1]11 кл'!CUE15","v":0},{"$f":"'[1]11 кл'!CUF15","v":0},{"$f":"'[1]11 кл'!CUG15","v":0},{"$f":"'[1]11 кл'!CUH15","v":0},{"$f":"'[1]11 кл'!CUI15","v":0},{"$f":"'[1]11 кл'!CUJ15","v":0},{"$f":"'[1]11 кл'!CUK15","v":0},{"$f":"'[1]11 кл'!CUL15","v":0},{"$f":"'[1]11 кл'!CUM15","v":0},{"$f":"'[1]11 кл'!CUN15","v":0},{"$f":"'[1]11 кл'!CUO15","v":0},{"$f":"'[1]11 кл'!CUP15","v":0},{"$f":"'[1]11 кл'!CUQ15","v":0},{"$f":"'[1]11 кл'!CUR15","v":0},{"$f":"'[1]11 кл'!CUS15","v":0},{"$f":"'[1]11 кл'!CUT15","v":0},{"$f":"'[1]11 кл'!CUU15","v":0},{"$f":"'[1]11 кл'!CUV15","v":0},{"$f":"'[1]11 кл'!CUW15","v":0},{"$f":"'[1]11 кл'!CUX15","v":0},{"$f":"'[1]11 кл'!CUY15","v":0},{"$f":"'[1]11 кл'!CUZ15","v":0},{"$f":"'[1]11 кл'!CVA15","v":0},{"$f":"'[1]11 кл'!CVB15","v":0},{"$f":"'[1]11 кл'!CVC15","v":0},{"$f":"'[1]11 кл'!CVD15","v":0},{"$f":"'[1]11 кл'!CVE15","v":0},{"$f":"'[1]11 кл'!CVF15","v":0},{"$f":"'[1]11 кл'!CVG15","v":0},{"$f":"'[1]11 кл'!CVH15","v":0},{"$f":"'[1]11 кл'!CVI15","v":0},{"$f":"'[1]11 кл'!CVJ15","v":0},{"$f":"'[1]11 кл'!CVK15","v":0},{"$f":"'[1]11 кл'!CVL15","v":0},{"$f":"'[1]11 кл'!CVM15","v":0},{"$f":"'[1]11 кл'!CVN15","v":0},{"$f":"'[1]11 кл'!CVO15","v":0},{"$f":"'[1]11 кл'!CVP15","v":0},{"$f":"'[1]11 кл'!CVQ15","v":0},{"$f":"'[1]11 кл'!CVR15","v":0},{"$f":"'[1]11 кл'!CVS15","v":0},{"$f":"'[1]11 кл'!CVT15","v":0},{"$f":"'[1]11 кл'!CVU15","v":0},{"$f":"'[1]11 кл'!CVV15","v":0},{"$f":"'[1]11 кл'!CVW15","v":0},{"$f":"'[1]11 кл'!CVX15","v":0},{"$f":"'[1]11 кл'!CVY15","v":0},{"$f":"'[1]11 кл'!CVZ15","v":0},{"$f":"'[1]11 кл'!CWA15","v":0},{"$f":"'[1]11 кл'!CWB15","v":0},{"$f":"'[1]11 кл'!CWC15","v":0},{"$f":"'[1]11 кл'!CWD15","v":0},{"$f":"'[1]11 кл'!CWE15","v":0},{"$f":"'[1]11 кл'!CWF15","v":0},{"$f":"'[1]11 кл'!CWG15","v":0},{"$f":"'[1]11 кл'!CWH15","v":0},{"$f":"'[1]11 кл'!CWI15","v":0},{"$f":"'[1]11 кл'!CWJ15","v":0},{"$f":"'[1]11 кл'!CWK15","v":0},{"$f":"'[1]11 кл'!CWL15","v":0},{"$f":"'[1]11 кл'!CWM15","v":0},{"$f":"'[1]11 кл'!CWN15","v":0},{"$f":"'[1]11 кл'!CWO15","v":0},{"$f":"'[1]11 кл'!CWP15","v":0},{"$f":"'[1]11 кл'!CWQ15","v":0},{"$f":"'[1]11 кл'!CWR15","v":0},{"$f":"'[1]11 кл'!CWS15","v":0},{"$f":"'[1]11 кл'!CWT15","v":0},{"$f":"'[1]11 кл'!CWU15","v":0},{"$f":"'[1]11 кл'!CWV15","v":0},{"$f":"'[1]11 кл'!CWW15","v":0},{"$f":"'[1]11 кл'!CWX15","v":0},{"$f":"'[1]11 кл'!CWY15","v":0},{"$f":"'[1]11 кл'!CWZ15","v":0},{"$f":"'[1]11 кл'!CXA15","v":0},{"$f":"'[1]11 кл'!CXB15","v":0},{"$f":"'[1]11 кл'!CXC15","v":0},{"$f":"'[1]11 кл'!CXD15","v":0},{"$f":"'[1]11 кл'!CXE15","v":0},{"$f":"'[1]11 кл'!CXF15","v":0},{"$f":"'[1]11 кл'!CXG15","v":0},{"$f":"'[1]11 кл'!CXH15","v":0},{"$f":"'[1]11 кл'!CXI15","v":0},{"$f":"'[1]11 кл'!CXJ15","v":0},{"$f":"'[1]11 кл'!CXK15","v":0},{"$f":"'[1]11 кл'!CXL15","v":0},{"$f":"'[1]11 кл'!CXM15","v":0},{"$f":"'[1]11 кл'!CXN15","v":0},{"$f":"'[1]11 кл'!CXO15","v":0},{"$f":"'[1]11 кл'!CXP15","v":0},{"$f":"'[1]11 кл'!CXQ15","v":0},{"$f":"'[1]11 кл'!CXR15","v":0},{"$f":"'[1]11 кл'!CXS15","v":0},{"$f":"'[1]11 кл'!CXT15","v":0},{"$f":"'[1]11 кл'!CXU15","v":0},{"$f":"'[1]11 кл'!CXV15","v":0},{"$f":"'[1]11 кл'!CXW15","v":0},{"$f":"'[1]11 кл'!CXX15","v":0},{"$f":"'[1]11 кл'!CXY15","v":0},{"$f":"'[1]11 кл'!CXZ15","v":0},{"$f":"'[1]11 кл'!CYA15","v":0},{"$f":"'[1]11 кл'!CYB15","v":0},{"$f":"'[1]11 кл'!CYC15","v":0},{"$f":"'[1]11 кл'!CYD15","v":0},{"$f":"'[1]11 кл'!CYE15","v":0},{"$f":"'[1]11 кл'!CYF15","v":0},{"$f":"'[1]11 кл'!CYG15","v":0},{"$f":"'[1]11 кл'!CYH15","v":0},{"$f":"'[1]11 кл'!CYI15","v":0},{"$f":"'[1]11 кл'!CYJ15","v":0},{"$f":"'[1]11 кл'!CYK15","v":0},{"$f":"'[1]11 кл'!CYL15","v":0},{"$f":"'[1]11 кл'!CYM15","v":0},{"$f":"'[1]11 кл'!CYN15","v":0},{"$f":"'[1]11 кл'!CYO15","v":0},{"$f":"'[1]11 кл'!CYP15","v":0},{"$f":"'[1]11 кл'!CYQ15","v":0},{"$f":"'[1]11 кл'!CYR15","v":0},{"$f":"'[1]11 кл'!CYS15","v":0},{"$f":"'[1]11 кл'!CYT15","v":0},{"$f":"'[1]11 кл'!CYU15","v":0},{"$f":"'[1]11 кл'!CYV15","v":0},{"$f":"'[1]11 кл'!CYW15","v":0},{"$f":"'[1]11 кл'!CYX15","v":0},{"$f":"'[1]11 кл'!CYY15","v":0},{"$f":"'[1]11 кл'!CYZ15","v":0},{"$f":"'[1]11 кл'!CZA15","v":0},{"$f":"'[1]11 кл'!CZB15","v":0},{"$f":"'[1]11 кл'!CZC15","v":0},{"$f":"'[1]11 кл'!CZD15","v":0},{"$f":"'[1]11 кл'!CZE15","v":0},{"$f":"'[1]11 кл'!CZF15","v":0},{"$f":"'[1]11 кл'!CZG15","v":0},{"$f":"'[1]11 кл'!CZH15","v":0},{"$f":"'[1]11 кл'!CZI15","v":0},{"$f":"'[1]11 кл'!CZJ15","v":0},{"$f":"'[1]11 кл'!CZK15","v":0},{"$f":"'[1]11 кл'!CZL15","v":0},{"$f":"'[1]11 кл'!CZM15","v":0},{"$f":"'[1]11 кл'!CZN15","v":0},{"$f":"'[1]11 кл'!CZO15","v":0},{"$f":"'[1]11 кл'!CZP15","v":0},{"$f":"'[1]11 кл'!CZQ15","v":0},{"$f":"'[1]11 кл'!CZR15","v":0},{"$f":"'[1]11 кл'!CZS15","v":0},{"$f":"'[1]11 кл'!CZT15","v":0},{"$f":"'[1]11 кл'!CZU15","v":0},{"$f":"'[1]11 кл'!CZV15","v":0},{"$f":"'[1]11 кл'!CZW15","v":0},{"$f":"'[1]11 кл'!CZX15","v":0},{"$f":"'[1]11 кл'!CZY15","v":0},{"$f":"'[1]11 кл'!CZZ15","v":0},{"$f":"'[1]11 кл'!DAA15","v":0},{"$f":"'[1]11 кл'!DAB15","v":0},{"$f":"'[1]11 кл'!DAC15","v":0},{"$f":"'[1]11 кл'!DAD15","v":0},{"$f":"'[1]11 кл'!DAE15","v":0},{"$f":"'[1]11 кл'!DAF15","v":0},{"$f":"'[1]11 кл'!DAG15","v":0},{"$f":"'[1]11 кл'!DAH15","v":0},{"$f":"'[1]11 кл'!DAI15","v":0},{"$f":"'[1]11 кл'!DAJ15","v":0},{"$f":"'[1]11 кл'!DAK15","v":0},{"$f":"'[1]11 кл'!DAL15","v":0},{"$f":"'[1]11 кл'!DAM15","v":0},{"$f":"'[1]11 кл'!DAN15","v":0},{"$f":"'[1]11 кл'!DAO15","v":0},{"$f":"'[1]11 кл'!DAP15","v":0},{"$f":"'[1]11 кл'!DAQ15","v":0},{"$f":"'[1]11 кл'!DAR15","v":0},{"$f":"'[1]11 кл'!DAS15","v":0},{"$f":"'[1]11 кл'!DAT15","v":0},{"$f":"'[1]11 кл'!DAU15","v":0},{"$f":"'[1]11 кл'!DAV15","v":0},{"$f":"'[1]11 кл'!DAW15","v":0},{"$f":"'[1]11 кл'!DAX15","v":0},{"$f":"'[1]11 кл'!DAY15","v":0},{"$f":"'[1]11 кл'!DAZ15","v":0},{"$f":"'[1]11 кл'!DBA15","v":0},{"$f":"'[1]11 кл'!DBB15","v":0},{"$f":"'[1]11 кл'!DBC15","v":0},{"$f":"'[1]11 кл'!DBD15","v":0},{"$f":"'[1]11 кл'!DBE15","v":0},{"$f":"'[1]11 кл'!DBF15","v":0},{"$f":"'[1]11 кл'!DBG15","v":0},{"$f":"'[1]11 кл'!DBH15","v":0},{"$f":"'[1]11 кл'!DBI15","v":0},{"$f":"'[1]11 кл'!DBJ15","v":0},{"$f":"'[1]11 кл'!DBK15","v":0},{"$f":"'[1]11 кл'!DBL15","v":0},{"$f":"'[1]11 кл'!DBM15","v":0},{"$f":"'[1]11 кл'!DBN15","v":0},{"$f":"'[1]11 кл'!DBO15","v":0},{"$f":"'[1]11 кл'!DBP15","v":0},{"$f":"'[1]11 кл'!DBQ15","v":0},{"$f":"'[1]11 кл'!DBR15","v":0},{"$f":"'[1]11 кл'!DBS15","v":0},{"$f":"'[1]11 кл'!DBT15","v":0},{"$f":"'[1]11 кл'!DBU15","v":0},{"$f":"'[1]11 кл'!DBV15","v":0},{"$f":"'[1]11 кл'!DBW15","v":0},{"$f":"'[1]11 кл'!DBX15","v":0},{"$f":"'[1]11 кл'!DBY15","v":0},{"$f":"'[1]11 кл'!DBZ15","v":0},{"$f":"'[1]11 кл'!DCA15","v":0},{"$f":"'[1]11 кл'!DCB15","v":0},{"$f":"'[1]11 кл'!DCC15","v":0},{"$f":"'[1]11 кл'!DCD15","v":0},{"$f":"'[1]11 кл'!DCE15","v":0},{"$f":"'[1]11 кл'!DCF15","v":0},{"$f":"'[1]11 кл'!DCG15","v":0},{"$f":"'[1]11 кл'!DCH15","v":0},{"$f":"'[1]11 кл'!DCI15","v":0},{"$f":"'[1]11 кл'!DCJ15","v":0},{"$f":"'[1]11 кл'!DCK15","v":0},{"$f":"'[1]11 кл'!DCL15","v":0},{"$f":"'[1]11 кл'!DCM15","v":0},{"$f":"'[1]11 кл'!DCN15","v":0},{"$f":"'[1]11 кл'!DCO15","v":0},{"$f":"'[1]11 кл'!DCP15","v":0},{"$f":"'[1]11 кл'!DCQ15","v":0},{"$f":"'[1]11 кл'!DCR15","v":0},{"$f":"'[1]11 кл'!DCS15","v":0},{"$f":"'[1]11 кл'!DCT15","v":0},{"$f":"'[1]11 кл'!DCU15","v":0},{"$f":"'[1]11 кл'!DCV15","v":0},{"$f":"'[1]11 кл'!DCW15","v":0},{"$f":"'[1]11 кл'!DCX15","v":0},{"$f":"'[1]11 кл'!DCY15","v":0},{"$f":"'[1]11 кл'!DCZ15","v":0},{"$f":"'[1]11 кл'!DDA15","v":0},{"$f":"'[1]11 кл'!DDB15","v":0},{"$f":"'[1]11 кл'!DDC15","v":0},{"$f":"'[1]11 кл'!DDD15","v":0},{"$f":"'[1]11 кл'!DDE15","v":0},{"$f":"'[1]11 кл'!DDF15","v":0},{"$f":"'[1]11 кл'!DDG15","v":0},{"$f":"'[1]11 кл'!DDH15","v":0},{"$f":"'[1]11 кл'!DDI15","v":0},{"$f":"'[1]11 кл'!DDJ15","v":0},{"$f":"'[1]11 кл'!DDK15","v":0},{"$f":"'[1]11 кл'!DDL15","v":0},{"$f":"'[1]11 кл'!DDM15","v":0},{"$f":"'[1]11 кл'!DDN15","v":0},{"$f":"'[1]11 кл'!DDO15","v":0},{"$f":"'[1]11 кл'!DDP15","v":0},{"$f":"'[1]11 кл'!DDQ15","v":0},{"$f":"'[1]11 кл'!DDR15","v":0},{"$f":"'[1]11 кл'!DDS15","v":0},{"$f":"'[1]11 кл'!DDT15","v":0},{"$f":"'[1]11 кл'!DDU15","v":0},{"$f":"'[1]11 кл'!DDV15","v":0},{"$f":"'[1]11 кл'!DDW15","v":0},{"$f":"'[1]11 кл'!DDX15","v":0},{"$f":"'[1]11 кл'!DDY15","v":0},{"$f":"'[1]11 кл'!DDZ15","v":0},{"$f":"'[1]11 кл'!DEA15","v":0},{"$f":"'[1]11 кл'!DEB15","v":0},{"$f":"'[1]11 кл'!DEC15","v":0},{"$f":"'[1]11 кл'!DED15","v":0},{"$f":"'[1]11 кл'!DEE15","v":0},{"$f":"'[1]11 кл'!DEF15","v":0},{"$f":"'[1]11 кл'!DEG15","v":0},{"$f":"'[1]11 кл'!DEH15","v":0},{"$f":"'[1]11 кл'!DEI15","v":0},{"$f":"'[1]11 кл'!DEJ15","v":0},{"$f":"'[1]11 кл'!DEK15","v":0},{"$f":"'[1]11 кл'!DEL15","v":0},{"$f":"'[1]11 кл'!DEM15","v":0},{"$f":"'[1]11 кл'!DEN15","v":0},{"$f":"'[1]11 кл'!DEO15","v":0},{"$f":"'[1]11 кл'!DEP15","v":0},{"$f":"'[1]11 кл'!DEQ15","v":0},{"$f":"'[1]11 кл'!DER15","v":0},{"$f":"'[1]11 кл'!DES15","v":0},{"$f":"'[1]11 кл'!DET15","v":0},{"$f":"'[1]11 кл'!DEU15","v":0},{"$f":"'[1]11 кл'!DEV15","v":0},{"$f":"'[1]11 кл'!DEW15","v":0},{"$f":"'[1]11 кл'!DEX15","v":0},{"$f":"'[1]11 кл'!DEY15","v":0},{"$f":"'[1]11 кл'!DEZ15","v":0},{"$f":"'[1]11 кл'!DFA15","v":0},{"$f":"'[1]11 кл'!DFB15","v":0},{"$f":"'[1]11 кл'!DFC15","v":0},{"$f":"'[1]11 кл'!DFD15","v":0},{"$f":"'[1]11 кл'!DFE15","v":0},{"$f":"'[1]11 кл'!DFF15","v":0},{"$f":"'[1]11 кл'!DFG15","v":0},{"$f":"'[1]11 кл'!DFH15","v":0},{"$f":"'[1]11 кл'!DFI15","v":0},{"$f":"'[1]11 кл'!DFJ15","v":0},{"$f":"'[1]11 кл'!DFK15","v":0},{"$f":"'[1]11 кл'!DFL15","v":0},{"$f":"'[1]11 кл'!DFM15","v":0},{"$f":"'[1]11 кл'!DFN15","v":0},{"$f":"'[1]11 кл'!DFO15","v":0},{"$f":"'[1]11 кл'!DFP15","v":0},{"$f":"'[1]11 кл'!DFQ15","v":0},{"$f":"'[1]11 кл'!DFR15","v":0},{"$f":"'[1]11 кл'!DFS15","v":0},{"$f":"'[1]11 кл'!DFT15","v":0},{"$f":"'[1]11 кл'!DFU15","v":0},{"$f":"'[1]11 кл'!DFV15","v":0},{"$f":"'[1]11 кл'!DFW15","v":0},{"$f":"'[1]11 кл'!DFX15","v":0},{"$f":"'[1]11 кл'!DFY15","v":0},{"$f":"'[1]11 кл'!DFZ15","v":0},{"$f":"'[1]11 кл'!DGA15","v":0},{"$f":"'[1]11 кл'!DGB15","v":0},{"$f":"'[1]11 кл'!DGC15","v":0},{"$f":"'[1]11 кл'!DGD15","v":0},{"$f":"'[1]11 кл'!DGE15","v":0},{"$f":"'[1]11 кл'!DGF15","v":0},{"$f":"'[1]11 кл'!DGG15","v":0},{"$f":"'[1]11 кл'!DGH15","v":0},{"$f":"'[1]11 кл'!DGI15","v":0},{"$f":"'[1]11 кл'!DGJ15","v":0},{"$f":"'[1]11 кл'!DGK15","v":0},{"$f":"'[1]11 кл'!DGL15","v":0},{"$f":"'[1]11 кл'!DGM15","v":0},{"$f":"'[1]11 кл'!DGN15","v":0},{"$f":"'[1]11 кл'!DGO15","v":0},{"$f":"'[1]11 кл'!DGP15","v":0},{"$f":"'[1]11 кл'!DGQ15","v":0},{"$f":"'[1]11 кл'!DGR15","v":0},{"$f":"'[1]11 кл'!DGS15","v":0},{"$f":"'[1]11 кл'!DGT15","v":0},{"$f":"'[1]11 кл'!DGU15","v":0},{"$f":"'[1]11 кл'!DGV15","v":0},{"$f":"'[1]11 кл'!DGW15","v":0},{"$f":"'[1]11 кл'!DGX15","v":0},{"$f":"'[1]11 кл'!DGY15","v":0},{"$f":"'[1]11 кл'!DGZ15","v":0},{"$f":"'[1]11 кл'!DHA15","v":0},{"$f":"'[1]11 кл'!DHB15","v":0},{"$f":"'[1]11 кл'!DHC15","v":0},{"$f":"'[1]11 кл'!DHD15","v":0},{"$f":"'[1]11 кл'!DHE15","v":0},{"$f":"'[1]11 кл'!DHF15","v":0},{"$f":"'[1]11 кл'!DHG15","v":0},{"$f":"'[1]11 кл'!DHH15","v":0},{"$f":"'[1]11 кл'!DHI15","v":0},{"$f":"'[1]11 кл'!DHJ15","v":0},{"$f":"'[1]11 кл'!DHK15","v":0},{"$f":"'[1]11 кл'!DHL15","v":0},{"$f":"'[1]11 кл'!DHM15","v":0},{"$f":"'[1]11 кл'!DHN15","v":0},{"$f":"'[1]11 кл'!DHO15","v":0},{"$f":"'[1]11 кл'!DHP15","v":0},{"$f":"'[1]11 кл'!DHQ15","v":0},{"$f":"'[1]11 кл'!DHR15","v":0},{"$f":"'[1]11 кл'!DHS15","v":0},{"$f":"'[1]11 кл'!DHT15","v":0},{"$f":"'[1]11 кл'!DHU15","v":0},{"$f":"'[1]11 кл'!DHV15","v":0},{"$f":"'[1]11 кл'!DHW15","v":0},{"$f":"'[1]11 кл'!DHX15","v":0},{"$f":"'[1]11 кл'!DHY15","v":0},{"$f":"'[1]11 кл'!DHZ15","v":0},{"$f":"'[1]11 кл'!DIA15","v":0},{"$f":"'[1]11 кл'!DIB15","v":0},{"$f":"'[1]11 кл'!DIC15","v":0},{"$f":"'[1]11 кл'!DID15","v":0},{"$f":"'[1]11 кл'!DIE15","v":0},{"$f":"'[1]11 кл'!DIF15","v":0},{"$f":"'[1]11 кл'!DIG15","v":0},{"$f":"'[1]11 кл'!DIH15","v":0},{"$f":"'[1]11 кл'!DII15","v":0},{"$f":"'[1]11 кл'!DIJ15","v":0},{"$f":"'[1]11 кл'!DIK15","v":0},{"$f":"'[1]11 кл'!DIL15","v":0},{"$f":"'[1]11 кл'!DIM15","v":0},{"$f":"'[1]11 кл'!DIN15","v":0},{"$f":"'[1]11 кл'!DIO15","v":0},{"$f":"'[1]11 кл'!DIP15","v":0},{"$f":"'[1]11 кл'!DIQ15","v":0},{"$f":"'[1]11 кл'!DIR15","v":0},{"$f":"'[1]11 кл'!DIS15","v":0},{"$f":"'[1]11 кл'!DIT15","v":0},{"$f":"'[1]11 кл'!DIU15","v":0},{"$f":"'[1]11 кл'!DIV15","v":0},{"$f":"'[1]11 кл'!DIW15","v":0},{"$f":"'[1]11 кл'!DIX15","v":0},{"$f":"'[1]11 кл'!DIY15","v":0},{"$f":"'[1]11 кл'!DIZ15","v":0},{"$f":"'[1]11 кл'!DJA15","v":0},{"$f":"'[1]11 кл'!DJB15","v":0},{"$f":"'[1]11 кл'!DJC15","v":0},{"$f":"'[1]11 кл'!DJD15","v":0},{"$f":"'[1]11 кл'!DJE15","v":0},{"$f":"'[1]11 кл'!DJF15","v":0},{"$f":"'[1]11 кл'!DJG15","v":0},{"$f":"'[1]11 кл'!DJH15","v":0},{"$f":"'[1]11 кл'!DJI15","v":0},{"$f":"'[1]11 кл'!DJJ15","v":0},{"$f":"'[1]11 кл'!DJK15","v":0},{"$f":"'[1]11 кл'!DJL15","v":0},{"$f":"'[1]11 кл'!DJM15","v":0},{"$f":"'[1]11 кл'!DJN15","v":0},{"$f":"'[1]11 кл'!DJO15","v":0},{"$f":"'[1]11 кл'!DJP15","v":0},{"$f":"'[1]11 кл'!DJQ15","v":0},{"$f":"'[1]11 кл'!DJR15","v":0},{"$f":"'[1]11 кл'!DJS15","v":0},{"$f":"'[1]11 кл'!DJT15","v":0},{"$f":"'[1]11 кл'!DJU15","v":0},{"$f":"'[1]11 кл'!DJV15","v":0},{"$f":"'[1]11 кл'!DJW15","v":0},{"$f":"'[1]11 кл'!DJX15","v":0},{"$f":"'[1]11 кл'!DJY15","v":0},{"$f":"'[1]11 кл'!DJZ15","v":0},{"$f":"'[1]11 кл'!DKA15","v":0},{"$f":"'[1]11 кл'!DKB15","v":0},{"$f":"'[1]11 кл'!DKC15","v":0},{"$f":"'[1]11 кл'!DKD15","v":0},{"$f":"'[1]11 кл'!DKE15","v":0},{"$f":"'[1]11 кл'!DKF15","v":0},{"$f":"'[1]11 кл'!DKG15","v":0},{"$f":"'[1]11 кл'!DKH15","v":0},{"$f":"'[1]11 кл'!DKI15","v":0},{"$f":"'[1]11 кл'!DKJ15","v":0},{"$f":"'[1]11 кл'!DKK15","v":0},{"$f":"'[1]11 кл'!DKL15","v":0},{"$f":"'[1]11 кл'!DKM15","v":0},{"$f":"'[1]11 кл'!DKN15","v":0},{"$f":"'[1]11 кл'!DKO15","v":0},{"$f":"'[1]11 кл'!DKP15","v":0},{"$f":"'[1]11 кл'!DKQ15","v":0},{"$f":"'[1]11 кл'!DKR15","v":0},{"$f":"'[1]11 кл'!DKS15","v":0},{"$f":"'[1]11 кл'!DKT15","v":0},{"$f":"'[1]11 кл'!DKU15","v":0},{"$f":"'[1]11 кл'!DKV15","v":0},{"$f":"'[1]11 кл'!DKW15","v":0},{"$f":"'[1]11 кл'!DKX15","v":0},{"$f":"'[1]11 кл'!DKY15","v":0},{"$f":"'[1]11 кл'!DKZ15","v":0},{"$f":"'[1]11 кл'!DLA15","v":0},{"$f":"'[1]11 кл'!DLB15","v":0},{"$f":"'[1]11 кл'!DLC15","v":0},{"$f":"'[1]11 кл'!DLD15","v":0},{"$f":"'[1]11 кл'!DLE15","v":0},{"$f":"'[1]11 кл'!DLF15","v":0},{"$f":"'[1]11 кл'!DLG15","v":0},{"$f":"'[1]11 кл'!DLH15","v":0},{"$f":"'[1]11 кл'!DLI15","v":0},{"$f":"'[1]11 кл'!DLJ15","v":0},{"$f":"'[1]11 кл'!DLK15","v":0},{"$f":"'[1]11 кл'!DLL15","v":0},{"$f":"'[1]11 кл'!DLM15","v":0},{"$f":"'[1]11 кл'!DLN15","v":0},{"$f":"'[1]11 кл'!DLO15","v":0},{"$f":"'[1]11 кл'!DLP15","v":0},{"$f":"'[1]11 кл'!DLQ15","v":0},{"$f":"'[1]11 кл'!DLR15","v":0},{"$f":"'[1]11 кл'!DLS15","v":0},{"$f":"'[1]11 кл'!DLT15","v":0},{"$f":"'[1]11 кл'!DLU15","v":0},{"$f":"'[1]11 кл'!DLV15","v":0},{"$f":"'[1]11 кл'!DLW15","v":0},{"$f":"'[1]11 кл'!DLX15","v":0},{"$f":"'[1]11 кл'!DLY15","v":0},{"$f":"'[1]11 кл'!DLZ15","v":0},{"$f":"'[1]11 кл'!DMA15","v":0},{"$f":"'[1]11 кл'!DMB15","v":0},{"$f":"'[1]11 кл'!DMC15","v":0},{"$f":"'[1]11 кл'!DMD15","v":0},{"$f":"'[1]11 кл'!DME15","v":0},{"$f":"'[1]11 кл'!DMF15","v":0},{"$f":"'[1]11 кл'!DMG15","v":0},{"$f":"'[1]11 кл'!DMH15","v":0},{"$f":"'[1]11 кл'!DMI15","v":0},{"$f":"'[1]11 кл'!DMJ15","v":0},{"$f":"'[1]11 кл'!DMK15","v":0},{"$f":"'[1]11 кл'!DML15","v":0},{"$f":"'[1]11 кл'!DMM15","v":0},{"$f":"'[1]11 кл'!DMN15","v":0},{"$f":"'[1]11 кл'!DMO15","v":0},{"$f":"'[1]11 кл'!DMP15","v":0},{"$f":"'[1]11 кл'!DMQ15","v":0},{"$f":"'[1]11 кл'!DMR15","v":0},{"$f":"'[1]11 кл'!DMS15","v":0},{"$f":"'[1]11 кл'!DMT15","v":0},{"$f":"'[1]11 кл'!DMU15","v":0},{"$f":"'[1]11 кл'!DMV15","v":0},{"$f":"'[1]11 кл'!DMW15","v":0},{"$f":"'[1]11 кл'!DMX15","v":0},{"$f":"'[1]11 кл'!DMY15","v":0},{"$f":"'[1]11 кл'!DMZ15","v":0},{"$f":"'[1]11 кл'!DNA15","v":0},{"$f":"'[1]11 кл'!DNB15","v":0},{"$f":"'[1]11 кл'!DNC15","v":0},{"$f":"'[1]11 кл'!DND15","v":0},{"$f":"'[1]11 кл'!DNE15","v":0},{"$f":"'[1]11 кл'!DNF15","v":0},{"$f":"'[1]11 кл'!DNG15","v":0},{"$f":"'[1]11 кл'!DNH15","v":0},{"$f":"'[1]11 кл'!DNI15","v":0},{"$f":"'[1]11 кл'!DNJ15","v":0},{"$f":"'[1]11 кл'!DNK15","v":0},{"$f":"'[1]11 кл'!DNL15","v":0},{"$f":"'[1]11 кл'!DNM15","v":0},{"$f":"'[1]11 кл'!DNN15","v":0},{"$f":"'[1]11 кл'!DNO15","v":0},{"$f":"'[1]11 кл'!DNP15","v":0},{"$f":"'[1]11 кл'!DNQ15","v":0},{"$f":"'[1]11 кл'!DNR15","v":0},{"$f":"'[1]11 кл'!DNS15","v":0},{"$f":"'[1]11 кл'!DNT15","v":0},{"$f":"'[1]11 кл'!DNU15","v":0},{"$f":"'[1]11 кл'!DNV15","v":0},{"$f":"'[1]11 кл'!DNW15","v":0},{"$f":"'[1]11 кл'!DNX15","v":0},{"$f":"'[1]11 кл'!DNY15","v":0},{"$f":"'[1]11 кл'!DNZ15","v":0},{"$f":"'[1]11 кл'!DOA15","v":0},{"$f":"'[1]11 кл'!DOB15","v":0},{"$f":"'[1]11 кл'!DOC15","v":0},{"$f":"'[1]11 кл'!DOD15","v":0},{"$f":"'[1]11 кл'!DOE15","v":0},{"$f":"'[1]11 кл'!DOF15","v":0},{"$f":"'[1]11 кл'!DOG15","v":0},{"$f":"'[1]11 кл'!DOH15","v":0},{"$f":"'[1]11 кл'!DOI15","v":0},{"$f":"'[1]11 кл'!DOJ15","v":0},{"$f":"'[1]11 кл'!DOK15","v":0},{"$f":"'[1]11 кл'!DOL15","v":0},{"$f":"'[1]11 кл'!DOM15","v":0},{"$f":"'[1]11 кл'!DON15","v":0},{"$f":"'[1]11 кл'!DOO15","v":0},{"$f":"'[1]11 кл'!DOP15","v":0},{"$f":"'[1]11 кл'!DOQ15","v":0},{"$f":"'[1]11 кл'!DOR15","v":0},{"$f":"'[1]11 кл'!DOS15","v":0},{"$f":"'[1]11 кл'!DOT15","v":0},{"$f":"'[1]11 кл'!DOU15","v":0},{"$f":"'[1]11 кл'!DOV15","v":0},{"$f":"'[1]11 кл'!DOW15","v":0},{"$f":"'[1]11 кл'!DOX15","v":0},{"$f":"'[1]11 кл'!DOY15","v":0},{"$f":"'[1]11 кл'!DOZ15","v":0},{"$f":"'[1]11 кл'!DPA15","v":0},{"$f":"'[1]11 кл'!DPB15","v":0},{"$f":"'[1]11 кл'!DPC15","v":0},{"$f":"'[1]11 кл'!DPD15","v":0},{"$f":"'[1]11 кл'!DPE15","v":0},{"$f":"'[1]11 кл'!DPF15","v":0},{"$f":"'[1]11 кл'!DPG15","v":0},{"$f":"'[1]11 кл'!DPH15","v":0},{"$f":"'[1]11 кл'!DPI15","v":0},{"$f":"'[1]11 кл'!DPJ15","v":0},{"$f":"'[1]11 кл'!DPK15","v":0},{"$f":"'[1]11 кл'!DPL15","v":0},{"$f":"'[1]11 кл'!DPM15","v":0},{"$f":"'[1]11 кл'!DPN15","v":0},{"$f":"'[1]11 кл'!DPO15","v":0},{"$f":"'[1]11 кл'!DPP15","v":0},{"$f":"'[1]11 кл'!DPQ15","v":0},{"$f":"'[1]11 кл'!DPR15","v":0},{"$f":"'[1]11 кл'!DPS15","v":0},{"$f":"'[1]11 кл'!DPT15","v":0},{"$f":"'[1]11 кл'!DPU15","v":0},{"$f":"'[1]11 кл'!DPV15","v":0},{"$f":"'[1]11 кл'!DPW15","v":0},{"$f":"'[1]11 кл'!DPX15","v":0},{"$f":"'[1]11 кл'!DPY15","v":0},{"$f":"'[1]11 кл'!DPZ15","v":0},{"$f":"'[1]11 кл'!DQA15","v":0},{"$f":"'[1]11 кл'!DQB15","v":0},{"$f":"'[1]11 кл'!DQC15","v":0},{"$f":"'[1]11 кл'!DQD15","v":0},{"$f":"'[1]11 кл'!DQE15","v":0},{"$f":"'[1]11 кл'!DQF15","v":0},{"$f":"'[1]11 кл'!DQG15","v":0},{"$f":"'[1]11 кл'!DQH15","v":0},{"$f":"'[1]11 кл'!DQI15","v":0},{"$f":"'[1]11 кл'!DQJ15","v":0},{"$f":"'[1]11 кл'!DQK15","v":0},{"$f":"'[1]11 кл'!DQL15","v":0},{"$f":"'[1]11 кл'!DQM15","v":0},{"$f":"'[1]11 кл'!DQN15","v":0},{"$f":"'[1]11 кл'!DQO15","v":0},{"$f":"'[1]11 кл'!DQP15","v":0},{"$f":"'[1]11 кл'!DQQ15","v":0},{"$f":"'[1]11 кл'!DQR15","v":0},{"$f":"'[1]11 кл'!DQS15","v":0},{"$f":"'[1]11 кл'!DQT15","v":0},{"$f":"'[1]11 кл'!DQU15","v":0},{"$f":"'[1]11 кл'!DQV15","v":0},{"$f":"'[1]11 кл'!DQW15","v":0},{"$f":"'[1]11 кл'!DQX15","v":0},{"$f":"'[1]11 кл'!DQY15","v":0},{"$f":"'[1]11 кл'!DQZ15","v":0},{"$f":"'[1]11 кл'!DRA15","v":0},{"$f":"'[1]11 кл'!DRB15","v":0},{"$f":"'[1]11 кл'!DRC15","v":0},{"$f":"'[1]11 кл'!DRD15","v":0},{"$f":"'[1]11 кл'!DRE15","v":0},{"$f":"'[1]11 кл'!DRF15","v":0},{"$f":"'[1]11 кл'!DRG15","v":0},{"$f":"'[1]11 кл'!DRH15","v":0},{"$f":"'[1]11 кл'!DRI15","v":0},{"$f":"'[1]11 кл'!DRJ15","v":0},{"$f":"'[1]11 кл'!DRK15","v":0},{"$f":"'[1]11 кл'!DRL15","v":0},{"$f":"'[1]11 кл'!DRM15","v":0},{"$f":"'[1]11 кл'!DRN15","v":0},{"$f":"'[1]11 кл'!DRO15","v":0},{"$f":"'[1]11 кл'!DRP15","v":0},{"$f":"'[1]11 кл'!DRQ15","v":0},{"$f":"'[1]11 кл'!DRR15","v":0},{"$f":"'[1]11 кл'!DRS15","v":0},{"$f":"'[1]11 кл'!DRT15","v":0},{"$f":"'[1]11 кл'!DRU15","v":0},{"$f":"'[1]11 кл'!DRV15","v":0},{"$f":"'[1]11 кл'!DRW15","v":0},{"$f":"'[1]11 кл'!DRX15","v":0},{"$f":"'[1]11 кл'!DRY15","v":0},{"$f":"'[1]11 кл'!DRZ15","v":0},{"$f":"'[1]11 кл'!DSA15","v":0},{"$f":"'[1]11 кл'!DSB15","v":0},{"$f":"'[1]11 кл'!DSC15","v":0},{"$f":"'[1]11 кл'!DSD15","v":0},{"$f":"'[1]11 кл'!DSE15","v":0},{"$f":"'[1]11 кл'!DSF15","v":0},{"$f":"'[1]11 кл'!DSG15","v":0},{"$f":"'[1]11 кл'!DSH15","v":0},{"$f":"'[1]11 кл'!DSI15","v":0},{"$f":"'[1]11 кл'!DSJ15","v":0},{"$f":"'[1]11 кл'!DSK15","v":0},{"$f":"'[1]11 кл'!DSL15","v":0},{"$f":"'[1]11 кл'!DSM15","v":0},{"$f":"'[1]11 кл'!DSN15","v":0},{"$f":"'[1]11 кл'!DSO15","v":0},{"$f":"'[1]11 кл'!DSP15","v":0},{"$f":"'[1]11 кл'!DSQ15","v":0},{"$f":"'[1]11 кл'!DSR15","v":0},{"$f":"'[1]11 кл'!DSS15","v":0},{"$f":"'[1]11 кл'!DST15","v":0},{"$f":"'[1]11 кл'!DSU15","v":0},{"$f":"'[1]11 кл'!DSV15","v":0},{"$f":"'[1]11 кл'!DSW15","v":0},{"$f":"'[1]11 кл'!DSX15","v":0},{"$f":"'[1]11 кл'!DSY15","v":0},{"$f":"'[1]11 кл'!DSZ15","v":0},{"$f":"'[1]11 кл'!DTA15","v":0},{"$f":"'[1]11 кл'!DTB15","v":0},{"$f":"'[1]11 кл'!DTC15","v":0},{"$f":"'[1]11 кл'!DTD15","v":0},{"$f":"'[1]11 кл'!DTE15","v":0},{"$f":"'[1]11 кл'!DTF15","v":0},{"$f":"'[1]11 кл'!DTG15","v":0},{"$f":"'[1]11 кл'!DTH15","v":0},{"$f":"'[1]11 кл'!DTI15","v":0},{"$f":"'[1]11 кл'!DTJ15","v":0},{"$f":"'[1]11 кл'!DTK15","v":0},{"$f":"'[1]11 кл'!DTL15","v":0},{"$f":"'[1]11 кл'!DTM15","v":0},{"$f":"'[1]11 кл'!DTN15","v":0},{"$f":"'[1]11 кл'!DTO15","v":0},{"$f":"'[1]11 кл'!DTP15","v":0},{"$f":"'[1]11 кл'!DTQ15","v":0},{"$f":"'[1]11 кл'!DTR15","v":0},{"$f":"'[1]11 кл'!DTS15","v":0},{"$f":"'[1]11 кл'!DTT15","v":0},{"$f":"'[1]11 кл'!DTU15","v":0},{"$f":"'[1]11 кл'!DTV15","v":0},{"$f":"'[1]11 кл'!DTW15","v":0},{"$f":"'[1]11 кл'!DTX15","v":0},{"$f":"'[1]11 кл'!DTY15","v":0},{"$f":"'[1]11 кл'!DTZ15","v":0},{"$f":"'[1]11 кл'!DUA15","v":0},{"$f":"'[1]11 кл'!DUB15","v":0},{"$f":"'[1]11 кл'!DUC15","v":0},{"$f":"'[1]11 кл'!DUD15","v":0},{"$f":"'[1]11 кл'!DUE15","v":0},{"$f":"'[1]11 кл'!DUF15","v":0},{"$f":"'[1]11 кл'!DUG15","v":0},{"$f":"'[1]11 кл'!DUH15","v":0},{"$f":"'[1]11 кл'!DUI15","v":0},{"$f":"'[1]11 кл'!DUJ15","v":0},{"$f":"'[1]11 кл'!DUK15","v":0},{"$f":"'[1]11 кл'!DUL15","v":0},{"$f":"'[1]11 кл'!DUM15","v":0},{"$f":"'[1]11 кл'!DUN15","v":0},{"$f":"'[1]11 кл'!DUO15","v":0},{"$f":"'[1]11 кл'!DUP15","v":0},{"$f":"'[1]11 кл'!DUQ15","v":0},{"$f":"'[1]11 кл'!DUR15","v":0},{"$f":"'[1]11 кл'!DUS15","v":0},{"$f":"'[1]11 кл'!DUT15","v":0},{"$f":"'[1]11 кл'!DUU15","v":0},{"$f":"'[1]11 кл'!DUV15","v":0},{"$f":"'[1]11 кл'!DUW15","v":0},{"$f":"'[1]11 кл'!DUX15","v":0},{"$f":"'[1]11 кл'!DUY15","v":0},{"$f":"'[1]11 кл'!DUZ15","v":0},{"$f":"'[1]11 кл'!DVA15","v":0},{"$f":"'[1]11 кл'!DVB15","v":0},{"$f":"'[1]11 кл'!DVC15","v":0},{"$f":"'[1]11 кл'!DVD15","v":0},{"$f":"'[1]11 кл'!DVE15","v":0},{"$f":"'[1]11 кл'!DVF15","v":0},{"$f":"'[1]11 кл'!DVG15","v":0},{"$f":"'[1]11 кл'!DVH15","v":0},{"$f":"'[1]11 кл'!DVI15","v":0},{"$f":"'[1]11 кл'!DVJ15","v":0},{"$f":"'[1]11 кл'!DVK15","v":0},{"$f":"'[1]11 кл'!DVL15","v":0},{"$f":"'[1]11 кл'!DVM15","v":0},{"$f":"'[1]11 кл'!DVN15","v":0},{"$f":"'[1]11 кл'!DVO15","v":0},{"$f":"'[1]11 кл'!DVP15","v":0},{"$f":"'[1]11 кл'!DVQ15","v":0},{"$f":"'[1]11 кл'!DVR15","v":0},{"$f":"'[1]11 кл'!DVS15","v":0},{"$f":"'[1]11 кл'!DVT15","v":0},{"$f":"'[1]11 кл'!DVU15","v":0},{"$f":"'[1]11 кл'!DVV15","v":0},{"$f":"'[1]11 кл'!DVW15","v":0},{"$f":"'[1]11 кл'!DVX15","v":0},{"$f":"'[1]11 кл'!DVY15","v":0},{"$f":"'[1]11 кл'!DVZ15","v":0},{"$f":"'[1]11 кл'!DWA15","v":0},{"$f":"'[1]11 кл'!DWB15","v":0},{"$f":"'[1]11 кл'!DWC15","v":0},{"$f":"'[1]11 кл'!DWD15","v":0},{"$f":"'[1]11 кл'!DWE15","v":0},{"$f":"'[1]11 кл'!DWF15","v":0},{"$f":"'[1]11 кл'!DWG15","v":0},{"$f":"'[1]11 кл'!DWH15","v":0},{"$f":"'[1]11 кл'!DWI15","v":0},{"$f":"'[1]11 кл'!DWJ15","v":0},{"$f":"'[1]11 кл'!DWK15","v":0},{"$f":"'[1]11 кл'!DWL15","v":0},{"$f":"'[1]11 кл'!DWM15","v":0},{"$f":"'[1]11 кл'!DWN15","v":0},{"$f":"'[1]11 кл'!DWO15","v":0},{"$f":"'[1]11 кл'!DWP15","v":0},{"$f":"'[1]11 кл'!DWQ15","v":0},{"$f":"'[1]11 кл'!DWR15","v":0},{"$f":"'[1]11 кл'!DWS15","v":0},{"$f":"'[1]11 кл'!DWT15","v":0},{"$f":"'[1]11 кл'!DWU15","v":0},{"$f":"'[1]11 кл'!DWV15","v":0},{"$f":"'[1]11 кл'!DWW15","v":0},{"$f":"'[1]11 кл'!DWX15","v":0},{"$f":"'[1]11 кл'!DWY15","v":0},{"$f":"'[1]11 кл'!DWZ15","v":0},{"$f":"'[1]11 кл'!DXA15","v":0},{"$f":"'[1]11 кл'!DXB15","v":0},{"$f":"'[1]11 кл'!DXC15","v":0},{"$f":"'[1]11 кл'!DXD15","v":0},{"$f":"'[1]11 кл'!DXE15","v":0},{"$f":"'[1]11 кл'!DXF15","v":0},{"$f":"'[1]11 кл'!DXG15","v":0},{"$f":"'[1]11 кл'!DXH15","v":0},{"$f":"'[1]11 кл'!DXI15","v":0},{"$f":"'[1]11 кл'!DXJ15","v":0},{"$f":"'[1]11 кл'!DXK15","v":0},{"$f":"'[1]11 кл'!DXL15","v":0},{"$f":"'[1]11 кл'!DXM15","v":0},{"$f":"'[1]11 кл'!DXN15","v":0},{"$f":"'[1]11 кл'!DXO15","v":0},{"$f":"'[1]11 кл'!DXP15","v":0},{"$f":"'[1]11 кл'!DXQ15","v":0},{"$f":"'[1]11 кл'!DXR15","v":0},{"$f":"'[1]11 кл'!DXS15","v":0},{"$f":"'[1]11 кл'!DXT15","v":0},{"$f":"'[1]11 кл'!DXU15","v":0},{"$f":"'[1]11 кл'!DXV15","v":0},{"$f":"'[1]11 кл'!DXW15","v":0},{"$f":"'[1]11 кл'!DXX15","v":0},{"$f":"'[1]11 кл'!DXY15","v":0},{"$f":"'[1]11 кл'!DXZ15","v":0},{"$f":"'[1]11 кл'!DYA15","v":0},{"$f":"'[1]11 кл'!DYB15","v":0},{"$f":"'[1]11 кл'!DYC15","v":0},{"$f":"'[1]11 кл'!DYD15","v":0},{"$f":"'[1]11 кл'!DYE15","v":0},{"$f":"'[1]11 кл'!DYF15","v":0},{"$f":"'[1]11 кл'!DYG15","v":0},{"$f":"'[1]11 кл'!DYH15","v":0},{"$f":"'[1]11 кл'!DYI15","v":0},{"$f":"'[1]11 кл'!DYJ15","v":0},{"$f":"'[1]11 кл'!DYK15","v":0},{"$f":"'[1]11 кл'!DYL15","v":0},{"$f":"'[1]11 кл'!DYM15","v":0},{"$f":"'[1]11 кл'!DYN15","v":0},{"$f":"'[1]11 кл'!DYO15","v":0},{"$f":"'[1]11 кл'!DYP15","v":0},{"$f":"'[1]11 кл'!DYQ15","v":0},{"$f":"'[1]11 кл'!DYR15","v":0},{"$f":"'[1]11 кл'!DYS15","v":0},{"$f":"'[1]11 кл'!DYT15","v":0},{"$f":"'[1]11 кл'!DYU15","v":0},{"$f":"'[1]11 кл'!DYV15","v":0},{"$f":"'[1]11 кл'!DYW15","v":0},{"$f":"'[1]11 кл'!DYX15","v":0},{"$f":"'[1]11 кл'!DYY15","v":0},{"$f":"'[1]11 кл'!DYZ15","v":0},{"$f":"'[1]11 кл'!DZA15","v":0},{"$f":"'[1]11 кл'!DZB15","v":0},{"$f":"'[1]11 кл'!DZC15","v":0},{"$f":"'[1]11 кл'!DZD15","v":0},{"$f":"'[1]11 кл'!DZE15","v":0},{"$f":"'[1]11 кл'!DZF15","v":0},{"$f":"'[1]11 кл'!DZG15","v":0},{"$f":"'[1]11 кл'!DZH15","v":0},{"$f":"'[1]11 кл'!DZI15","v":0},{"$f":"'[1]11 кл'!DZJ15","v":0},{"$f":"'[1]11 кл'!DZK15","v":0},{"$f":"'[1]11 кл'!DZL15","v":0},{"$f":"'[1]11 кл'!DZM15","v":0},{"$f":"'[1]11 кл'!DZN15","v":0},{"$f":"'[1]11 кл'!DZO15","v":0},{"$f":"'[1]11 кл'!DZP15","v":0},{"$f":"'[1]11 кл'!DZQ15","v":0},{"$f":"'[1]11 кл'!DZR15","v":0},{"$f":"'[1]11 кл'!DZS15","v":0},{"$f":"'[1]11 кл'!DZT15","v":0},{"$f":"'[1]11 кл'!DZU15","v":0},{"$f":"'[1]11 кл'!DZV15","v":0},{"$f":"'[1]11 кл'!DZW15","v":0},{"$f":"'[1]11 кл'!DZX15","v":0},{"$f":"'[1]11 кл'!DZY15","v":0},{"$f":"'[1]11 кл'!DZZ15","v":0},{"$f":"'[1]11 кл'!EAA15","v":0},{"$f":"'[1]11 кл'!EAB15","v":0},{"$f":"'[1]11 кл'!EAC15","v":0},{"$f":"'[1]11 кл'!EAD15","v":0},{"$f":"'[1]11 кл'!EAE15","v":0},{"$f":"'[1]11 кл'!EAF15","v":0},{"$f":"'[1]11 кл'!EAG15","v":0},{"$f":"'[1]11 кл'!EAH15","v":0},{"$f":"'[1]11 кл'!EAI15","v":0},{"$f":"'[1]11 кл'!EAJ15","v":0},{"$f":"'[1]11 кл'!EAK15","v":0},{"$f":"'[1]11 кл'!EAL15","v":0},{"$f":"'[1]11 кл'!EAM15","v":0},{"$f":"'[1]11 кл'!EAN15","v":0},{"$f":"'[1]11 кл'!EAO15","v":0},{"$f":"'[1]11 кл'!EAP15","v":0},{"$f":"'[1]11 кл'!EAQ15","v":0},{"$f":"'[1]11 кл'!EAR15","v":0},{"$f":"'[1]11 кл'!EAS15","v":0},{"$f":"'[1]11 кл'!EAT15","v":0},{"$f":"'[1]11 кл'!EAU15","v":0},{"$f":"'[1]11 кл'!EAV15","v":0},{"$f":"'[1]11 кл'!EAW15","v":0},{"$f":"'[1]11 кл'!EAX15","v":0},{"$f":"'[1]11 кл'!EAY15","v":0},{"$f":"'[1]11 кл'!EAZ15","v":0},{"$f":"'[1]11 кл'!EBA15","v":0},{"$f":"'[1]11 кл'!EBB15","v":0},{"$f":"'[1]11 кл'!EBC15","v":0},{"$f":"'[1]11 кл'!EBD15","v":0},{"$f":"'[1]11 кл'!EBE15","v":0},{"$f":"'[1]11 кл'!EBF15","v":0},{"$f":"'[1]11 кл'!EBG15","v":0},{"$f":"'[1]11 кл'!EBH15","v":0},{"$f":"'[1]11 кл'!EBI15","v":0},{"$f":"'[1]11 кл'!EBJ15","v":0},{"$f":"'[1]11 кл'!EBK15","v":0},{"$f":"'[1]11 кл'!EBL15","v":0},{"$f":"'[1]11 кл'!EBM15","v":0},{"$f":"'[1]11 кл'!EBN15","v":0},{"$f":"'[1]11 кл'!EBO15","v":0},{"$f":"'[1]11 кл'!EBP15","v":0},{"$f":"'[1]11 кл'!EBQ15","v":0},{"$f":"'[1]11 кл'!EBR15","v":0},{"$f":"'[1]11 кл'!EBS15","v":0},{"$f":"'[1]11 кл'!EBT15","v":0},{"$f":"'[1]11 кл'!EBU15","v":0},{"$f":"'[1]11 кл'!EBV15","v":0},{"$f":"'[1]11 кл'!EBW15","v":0},{"$f":"'[1]11 кл'!EBX15","v":0},{"$f":"'[1]11 кл'!EBY15","v":0},{"$f":"'[1]11 кл'!EBZ15","v":0},{"$f":"'[1]11 кл'!ECA15","v":0},{"$f":"'[1]11 кл'!ECB15","v":0},{"$f":"'[1]11 кл'!ECC15","v":0},{"$f":"'[1]11 кл'!ECD15","v":0},{"$f":"'[1]11 кл'!ECE15","v":0},{"$f":"'[1]11 кл'!ECF15","v":0},{"$f":"'[1]11 кл'!ECG15","v":0},{"$f":"'[1]11 кл'!ECH15","v":0},{"$f":"'[1]11 кл'!ECI15","v":0},{"$f":"'[1]11 кл'!ECJ15","v":0},{"$f":"'[1]11 кл'!ECK15","v":0},{"$f":"'[1]11 кл'!ECL15","v":0},{"$f":"'[1]11 кл'!ECM15","v":0},{"$f":"'[1]11 кл'!ECN15","v":0},{"$f":"'[1]11 кл'!ECO15","v":0},{"$f":"'[1]11 кл'!ECP15","v":0},{"$f":"'[1]11 кл'!ECQ15","v":0},{"$f":"'[1]11 кл'!ECR15","v":0},{"$f":"'[1]11 кл'!ECS15","v":0},{"$f":"'[1]11 кл'!ECT15","v":0},{"$f":"'[1]11 кл'!ECU15","v":0},{"$f":"'[1]11 кл'!ECV15","v":0},{"$f":"'[1]11 кл'!ECW15","v":0},{"$f":"'[1]11 кл'!ECX15","v":0},{"$f":"'[1]11 кл'!ECY15","v":0},{"$f":"'[1]11 кл'!ECZ15","v":0},{"$f":"'[1]11 кл'!EDA15","v":0},{"$f":"'[1]11 кл'!EDB15","v":0},{"$f":"'[1]11 кл'!EDC15","v":0},{"$f":"'[1]11 кл'!EDD15","v":0},{"$f":"'[1]11 кл'!EDE15","v":0},{"$f":"'[1]11 кл'!EDF15","v":0},{"$f":"'[1]11 кл'!EDG15","v":0},{"$f":"'[1]11 кл'!EDH15","v":0},{"$f":"'[1]11 кл'!EDI15","v":0},{"$f":"'[1]11 кл'!EDJ15","v":0},{"$f":"'[1]11 кл'!EDK15","v":0},{"$f":"'[1]11 кл'!EDL15","v":0},{"$f":"'[1]11 кл'!EDM15","v":0},{"$f":"'[1]11 кл'!EDN15","v":0},{"$f":"'[1]11 кл'!EDO15","v":0},{"$f":"'[1]11 кл'!EDP15","v":0},{"$f":"'[1]11 кл'!EDQ15","v":0},{"$f":"'[1]11 кл'!EDR15","v":0},{"$f":"'[1]11 кл'!EDS15","v":0},{"$f":"'[1]11 кл'!EDT15","v":0},{"$f":"'[1]11 кл'!EDU15","v":0},{"$f":"'[1]11 кл'!EDV15","v":0},{"$f":"'[1]11 кл'!EDW15","v":0},{"$f":"'[1]11 кл'!EDX15","v":0},{"$f":"'[1]11 кл'!EDY15","v":0},{"$f":"'[1]11 кл'!EDZ15","v":0},{"$f":"'[1]11 кл'!EEA15","v":0},{"$f":"'[1]11 кл'!EEB15","v":0},{"$f":"'[1]11 кл'!EEC15","v":0},{"$f":"'[1]11 кл'!EED15","v":0},{"$f":"'[1]11 кл'!EEE15","v":0},{"$f":"'[1]11 кл'!EEF15","v":0},{"$f":"'[1]11 кл'!EEG15","v":0},{"$f":"'[1]11 кл'!EEH15","v":0},{"$f":"'[1]11 кл'!EEI15","v":0},{"$f":"'[1]11 кл'!EEJ15","v":0},{"$f":"'[1]11 кл'!EEK15","v":0},{"$f":"'[1]11 кл'!EEL15","v":0},{"$f":"'[1]11 кл'!EEM15","v":0},{"$f":"'[1]11 кл'!EEN15","v":0},{"$f":"'[1]11 кл'!EEO15","v":0},{"$f":"'[1]11 кл'!EEP15","v":0},{"$f":"'[1]11 кл'!EEQ15","v":0},{"$f":"'[1]11 кл'!EER15","v":0},{"$f":"'[1]11 кл'!EES15","v":0},{"$f":"'[1]11 кл'!EET15","v":0},{"$f":"'[1]11 кл'!EEU15","v":0},{"$f":"'[1]11 кл'!EEV15","v":0},{"$f":"'[1]11 кл'!EEW15","v":0},{"$f":"'[1]11 кл'!EEX15","v":0},{"$f":"'[1]11 кл'!EEY15","v":0},{"$f":"'[1]11 кл'!EEZ15","v":0},{"$f":"'[1]11 кл'!EFA15","v":0},{"$f":"'[1]11 кл'!EFB15","v":0},{"$f":"'[1]11 кл'!EFC15","v":0},{"$f":"'[1]11 кл'!EFD15","v":0},{"$f":"'[1]11 кл'!EFE15","v":0},{"$f":"'[1]11 кл'!EFF15","v":0},{"$f":"'[1]11 кл'!EFG15","v":0},{"$f":"'[1]11 кл'!EFH15","v":0},{"$f":"'[1]11 кл'!EFI15","v":0},{"$f":"'[1]11 кл'!EFJ15","v":0},{"$f":"'[1]11 кл'!EFK15","v":0},{"$f":"'[1]11 кл'!EFL15","v":0},{"$f":"'[1]11 кл'!EFM15","v":0},{"$f":"'[1]11 кл'!EFN15","v":0},{"$f":"'[1]11 кл'!EFO15","v":0},{"$f":"'[1]11 кл'!EFP15","v":0},{"$f":"'[1]11 кл'!EFQ15","v":0},{"$f":"'[1]11 кл'!EFR15","v":0},{"$f":"'[1]11 кл'!EFS15","v":0},{"$f":"'[1]11 кл'!EFT15","v":0},{"$f":"'[1]11 кл'!EFU15","v":0},{"$f":"'[1]11 кл'!EFV15","v":0},{"$f":"'[1]11 кл'!EFW15","v":0},{"$f":"'[1]11 кл'!EFX15","v":0},{"$f":"'[1]11 кл'!EFY15","v":0},{"$f":"'[1]11 кл'!EFZ15","v":0},{"$f":"'[1]11 кл'!EGA15","v":0},{"$f":"'[1]11 кл'!EGB15","v":0},{"$f":"'[1]11 кл'!EGC15","v":0},{"$f":"'[1]11 кл'!EGD15","v":0},{"$f":"'[1]11 кл'!EGE15","v":0},{"$f":"'[1]11 кл'!EGF15","v":0},{"$f":"'[1]11 кл'!EGG15","v":0},{"$f":"'[1]11 кл'!EGH15","v":0},{"$f":"'[1]11 кл'!EGI15","v":0},{"$f":"'[1]11 кл'!EGJ15","v":0},{"$f":"'[1]11 кл'!EGK15","v":0},{"$f":"'[1]11 кл'!EGL15","v":0},{"$f":"'[1]11 кл'!EGM15","v":0},{"$f":"'[1]11 кл'!EGN15","v":0},{"$f":"'[1]11 кл'!EGO15","v":0},{"$f":"'[1]11 кл'!EGP15","v":0},{"$f":"'[1]11 кл'!EGQ15","v":0},{"$f":"'[1]11 кл'!EGR15","v":0},{"$f":"'[1]11 кл'!EGS15","v":0},{"$f":"'[1]11 кл'!EGT15","v":0},{"$f":"'[1]11 кл'!EGU15","v":0},{"$f":"'[1]11 кл'!EGV15","v":0},{"$f":"'[1]11 кл'!EGW15","v":0},{"$f":"'[1]11 кл'!EGX15","v":0},{"$f":"'[1]11 кл'!EGY15","v":0},{"$f":"'[1]11 кл'!EGZ15","v":0},{"$f":"'[1]11 кл'!EHA15","v":0},{"$f":"'[1]11 кл'!EHB15","v":0},{"$f":"'[1]11 кл'!EHC15","v":0},{"$f":"'[1]11 кл'!EHD15","v":0},{"$f":"'[1]11 кл'!EHE15","v":0},{"$f":"'[1]11 кл'!EHF15","v":0},{"$f":"'[1]11 кл'!EHG15","v":0},{"$f":"'[1]11 кл'!EHH15","v":0},{"$f":"'[1]11 кл'!EHI15","v":0},{"$f":"'[1]11 кл'!EHJ15","v":0},{"$f":"'[1]11 кл'!EHK15","v":0},{"$f":"'[1]11 кл'!EHL15","v":0},{"$f":"'[1]11 кл'!EHM15","v":0},{"$f":"'[1]11 кл'!EHN15","v":0},{"$f":"'[1]11 кл'!EHO15","v":0},{"$f":"'[1]11 кл'!EHP15","v":0},{"$f":"'[1]11 кл'!EHQ15","v":0},{"$f":"'[1]11 кл'!EHR15","v":0},{"$f":"'[1]11 кл'!EHS15","v":0},{"$f":"'[1]11 кл'!EHT15","v":0},{"$f":"'[1]11 кл'!EHU15","v":0},{"$f":"'[1]11 кл'!EHV15","v":0},{"$f":"'[1]11 кл'!EHW15","v":0},{"$f":"'[1]11 кл'!EHX15","v":0},{"$f":"'[1]11 кл'!EHY15","v":0},{"$f":"'[1]11 кл'!EHZ15","v":0},{"$f":"'[1]11 кл'!EIA15","v":0},{"$f":"'[1]11 кл'!EIB15","v":0},{"$f":"'[1]11 кл'!EIC15","v":0},{"$f":"'[1]11 кл'!EID15","v":0},{"$f":"'[1]11 кл'!EIE15","v":0},{"$f":"'[1]11 кл'!EIF15","v":0},{"$f":"'[1]11 кл'!EIG15","v":0},{"$f":"'[1]11 кл'!EIH15","v":0},{"$f":"'[1]11 кл'!EII15","v":0},{"$f":"'[1]11 кл'!EIJ15","v":0},{"$f":"'[1]11 кл'!EIK15","v":0},{"$f":"'[1]11 кл'!EIL15","v":0},{"$f":"'[1]11 кл'!EIM15","v":0},{"$f":"'[1]11 кл'!EIN15","v":0},{"$f":"'[1]11 кл'!EIO15","v":0},{"$f":"'[1]11 кл'!EIP15","v":0},{"$f":"'[1]11 кл'!EIQ15","v":0},{"$f":"'[1]11 кл'!EIR15","v":0},{"$f":"'[1]11 кл'!EIS15","v":0},{"$f":"'[1]11 кл'!EIT15","v":0},{"$f":"'[1]11 кл'!EIU15","v":0},{"$f":"'[1]11 кл'!EIV15","v":0},{"$f":"'[1]11 кл'!EIW15","v":0},{"$f":"'[1]11 кл'!EIX15","v":0},{"$f":"'[1]11 кл'!EIY15","v":0},{"$f":"'[1]11 кл'!EIZ15","v":0},{"$f":"'[1]11 кл'!EJA15","v":0},{"$f":"'[1]11 кл'!EJB15","v":0},{"$f":"'[1]11 кл'!EJC15","v":0},{"$f":"'[1]11 кл'!EJD15","v":0},{"$f":"'[1]11 кл'!EJE15","v":0},{"$f":"'[1]11 кл'!EJF15","v":0},{"$f":"'[1]11 кл'!EJG15","v":0},{"$f":"'[1]11 кл'!EJH15","v":0},{"$f":"'[1]11 кл'!EJI15","v":0},{"$f":"'[1]11 кл'!EJJ15","v":0},{"$f":"'[1]11 кл'!EJK15","v":0},{"$f":"'[1]11 кл'!EJL15","v":0},{"$f":"'[1]11 кл'!EJM15","v":0},{"$f":"'[1]11 кл'!EJN15","v":0},{"$f":"'[1]11 кл'!EJO15","v":0},{"$f":"'[1]11 кл'!EJP15","v":0},{"$f":"'[1]11 кл'!EJQ15","v":0},{"$f":"'[1]11 кл'!EJR15","v":0},{"$f":"'[1]11 кл'!EJS15","v":0},{"$f":"'[1]11 кл'!EJT15","v":0},{"$f":"'[1]11 кл'!EJU15","v":0},{"$f":"'[1]11 кл'!EJV15","v":0},{"$f":"'[1]11 кл'!EJW15","v":0},{"$f":"'[1]11 кл'!EJX15","v":0},{"$f":"'[1]11 кл'!EJY15","v":0},{"$f":"'[1]11 кл'!EJZ15","v":0},{"$f":"'[1]11 кл'!EKA15","v":0},{"$f":"'[1]11 кл'!EKB15","v":0},{"$f":"'[1]11 кл'!EKC15","v":0},{"$f":"'[1]11 кл'!EKD15","v":0},{"$f":"'[1]11 кл'!EKE15","v":0},{"$f":"'[1]11 кл'!EKF15","v":0},{"$f":"'[1]11 кл'!EKG15","v":0},{"$f":"'[1]11 кл'!EKH15","v":0},{"$f":"'[1]11 кл'!EKI15","v":0},{"$f":"'[1]11 кл'!EKJ15","v":0},{"$f":"'[1]11 кл'!EKK15","v":0},{"$f":"'[1]11 кл'!EKL15","v":0},{"$f":"'[1]11 кл'!EKM15","v":0},{"$f":"'[1]11 кл'!EKN15","v":0},{"$f":"'[1]11 кл'!EKO15","v":0},{"$f":"'[1]11 кл'!EKP15","v":0},{"$f":"'[1]11 кл'!EKQ15","v":0},{"$f":"'[1]11 кл'!EKR15","v":0},{"$f":"'[1]11 кл'!EKS15","v":0},{"$f":"'[1]11 кл'!EKT15","v":0},{"$f":"'[1]11 кл'!EKU15","v":0},{"$f":"'[1]11 кл'!EKV15","v":0},{"$f":"'[1]11 кл'!EKW15","v":0},{"$f":"'[1]11 кл'!EKX15","v":0},{"$f":"'[1]11 кл'!EKY15","v":0},{"$f":"'[1]11 кл'!EKZ15","v":0},{"$f":"'[1]11 кл'!ELA15","v":0},{"$f":"'[1]11 кл'!ELB15","v":0},{"$f":"'[1]11 кл'!ELC15","v":0},{"$f":"'[1]11 кл'!ELD15","v":0},{"$f":"'[1]11 кл'!ELE15","v":0},{"$f":"'[1]11 кл'!ELF15","v":0},{"$f":"'[1]11 кл'!ELG15","v":0},{"$f":"'[1]11 кл'!ELH15","v":0},{"$f":"'[1]11 кл'!ELI15","v":0},{"$f":"'[1]11 кл'!ELJ15","v":0},{"$f":"'[1]11 кл'!ELK15","v":0},{"$f":"'[1]11 кл'!ELL15","v":0},{"$f":"'[1]11 кл'!ELM15","v":0},{"$f":"'[1]11 кл'!ELN15","v":0},{"$f":"'[1]11 кл'!ELO15","v":0},{"$f":"'[1]11 кл'!ELP15","v":0},{"$f":"'[1]11 кл'!ELQ15","v":0},{"$f":"'[1]11 кл'!ELR15","v":0},{"$f":"'[1]11 кл'!ELS15","v":0},{"$f":"'[1]11 кл'!ELT15","v":0},{"$f":"'[1]11 кл'!ELU15","v":0},{"$f":"'[1]11 кл'!ELV15","v":0},{"$f":"'[1]11 кл'!ELW15","v":0},{"$f":"'[1]11 кл'!ELX15","v":0},{"$f":"'[1]11 кл'!ELY15","v":0},{"$f":"'[1]11 кл'!ELZ15","v":0},{"$f":"'[1]11 кл'!EMA15","v":0},{"$f":"'[1]11 кл'!EMB15","v":0},{"$f":"'[1]11 кл'!EMC15","v":0},{"$f":"'[1]11 кл'!EMD15","v":0},{"$f":"'[1]11 кл'!EME15","v":0},{"$f":"'[1]11 кл'!EMF15","v":0},{"$f":"'[1]11 кл'!EMG15","v":0},{"$f":"'[1]11 кл'!EMH15","v":0},{"$f":"'[1]11 кл'!EMI15","v":0},{"$f":"'[1]11 кл'!EMJ15","v":0},{"$f":"'[1]11 кл'!EMK15","v":0},{"$f":"'[1]11 кл'!EML15","v":0},{"$f":"'[1]11 кл'!EMM15","v":0},{"$f":"'[1]11 кл'!EMN15","v":0},{"$f":"'[1]11 кл'!EMO15","v":0},{"$f":"'[1]11 кл'!EMP15","v":0},{"$f":"'[1]11 кл'!EMQ15","v":0},{"$f":"'[1]11 кл'!EMR15","v":0},{"$f":"'[1]11 кл'!EMS15","v":0},{"$f":"'[1]11 кл'!EMT15","v":0},{"$f":"'[1]11 кл'!EMU15","v":0},{"$f":"'[1]11 кл'!EMV15","v":0},{"$f":"'[1]11 кл'!EMW15","v":0},{"$f":"'[1]11 кл'!EMX15","v":0},{"$f":"'[1]11 кл'!EMY15","v":0},{"$f":"'[1]11 кл'!EMZ15","v":0},{"$f":"'[1]11 кл'!ENA15","v":0},{"$f":"'[1]11 кл'!ENB15","v":0},{"$f":"'[1]11 кл'!ENC15","v":0},{"$f":"'[1]11 кл'!END15","v":0},{"$f":"'[1]11 кл'!ENE15","v":0},{"$f":"'[1]11 кл'!ENF15","v":0},{"$f":"'[1]11 кл'!ENG15","v":0},{"$f":"'[1]11 кл'!ENH15","v":0},{"$f":"'[1]11 кл'!ENI15","v":0},{"$f":"'[1]11 кл'!ENJ15","v":0},{"$f":"'[1]11 кл'!ENK15","v":0},{"$f":"'[1]11 кл'!ENL15","v":0},{"$f":"'[1]11 кл'!ENM15","v":0},{"$f":"'[1]11 кл'!ENN15","v":0},{"$f":"'[1]11 кл'!ENO15","v":0},{"$f":"'[1]11 кл'!ENP15","v":0},{"$f":"'[1]11 кл'!ENQ15","v":0},{"$f":"'[1]11 кл'!ENR15","v":0},{"$f":"'[1]11 кл'!ENS15","v":0},{"$f":"'[1]11 кл'!ENT15","v":0},{"$f":"'[1]11 кл'!ENU15","v":0},{"$f":"'[1]11 кл'!ENV15","v":0},{"$f":"'[1]11 кл'!ENW15","v":0},{"$f":"'[1]11 кл'!ENX15","v":0},{"$f":"'[1]11 кл'!ENY15","v":0},{"$f":"'[1]11 кл'!ENZ15","v":0},{"$f":"'[1]11 кл'!EOA15","v":0},{"$f":"'[1]11 кл'!EOB15","v":0},{"$f":"'[1]11 кл'!EOC15","v":0},{"$f":"'[1]11 кл'!EOD15","v":0},{"$f":"'[1]11 кл'!EOE15","v":0},{"$f":"'[1]11 кл'!EOF15","v":0},{"$f":"'[1]11 кл'!EOG15","v":0},{"$f":"'[1]11 кл'!EOH15","v":0},{"$f":"'[1]11 кл'!EOI15","v":0},{"$f":"'[1]11 кл'!EOJ15","v":0},{"$f":"'[1]11 кл'!EOK15","v":0},{"$f":"'[1]11 кл'!EOL15","v":0},{"$f":"'[1]11 кл'!EOM15","v":0},{"$f":"'[1]11 кл'!EON15","v":0},{"$f":"'[1]11 кл'!EOO15","v":0},{"$f":"'[1]11 кл'!EOP15","v":0},{"$f":"'[1]11 кл'!EOQ15","v":0},{"$f":"'[1]11 кл'!EOR15","v":0},{"$f":"'[1]11 кл'!EOS15","v":0},{"$f":"'[1]11 кл'!EOT15","v":0},{"$f":"'[1]11 кл'!EOU15","v":0},{"$f":"'[1]11 кл'!EOV15","v":0},{"$f":"'[1]11 кл'!EOW15","v":0},{"$f":"'[1]11 кл'!EOX15","v":0},{"$f":"'[1]11 кл'!EOY15","v":0},{"$f":"'[1]11 кл'!EOZ15","v":0},{"$f":"'[1]11 кл'!EPA15","v":0},{"$f":"'[1]11 кл'!EPB15","v":0},{"$f":"'[1]11 кл'!EPC15","v":0},{"$f":"'[1]11 кл'!EPD15","v":0},{"$f":"'[1]11 кл'!EPE15","v":0},{"$f":"'[1]11 кл'!EPF15","v":0},{"$f":"'[1]11 кл'!EPG15","v":0},{"$f":"'[1]11 кл'!EPH15","v":0},{"$f":"'[1]11 кл'!EPI15","v":0},{"$f":"'[1]11 кл'!EPJ15","v":0},{"$f":"'[1]11 кл'!EPK15","v":0},{"$f":"'[1]11 кл'!EPL15","v":0},{"$f":"'[1]11 кл'!EPM15","v":0},{"$f":"'[1]11 кл'!EPN15","v":0},{"$f":"'[1]11 кл'!EPO15","v":0},{"$f":"'[1]11 кл'!EPP15","v":0},{"$f":"'[1]11 кл'!EPQ15","v":0},{"$f":"'[1]11 кл'!EPR15","v":0},{"$f":"'[1]11 кл'!EPS15","v":0},{"$f":"'[1]11 кл'!EPT15","v":0},{"$f":"'[1]11 кл'!EPU15","v":0},{"$f":"'[1]11 кл'!EPV15","v":0},{"$f":"'[1]11 кл'!EPW15","v":0},{"$f":"'[1]11 кл'!EPX15","v":0},{"$f":"'[1]11 кл'!EPY15","v":0},{"$f":"'[1]11 кл'!EPZ15","v":0},{"$f":"'[1]11 кл'!EQA15","v":0},{"$f":"'[1]11 кл'!EQB15","v":0},{"$f":"'[1]11 кл'!EQC15","v":0},{"$f":"'[1]11 кл'!EQD15","v":0},{"$f":"'[1]11 кл'!EQE15","v":0},{"$f":"'[1]11 кл'!EQF15","v":0},{"$f":"'[1]11 кл'!EQG15","v":0},{"$f":"'[1]11 кл'!EQH15","v":0},{"$f":"'[1]11 кл'!EQI15","v":0},{"$f":"'[1]11 кл'!EQJ15","v":0},{"$f":"'[1]11 кл'!EQK15","v":0},{"$f":"'[1]11 кл'!EQL15","v":0},{"$f":"'[1]11 кл'!EQM15","v":0},{"$f":"'[1]11 кл'!EQN15","v":0},{"$f":"'[1]11 кл'!EQO15","v":0},{"$f":"'[1]11 кл'!EQP15","v":0},{"$f":"'[1]11 кл'!EQQ15","v":0},{"$f":"'[1]11 кл'!EQR15","v":0},{"$f":"'[1]11 кл'!EQS15","v":0},{"$f":"'[1]11 кл'!EQT15","v":0},{"$f":"'[1]11 кл'!EQU15","v":0},{"$f":"'[1]11 кл'!EQV15","v":0},{"$f":"'[1]11 кл'!EQW15","v":0},{"$f":"'[1]11 кл'!EQX15","v":0},{"$f":"'[1]11 кл'!EQY15","v":0},{"$f":"'[1]11 кл'!EQZ15","v":0},{"$f":"'[1]11 кл'!ERA15","v":0},{"$f":"'[1]11 кл'!ERB15","v":0},{"$f":"'[1]11 кл'!ERC15","v":0},{"$f":"'[1]11 кл'!ERD15","v":0},{"$f":"'[1]11 кл'!ERE15","v":0},{"$f":"'[1]11 кл'!ERF15","v":0},{"$f":"'[1]11 кл'!ERG15","v":0},{"$f":"'[1]11 кл'!ERH15","v":0},{"$f":"'[1]11 кл'!ERI15","v":0},{"$f":"'[1]11 кл'!ERJ15","v":0},{"$f":"'[1]11 кл'!ERK15","v":0},{"$f":"'[1]11 кл'!ERL15","v":0},{"$f":"'[1]11 кл'!ERM15","v":0},{"$f":"'[1]11 кл'!ERN15","v":0},{"$f":"'[1]11 кл'!ERO15","v":0},{"$f":"'[1]11 кл'!ERP15","v":0},{"$f":"'[1]11 кл'!ERQ15","v":0},{"$f":"'[1]11 кл'!ERR15","v":0},{"$f":"'[1]11 кл'!ERS15","v":0},{"$f":"'[1]11 кл'!ERT15","v":0},{"$f":"'[1]11 кл'!ERU15","v":0},{"$f":"'[1]11 кл'!ERV15","v":0},{"$f":"'[1]11 кл'!ERW15","v":0},{"$f":"'[1]11 кл'!ERX15","v":0},{"$f":"'[1]11 кл'!ERY15","v":0},{"$f":"'[1]11 кл'!ERZ15","v":0},{"$f":"'[1]11 кл'!ESA15","v":0},{"$f":"'[1]11 кл'!ESB15","v":0},{"$f":"'[1]11 кл'!ESC15","v":0},{"$f":"'[1]11 кл'!ESD15","v":0},{"$f":"'[1]11 кл'!ESE15","v":0},{"$f":"'[1]11 кл'!ESF15","v":0},{"$f":"'[1]11 кл'!ESG15","v":0},{"$f":"'[1]11 кл'!ESH15","v":0},{"$f":"'[1]11 кл'!ESI15","v":0},{"$f":"'[1]11 кл'!ESJ15","v":0},{"$f":"'[1]11 кл'!ESK15","v":0},{"$f":"'[1]11 кл'!ESL15","v":0},{"$f":"'[1]11 кл'!ESM15","v":0},{"$f":"'[1]11 кл'!ESN15","v":0},{"$f":"'[1]11 кл'!ESO15","v":0},{"$f":"'[1]11 кл'!ESP15","v":0},{"$f":"'[1]11 кл'!ESQ15","v":0},{"$f":"'[1]11 кл'!ESR15","v":0},{"$f":"'[1]11 кл'!ESS15","v":0},{"$f":"'[1]11 кл'!EST15","v":0},{"$f":"'[1]11 кл'!ESU15","v":0},{"$f":"'[1]11 кл'!ESV15","v":0},{"$f":"'[1]11 кл'!ESW15","v":0},{"$f":"'[1]11 кл'!ESX15","v":0},{"$f":"'[1]11 кл'!ESY15","v":0},{"$f":"'[1]11 кл'!ESZ15","v":0},{"$f":"'[1]11 кл'!ETA15","v":0},{"$f":"'[1]11 кл'!ETB15","v":0},{"$f":"'[1]11 кл'!ETC15","v":0},{"$f":"'[1]11 кл'!ETD15","v":0},{"$f":"'[1]11 кл'!ETE15","v":0},{"$f":"'[1]11 кл'!ETF15","v":0},{"$f":"'[1]11 кл'!ETG15","v":0},{"$f":"'[1]11 кл'!ETH15","v":0},{"$f":"'[1]11 кл'!ETI15","v":0},{"$f":"'[1]11 кл'!ETJ15","v":0},{"$f":"'[1]11 кл'!ETK15","v":0},{"$f":"'[1]11 кл'!ETL15","v":0},{"$f":"'[1]11 кл'!ETM15","v":0},{"$f":"'[1]11 кл'!ETN15","v":0},{"$f":"'[1]11 кл'!ETO15","v":0},{"$f":"'[1]11 кл'!ETP15","v":0},{"$f":"'[1]11 кл'!ETQ15","v":0},{"$f":"'[1]11 кл'!ETR15","v":0},{"$f":"'[1]11 кл'!ETS15","v":0},{"$f":"'[1]11 кл'!ETT15","v":0},{"$f":"'[1]11 кл'!ETU15","v":0},{"$f":"'[1]11 кл'!ETV15","v":0},{"$f":"'[1]11 кл'!ETW15","v":0},{"$f":"'[1]11 кл'!ETX15","v":0},{"$f":"'[1]11 кл'!ETY15","v":0},{"$f":"'[1]11 кл'!ETZ15","v":0},{"$f":"'[1]11 кл'!EUA15","v":0},{"$f":"'[1]11 кл'!EUB15","v":0},{"$f":"'[1]11 кл'!EUC15","v":0},{"$f":"'[1]11 кл'!EUD15","v":0},{"$f":"'[1]11 кл'!EUE15","v":0},{"$f":"'[1]11 кл'!EUF15","v":0},{"$f":"'[1]11 кл'!EUG15","v":0},{"$f":"'[1]11 кл'!EUH15","v":0},{"$f":"'[1]11 кл'!EUI15","v":0},{"$f":"'[1]11 кл'!EUJ15","v":0},{"$f":"'[1]11 кл'!EUK15","v":0},{"$f":"'[1]11 кл'!EUL15","v":0},{"$f":"'[1]11 кл'!EUM15","v":0},{"$f":"'[1]11 кл'!EUN15","v":0},{"$f":"'[1]11 кл'!EUO15","v":0},{"$f":"'[1]11 кл'!EUP15","v":0},{"$f":"'[1]11 кл'!EUQ15","v":0},{"$f":"'[1]11 кл'!EUR15","v":0},{"$f":"'[1]11 кл'!EUS15","v":0},{"$f":"'[1]11 кл'!EUT15","v":0},{"$f":"'[1]11 кл'!EUU15","v":0},{"$f":"'[1]11 кл'!EUV15","v":0},{"$f":"'[1]11 кл'!EUW15","v":0},{"$f":"'[1]11 кл'!EUX15","v":0},{"$f":"'[1]11 кл'!EUY15","v":0},{"$f":"'[1]11 кл'!EUZ15","v":0},{"$f":"'[1]11 кл'!EVA15","v":0},{"$f":"'[1]11 кл'!EVB15","v":0},{"$f":"'[1]11 кл'!EVC15","v":0},{"$f":"'[1]11 кл'!EVD15","v":0},{"$f":"'[1]11 кл'!EVE15","v":0},{"$f":"'[1]11 кл'!EVF15","v":0},{"$f":"'[1]11 кл'!EVG15","v":0},{"$f":"'[1]11 кл'!EVH15","v":0},{"$f":"'[1]11 кл'!EVI15","v":0},{"$f":"'[1]11 кл'!EVJ15","v":0},{"$f":"'[1]11 кл'!EVK15","v":0},{"$f":"'[1]11 кл'!EVL15","v":0},{"$f":"'[1]11 кл'!EVM15","v":0},{"$f":"'[1]11 кл'!EVN15","v":0},{"$f":"'[1]11 кл'!EVO15","v":0},{"$f":"'[1]11 кл'!EVP15","v":0},{"$f":"'[1]11 кл'!EVQ15","v":0},{"$f":"'[1]11 кл'!EVR15","v":0},{"$f":"'[1]11 кл'!EVS15","v":0},{"$f":"'[1]11 кл'!EVT15","v":0},{"$f":"'[1]11 кл'!EVU15","v":0},{"$f":"'[1]11 кл'!EVV15","v":0},{"$f":"'[1]11 кл'!EVW15","v":0},{"$f":"'[1]11 кл'!EVX15","v":0},{"$f":"'[1]11 кл'!EVY15","v":0},{"$f":"'[1]11 кл'!EVZ15","v":0},{"$f":"'[1]11 кл'!EWA15","v":0},{"$f":"'[1]11 кл'!EWB15","v":0},{"$f":"'[1]11 кл'!EWC15","v":0},{"$f":"'[1]11 кл'!EWD15","v":0},{"$f":"'[1]11 кл'!EWE15","v":0},{"$f":"'[1]11 кл'!EWF15","v":0},{"$f":"'[1]11 кл'!EWG15","v":0},{"$f":"'[1]11 кл'!EWH15","v":0},{"$f":"'[1]11 кл'!EWI15","v":0},{"$f":"'[1]11 кл'!EWJ15","v":0},{"$f":"'[1]11 кл'!EWK15","v":0},{"$f":"'[1]11 кл'!EWL15","v":0},{"$f":"'[1]11 кл'!EWM15","v":0},{"$f":"'[1]11 кл'!EWN15","v":0},{"$f":"'[1]11 кл'!EWO15","v":0},{"$f":"'[1]11 кл'!EWP15","v":0},{"$f":"'[1]11 кл'!EWQ15","v":0},{"$f":"'[1]11 кл'!EWR15","v":0},{"$f":"'[1]11 кл'!EWS15","v":0},{"$f":"'[1]11 кл'!EWT15","v":0},{"$f":"'[1]11 кл'!EWU15","v":0},{"$f":"'[1]11 кл'!EWV15","v":0},{"$f":"'[1]11 кл'!EWW15","v":0},{"$f":"'[1]11 кл'!EWX15","v":0},{"$f":"'[1]11 кл'!EWY15","v":0},{"$f":"'[1]11 кл'!EWZ15","v":0},{"$f":"'[1]11 кл'!EXA15","v":0},{"$f":"'[1]11 кл'!EXB15","v":0},{"$f":"'[1]11 кл'!EXC15","v":0},{"$f":"'[1]11 кл'!EXD15","v":0},{"$f":"'[1]11 кл'!EXE15","v":0},{"$f":"'[1]11 кл'!EXF15","v":0},{"$f":"'[1]11 кл'!EXG15","v":0},{"$f":"'[1]11 кл'!EXH15","v":0},{"$f":"'[1]11 кл'!EXI15","v":0},{"$f":"'[1]11 кл'!EXJ15","v":0},{"$f":"'[1]11 кл'!EXK15","v":0},{"$f":"'[1]11 кл'!EXL15","v":0},{"$f":"'[1]11 кл'!EXM15","v":0},{"$f":"'[1]11 кл'!EXN15","v":0},{"$f":"'[1]11 кл'!EXO15","v":0},{"$f":"'[1]11 кл'!EXP15","v":0},{"$f":"'[1]11 кл'!EXQ15","v":0},{"$f":"'[1]11 кл'!EXR15","v":0},{"$f":"'[1]11 кл'!EXS15","v":0},{"$f":"'[1]11 кл'!EXT15","v":0},{"$f":"'[1]11 кл'!EXU15","v":0},{"$f":"'[1]11 кл'!EXV15","v":0},{"$f":"'[1]11 кл'!EXW15","v":0},{"$f":"'[1]11 кл'!EXX15","v":0},{"$f":"'[1]11 кл'!EXY15","v":0},{"$f":"'[1]11 кл'!EXZ15","v":0},{"$f":"'[1]11 кл'!EYA15","v":0},{"$f":"'[1]11 кл'!EYB15","v":0},{"$f":"'[1]11 кл'!EYC15","v":0},{"$f":"'[1]11 кл'!EYD15","v":0},{"$f":"'[1]11 кл'!EYE15","v":0},{"$f":"'[1]11 кл'!EYF15","v":0},{"$f":"'[1]11 кл'!EYG15","v":0},{"$f":"'[1]11 кл'!EYH15","v":0},{"$f":"'[1]11 кл'!EYI15","v":0},{"$f":"'[1]11 кл'!EYJ15","v":0},{"$f":"'[1]11 кл'!EYK15","v":0},{"$f":"'[1]11 кл'!EYL15","v":0},{"$f":"'[1]11 кл'!EYM15","v":0},{"$f":"'[1]11 кл'!EYN15","v":0},{"$f":"'[1]11 кл'!EYO15","v":0},{"$f":"'[1]11 кл'!EYP15","v":0},{"$f":"'[1]11 кл'!EYQ15","v":0},{"$f":"'[1]11 кл'!EYR15","v":0},{"$f":"'[1]11 кл'!EYS15","v":0},{"$f":"'[1]11 кл'!EYT15","v":0},{"$f":"'[1]11 кл'!EYU15","v":0},{"$f":"'[1]11 кл'!EYV15","v":0},{"$f":"'[1]11 кл'!EYW15","v":0},{"$f":"'[1]11 кл'!EYX15","v":0},{"$f":"'[1]11 кл'!EYY15","v":0},{"$f":"'[1]11 кл'!EYZ15","v":0},{"$f":"'[1]11 кл'!EZA15","v":0},{"$f":"'[1]11 кл'!EZB15","v":0},{"$f":"'[1]11 кл'!EZC15","v":0},{"$f":"'[1]11 кл'!EZD15","v":0},{"$f":"'[1]11 кл'!EZE15","v":0},{"$f":"'[1]11 кл'!EZF15","v":0},{"$f":"'[1]11 кл'!EZG15","v":0},{"$f":"'[1]11 кл'!EZH15","v":0},{"$f":"'[1]11 кл'!EZI15","v":0},{"$f":"'[1]11 кл'!EZJ15","v":0},{"$f":"'[1]11 кл'!EZK15","v":0},{"$f":"'[1]11 кл'!EZL15","v":0},{"$f":"'[1]11 кл'!EZM15","v":0},{"$f":"'[1]11 кл'!EZN15","v":0},{"$f":"'[1]11 кл'!EZO15","v":0},{"$f":"'[1]11 кл'!EZP15","v":0},{"$f":"'[1]11 кл'!EZQ15","v":0},{"$f":"'[1]11 кл'!EZR15","v":0},{"$f":"'[1]11 кл'!EZS15","v":0},{"$f":"'[1]11 кл'!EZT15","v":0},{"$f":"'[1]11 кл'!EZU15","v":0},{"$f":"'[1]11 кл'!EZV15","v":0},{"$f":"'[1]11 кл'!EZW15","v":0},{"$f":"'[1]11 кл'!EZX15","v":0},{"$f":"'[1]11 кл'!EZY15","v":0},{"$f":"'[1]11 кл'!EZZ15","v":0},{"$f":"'[1]11 кл'!FAA15","v":0},{"$f":"'[1]11 кл'!FAB15","v":0},{"$f":"'[1]11 кл'!FAC15","v":0},{"$f":"'[1]11 кл'!FAD15","v":0},{"$f":"'[1]11 кл'!FAE15","v":0},{"$f":"'[1]11 кл'!FAF15","v":0},{"$f":"'[1]11 кл'!FAG15","v":0},{"$f":"'[1]11 кл'!FAH15","v":0},{"$f":"'[1]11 кл'!FAI15","v":0},{"$f":"'[1]11 кл'!FAJ15","v":0},{"$f":"'[1]11 кл'!FAK15","v":0},{"$f":"'[1]11 кл'!FAL15","v":0},{"$f":"'[1]11 кл'!FAM15","v":0},{"$f":"'[1]11 кл'!FAN15","v":0},{"$f":"'[1]11 кл'!FAO15","v":0},{"$f":"'[1]11 кл'!FAP15","v":0},{"$f":"'[1]11 кл'!FAQ15","v":0},{"$f":"'[1]11 кл'!FAR15","v":0},{"$f":"'[1]11 кл'!FAS15","v":0},{"$f":"'[1]11 кл'!FAT15","v":0},{"$f":"'[1]11 кл'!FAU15","v":0},{"$f":"'[1]11 кл'!FAV15","v":0},{"$f":"'[1]11 кл'!FAW15","v":0},{"$f":"'[1]11 кл'!FAX15","v":0},{"$f":"'[1]11 кл'!FAY15","v":0},{"$f":"'[1]11 кл'!FAZ15","v":0},{"$f":"'[1]11 кл'!FBA15","v":0},{"$f":"'[1]11 кл'!FBB15","v":0},{"$f":"'[1]11 кл'!FBC15","v":0},{"$f":"'[1]11 кл'!FBD15","v":0},{"$f":"'[1]11 кл'!FBE15","v":0},{"$f":"'[1]11 кл'!FBF15","v":0},{"$f":"'[1]11 кл'!FBG15","v":0},{"$f":"'[1]11 кл'!FBH15","v":0},{"$f":"'[1]11 кл'!FBI15","v":0},{"$f":"'[1]11 кл'!FBJ15","v":0},{"$f":"'[1]11 кл'!FBK15","v":0},{"$f":"'[1]11 кл'!FBL15","v":0},{"$f":"'[1]11 кл'!FBM15","v":0},{"$f":"'[1]11 кл'!FBN15","v":0},{"$f":"'[1]11 кл'!FBO15","v":0},{"$f":"'[1]11 кл'!FBP15","v":0},{"$f":"'[1]11 кл'!FBQ15","v":0},{"$f":"'[1]11 кл'!FBR15","v":0},{"$f":"'[1]11 кл'!FBS15","v":0},{"$f":"'[1]11 кл'!FBT15","v":0},{"$f":"'[1]11 кл'!FBU15","v":0},{"$f":"'[1]11 кл'!FBV15","v":0},{"$f":"'[1]11 кл'!FBW15","v":0},{"$f":"'[1]11 кл'!FBX15","v":0},{"$f":"'[1]11 кл'!FBY15","v":0},{"$f":"'[1]11 кл'!FBZ15","v":0},{"$f":"'[1]11 кл'!FCA15","v":0},{"$f":"'[1]11 кл'!FCB15","v":0},{"$f":"'[1]11 кл'!FCC15","v":0},{"$f":"'[1]11 кл'!FCD15","v":0},{"$f":"'[1]11 кл'!FCE15","v":0},{"$f":"'[1]11 кл'!FCF15","v":0},{"$f":"'[1]11 кл'!FCG15","v":0},{"$f":"'[1]11 кл'!FCH15","v":0},{"$f":"'[1]11 кл'!FCI15","v":0},{"$f":"'[1]11 кл'!FCJ15","v":0},{"$f":"'[1]11 кл'!FCK15","v":0},{"$f":"'[1]11 кл'!FCL15","v":0},{"$f":"'[1]11 кл'!FCM15","v":0},{"$f":"'[1]11 кл'!FCN15","v":0},{"$f":"'[1]11 кл'!FCO15","v":0},{"$f":"'[1]11 кл'!FCP15","v":0},{"$f":"'[1]11 кл'!FCQ15","v":0},{"$f":"'[1]11 кл'!FCR15","v":0},{"$f":"'[1]11 кл'!FCS15","v":0},{"$f":"'[1]11 кл'!FCT15","v":0},{"$f":"'[1]11 кл'!FCU15","v":0},{"$f":"'[1]11 кл'!FCV15","v":0},{"$f":"'[1]11 кл'!FCW15","v":0},{"$f":"'[1]11 кл'!FCX15","v":0},{"$f":"'[1]11 кл'!FCY15","v":0},{"$f":"'[1]11 кл'!FCZ15","v":0},{"$f":"'[1]11 кл'!FDA15","v":0},{"$f":"'[1]11 кл'!FDB15","v":0},{"$f":"'[1]11 кл'!FDC15","v":0},{"$f":"'[1]11 кл'!FDD15","v":0},{"$f":"'[1]11 кл'!FDE15","v":0},{"$f":"'[1]11 кл'!FDF15","v":0},{"$f":"'[1]11 кл'!FDG15","v":0},{"$f":"'[1]11 кл'!FDH15","v":0},{"$f":"'[1]11 кл'!FDI15","v":0},{"$f":"'[1]11 кл'!FDJ15","v":0},{"$f":"'[1]11 кл'!FDK15","v":0},{"$f":"'[1]11 кл'!FDL15","v":0},{"$f":"'[1]11 кл'!FDM15","v":0},{"$f":"'[1]11 кл'!FDN15","v":0},{"$f":"'[1]11 кл'!FDO15","v":0},{"$f":"'[1]11 кл'!FDP15","v":0},{"$f":"'[1]11 кл'!FDQ15","v":0},{"$f":"'[1]11 кл'!FDR15","v":0},{"$f":"'[1]11 кл'!FDS15","v":0},{"$f":"'[1]11 кл'!FDT15","v":0},{"$f":"'[1]11 кл'!FDU15","v":0},{"$f":"'[1]11 кл'!FDV15","v":0},{"$f":"'[1]11 кл'!FDW15","v":0},{"$f":"'[1]11 кл'!FDX15","v":0},{"$f":"'[1]11 кл'!FDY15","v":0},{"$f":"'[1]11 кл'!FDZ15","v":0},{"$f":"'[1]11 кл'!FEA15","v":0},{"$f":"'[1]11 кл'!FEB15","v":0},{"$f":"'[1]11 кл'!FEC15","v":0},{"$f":"'[1]11 кл'!FED15","v":0},{"$f":"'[1]11 кл'!FEE15","v":0},{"$f":"'[1]11 кл'!FEF15","v":0},{"$f":"'[1]11 кл'!FEG15","v":0},{"$f":"'[1]11 кл'!FEH15","v":0},{"$f":"'[1]11 кл'!FEI15","v":0},{"$f":"'[1]11 кл'!FEJ15","v":0},{"$f":"'[1]11 кл'!FEK15","v":0},{"$f":"'[1]11 кл'!FEL15","v":0},{"$f":"'[1]11 кл'!FEM15","v":0},{"$f":"'[1]11 кл'!FEN15","v":0},{"$f":"'[1]11 кл'!FEO15","v":0},{"$f":"'[1]11 кл'!FEP15","v":0},{"$f":"'[1]11 кл'!FEQ15","v":0},{"$f":"'[1]11 кл'!FER15","v":0},{"$f":"'[1]11 кл'!FES15","v":0},{"$f":"'[1]11 кл'!FET15","v":0},{"$f":"'[1]11 кл'!FEU15","v":0},{"$f":"'[1]11 кл'!FEV15","v":0},{"$f":"'[1]11 кл'!FEW15","v":0},{"$f":"'[1]11 кл'!FEX15","v":0},{"$f":"'[1]11 кл'!FEY15","v":0},{"$f":"'[1]11 кл'!FEZ15","v":0},{"$f":"'[1]11 кл'!FFA15","v":0},{"$f":"'[1]11 кл'!FFB15","v":0},{"$f":"'[1]11 кл'!FFC15","v":0},{"$f":"'[1]11 кл'!FFD15","v":0},{"$f":"'[1]11 кл'!FFE15","v":0},{"$f":"'[1]11 кл'!FFF15","v":0},{"$f":"'[1]11 кл'!FFG15","v":0},{"$f":"'[1]11 кл'!FFH15","v":0},{"$f":"'[1]11 кл'!FFI15","v":0},{"$f":"'[1]11 кл'!FFJ15","v":0},{"$f":"'[1]11 кл'!FFK15","v":0},{"$f":"'[1]11 кл'!FFL15","v":0},{"$f":"'[1]11 кл'!FFM15","v":0},{"$f":"'[1]11 кл'!FFN15","v":0},{"$f":"'[1]11 кл'!FFO15","v":0},{"$f":"'[1]11 кл'!FFP15","v":0},{"$f":"'[1]11 кл'!FFQ15","v":0},{"$f":"'[1]11 кл'!FFR15","v":0},{"$f":"'[1]11 кл'!FFS15","v":0},{"$f":"'[1]11 кл'!FFT15","v":0},{"$f":"'[1]11 кл'!FFU15","v":0},{"$f":"'[1]11 кл'!FFV15","v":0},{"$f":"'[1]11 кл'!FFW15","v":0},{"$f":"'[1]11 кл'!FFX15","v":0},{"$f":"'[1]11 кл'!FFY15","v":0},{"$f":"'[1]11 кл'!FFZ15","v":0},{"$f":"'[1]11 кл'!FGA15","v":0},{"$f":"'[1]11 кл'!FGB15","v":0},{"$f":"'[1]11 кл'!FGC15","v":0},{"$f":"'[1]11 кл'!FGD15","v":0},{"$f":"'[1]11 кл'!FGE15","v":0},{"$f":"'[1]11 кл'!FGF15","v":0},{"$f":"'[1]11 кл'!FGG15","v":0},{"$f":"'[1]11 кл'!FGH15","v":0},{"$f":"'[1]11 кл'!FGI15","v":0},{"$f":"'[1]11 кл'!FGJ15","v":0},{"$f":"'[1]11 кл'!FGK15","v":0},{"$f":"'[1]11 кл'!FGL15","v":0},{"$f":"'[1]11 кл'!FGM15","v":0},{"$f":"'[1]11 кл'!FGN15","v":0},{"$f":"'[1]11 кл'!FGO15","v":0},{"$f":"'[1]11 кл'!FGP15","v":0},{"$f":"'[1]11 кл'!FGQ15","v":0},{"$f":"'[1]11 кл'!FGR15","v":0},{"$f":"'[1]11 кл'!FGS15","v":0},{"$f":"'[1]11 кл'!FGT15","v":0},{"$f":"'[1]11 кл'!FGU15","v":0},{"$f":"'[1]11 кл'!FGV15","v":0},{"$f":"'[1]11 кл'!FGW15","v":0},{"$f":"'[1]11 кл'!FGX15","v":0},{"$f":"'[1]11 кл'!FGY15","v":0},{"$f":"'[1]11 кл'!FGZ15","v":0},{"$f":"'[1]11 кл'!FHA15","v":0},{"$f":"'[1]11 кл'!FHB15","v":0},{"$f":"'[1]11 кл'!FHC15","v":0},{"$f":"'[1]11 кл'!FHD15","v":0},{"$f":"'[1]11 кл'!FHE15","v":0},{"$f":"'[1]11 кл'!FHF15","v":0},{"$f":"'[1]11 кл'!FHG15","v":0},{"$f":"'[1]11 кл'!FHH15","v":0},{"$f":"'[1]11 кл'!FHI15","v":0},{"$f":"'[1]11 кл'!FHJ15","v":0},{"$f":"'[1]11 кл'!FHK15","v":0},{"$f":"'[1]11 кл'!FHL15","v":0},{"$f":"'[1]11 кл'!FHM15","v":0},{"$f":"'[1]11 кл'!FHN15","v":0},{"$f":"'[1]11 кл'!FHO15","v":0},{"$f":"'[1]11 кл'!FHP15","v":0},{"$f":"'[1]11 кл'!FHQ15","v":0},{"$f":"'[1]11 кл'!FHR15","v":0},{"$f":"'[1]11 кл'!FHS15","v":0},{"$f":"'[1]11 кл'!FHT15","v":0},{"$f":"'[1]11 кл'!FHU15","v":0},{"$f":"'[1]11 кл'!FHV15","v":0},{"$f":"'[1]11 кл'!FHW15","v":0},{"$f":"'[1]11 кл'!FHX15","v":0},{"$f":"'[1]11 кл'!FHY15","v":0},{"$f":"'[1]11 кл'!FHZ15","v":0},{"$f":"'[1]11 кл'!FIA15","v":0},{"$f":"'[1]11 кл'!FIB15","v":0},{"$f":"'[1]11 кл'!FIC15","v":0},{"$f":"'[1]11 кл'!FID15","v":0},{"$f":"'[1]11 кл'!FIE15","v":0},{"$f":"'[1]11 кл'!FIF15","v":0},{"$f":"'[1]11 кл'!FIG15","v":0},{"$f":"'[1]11 кл'!FIH15","v":0},{"$f":"'[1]11 кл'!FII15","v":0},{"$f":"'[1]11 кл'!FIJ15","v":0},{"$f":"'[1]11 кл'!FIK15","v":0},{"$f":"'[1]11 кл'!FIL15","v":0},{"$f":"'[1]11 кл'!FIM15","v":0},{"$f":"'[1]11 кл'!FIN15","v":0},{"$f":"'[1]11 кл'!FIO15","v":0},{"$f":"'[1]11 кл'!FIP15","v":0},{"$f":"'[1]11 кл'!FIQ15","v":0},{"$f":"'[1]11 кл'!FIR15","v":0},{"$f":"'[1]11 кл'!FIS15","v":0},{"$f":"'[1]11 кл'!FIT15","v":0},{"$f":"'[1]11 кл'!FIU15","v":0},{"$f":"'[1]11 кл'!FIV15","v":0},{"$f":"'[1]11 кл'!FIW15","v":0},{"$f":"'[1]11 кл'!FIX15","v":0},{"$f":"'[1]11 кл'!FIY15","v":0},{"$f":"'[1]11 кл'!FIZ15","v":0},{"$f":"'[1]11 кл'!FJA15","v":0},{"$f":"'[1]11 кл'!FJB15","v":0},{"$f":"'[1]11 кл'!FJC15","v":0},{"$f":"'[1]11 кл'!FJD15","v":0},{"$f":"'[1]11 кл'!FJE15","v":0},{"$f":"'[1]11 кл'!FJF15","v":0},{"$f":"'[1]11 кл'!FJG15","v":0},{"$f":"'[1]11 кл'!FJH15","v":0},{"$f":"'[1]11 кл'!FJI15","v":0},{"$f":"'[1]11 кл'!FJJ15","v":0},{"$f":"'[1]11 кл'!FJK15","v":0},{"$f":"'[1]11 кл'!FJL15","v":0},{"$f":"'[1]11 кл'!FJM15","v":0},{"$f":"'[1]11 кл'!FJN15","v":0},{"$f":"'[1]11 кл'!FJO15","v":0},{"$f":"'[1]11 кл'!FJP15","v":0},{"$f":"'[1]11 кл'!FJQ15","v":0},{"$f":"'[1]11 кл'!FJR15","v":0},{"$f":"'[1]11 кл'!FJS15","v":0},{"$f":"'[1]11 кл'!FJT15","v":0},{"$f":"'[1]11 кл'!FJU15","v":0},{"$f":"'[1]11 кл'!FJV15","v":0},{"$f":"'[1]11 кл'!FJW15","v":0},{"$f":"'[1]11 кл'!FJX15","v":0},{"$f":"'[1]11 кл'!FJY15","v":0},{"$f":"'[1]11 кл'!FJZ15","v":0},{"$f":"'[1]11 кл'!FKA15","v":0},{"$f":"'[1]11 кл'!FKB15","v":0},{"$f":"'[1]11 кл'!FKC15","v":0},{"$f":"'[1]11 кл'!FKD15","v":0},{"$f":"'[1]11 кл'!FKE15","v":0},{"$f":"'[1]11 кл'!FKF15","v":0},{"$f":"'[1]11 кл'!FKG15","v":0},{"$f":"'[1]11 кл'!FKH15","v":0},{"$f":"'[1]11 кл'!FKI15","v":0},{"$f":"'[1]11 кл'!FKJ15","v":0},{"$f":"'[1]11 кл'!FKK15","v":0},{"$f":"'[1]11 кл'!FKL15","v":0},{"$f":"'[1]11 кл'!FKM15","v":0},{"$f":"'[1]11 кл'!FKN15","v":0},{"$f":"'[1]11 кл'!FKO15","v":0},{"$f":"'[1]11 кл'!FKP15","v":0},{"$f":"'[1]11 кл'!FKQ15","v":0},{"$f":"'[1]11 кл'!FKR15","v":0},{"$f":"'[1]11 кл'!FKS15","v":0},{"$f":"'[1]11 кл'!FKT15","v":0},{"$f":"'[1]11 кл'!FKU15","v":0},{"$f":"'[1]11 кл'!FKV15","v":0},{"$f":"'[1]11 кл'!FKW15","v":0},{"$f":"'[1]11 кл'!FKX15","v":0},{"$f":"'[1]11 кл'!FKY15","v":0},{"$f":"'[1]11 кл'!FKZ15","v":0},{"$f":"'[1]11 кл'!FLA15","v":0},{"$f":"'[1]11 кл'!FLB15","v":0},{"$f":"'[1]11 кл'!FLC15","v":0},{"$f":"'[1]11 кл'!FLD15","v":0},{"$f":"'[1]11 кл'!FLE15","v":0},{"$f":"'[1]11 кл'!FLF15","v":0},{"$f":"'[1]11 кл'!FLG15","v":0},{"$f":"'[1]11 кл'!FLH15","v":0},{"$f":"'[1]11 кл'!FLI15","v":0},{"$f":"'[1]11 кл'!FLJ15","v":0},{"$f":"'[1]11 кл'!FLK15","v":0},{"$f":"'[1]11 кл'!FLL15","v":0},{"$f":"'[1]11 кл'!FLM15","v":0},{"$f":"'[1]11 кл'!FLN15","v":0},{"$f":"'[1]11 кл'!FLO15","v":0},{"$f":"'[1]11 кл'!FLP15","v":0},{"$f":"'[1]11 кл'!FLQ15","v":0},{"$f":"'[1]11 кл'!FLR15","v":0},{"$f":"'[1]11 кл'!FLS15","v":0},{"$f":"'[1]11 кл'!FLT15","v":0},{"$f":"'[1]11 кл'!FLU15","v":0},{"$f":"'[1]11 кл'!FLV15","v":0},{"$f":"'[1]11 кл'!FLW15","v":0},{"$f":"'[1]11 кл'!FLX15","v":0},{"$f":"'[1]11 кл'!FLY15","v":0},{"$f":"'[1]11 кл'!FLZ15","v":0},{"$f":"'[1]11 кл'!FMA15","v":0},{"$f":"'[1]11 кл'!FMB15","v":0},{"$f":"'[1]11 кл'!FMC15","v":0},{"$f":"'[1]11 кл'!FMD15","v":0},{"$f":"'[1]11 кл'!FME15","v":0},{"$f":"'[1]11 кл'!FMF15","v":0},{"$f":"'[1]11 кл'!FMG15","v":0},{"$f":"'[1]11 кл'!FMH15","v":0},{"$f":"'[1]11 кл'!FMI15","v":0},{"$f":"'[1]11 кл'!FMJ15","v":0},{"$f":"'[1]11 кл'!FMK15","v":0},{"$f":"'[1]11 кл'!FML15","v":0},{"$f":"'[1]11 кл'!FMM15","v":0},{"$f":"'[1]11 кл'!FMN15","v":0},{"$f":"'[1]11 кл'!FMO15","v":0},{"$f":"'[1]11 кл'!FMP15","v":0},{"$f":"'[1]11 кл'!FMQ15","v":0},{"$f":"'[1]11 кл'!FMR15","v":0},{"$f":"'[1]11 кл'!FMS15","v":0},{"$f":"'[1]11 кл'!FMT15","v":0},{"$f":"'[1]11 кл'!FMU15","v":0},{"$f":"'[1]11 кл'!FMV15","v":0},{"$f":"'[1]11 кл'!FMW15","v":0},{"$f":"'[1]11 кл'!FMX15","v":0},{"$f":"'[1]11 кл'!FMY15","v":0},{"$f":"'[1]11 кл'!FMZ15","v":0},{"$f":"'[1]11 кл'!FNA15","v":0},{"$f":"'[1]11 кл'!FNB15","v":0},{"$f":"'[1]11 кл'!FNC15","v":0},{"$f":"'[1]11 кл'!FND15","v":0},{"$f":"'[1]11 кл'!FNE15","v":0},{"$f":"'[1]11 кл'!FNF15","v":0},{"$f":"'[1]11 кл'!FNG15","v":0},{"$f":"'[1]11 кл'!FNH15","v":0},{"$f":"'[1]11 кл'!FNI15","v":0},{"$f":"'[1]11 кл'!FNJ15","v":0},{"$f":"'[1]11 кл'!FNK15","v":0},{"$f":"'[1]11 кл'!FNL15","v":0},{"$f":"'[1]11 кл'!FNM15","v":0},{"$f":"'[1]11 кл'!FNN15","v":0},{"$f":"'[1]11 кл'!FNO15","v":0},{"$f":"'[1]11 кл'!FNP15","v":0},{"$f":"'[1]11 кл'!FNQ15","v":0},{"$f":"'[1]11 кл'!FNR15","v":0},{"$f":"'[1]11 кл'!FNS15","v":0},{"$f":"'[1]11 кл'!FNT15","v":0},{"$f":"'[1]11 кл'!FNU15","v":0},{"$f":"'[1]11 кл'!FNV15","v":0},{"$f":"'[1]11 кл'!FNW15","v":0},{"$f":"'[1]11 кл'!FNX15","v":0},{"$f":"'[1]11 кл'!FNY15","v":0},{"$f":"'[1]11 кл'!FNZ15","v":0},{"$f":"'[1]11 кл'!FOA15","v":0},{"$f":"'[1]11 кл'!FOB15","v":0},{"$f":"'[1]11 кл'!FOC15","v":0},{"$f":"'[1]11 кл'!FOD15","v":0},{"$f":"'[1]11 кл'!FOE15","v":0},{"$f":"'[1]11 кл'!FOF15","v":0},{"$f":"'[1]11 кл'!FOG15","v":0},{"$f":"'[1]11 кл'!FOH15","v":0},{"$f":"'[1]11 кл'!FOI15","v":0},{"$f":"'[1]11 кл'!FOJ15","v":0},{"$f":"'[1]11 кл'!FOK15","v":0},{"$f":"'[1]11 кл'!FOL15","v":0},{"$f":"'[1]11 кл'!FOM15","v":0},{"$f":"'[1]11 кл'!FON15","v":0},{"$f":"'[1]11 кл'!FOO15","v":0},{"$f":"'[1]11 кл'!FOP15","v":0},{"$f":"'[1]11 кл'!FOQ15","v":0},{"$f":"'[1]11 кл'!FOR15","v":0},{"$f":"'[1]11 кл'!FOS15","v":0},{"$f":"'[1]11 кл'!FOT15","v":0},{"$f":"'[1]11 кл'!FOU15","v":0},{"$f":"'[1]11 кл'!FOV15","v":0},{"$f":"'[1]11 кл'!FOW15","v":0},{"$f":"'[1]11 кл'!FOX15","v":0},{"$f":"'[1]11 кл'!FOY15","v":0},{"$f":"'[1]11 кл'!FOZ15","v":0},{"$f":"'[1]11 кл'!FPA15","v":0},{"$f":"'[1]11 кл'!FPB15","v":0},{"$f":"'[1]11 кл'!FPC15","v":0},{"$f":"'[1]11 кл'!FPD15","v":0},{"$f":"'[1]11 кл'!FPE15","v":0},{"$f":"'[1]11 кл'!FPF15","v":0},{"$f":"'[1]11 кл'!FPG15","v":0},{"$f":"'[1]11 кл'!FPH15","v":0},{"$f":"'[1]11 кл'!FPI15","v":0},{"$f":"'[1]11 кл'!FPJ15","v":0},{"$f":"'[1]11 кл'!FPK15","v":0},{"$f":"'[1]11 кл'!FPL15","v":0},{"$f":"'[1]11 кл'!FPM15","v":0},{"$f":"'[1]11 кл'!FPN15","v":0},{"$f":"'[1]11 кл'!FPO15","v":0},{"$f":"'[1]11 кл'!FPP15","v":0},{"$f":"'[1]11 кл'!FPQ15","v":0},{"$f":"'[1]11 кл'!FPR15","v":0},{"$f":"'[1]11 кл'!FPS15","v":0},{"$f":"'[1]11 кл'!FPT15","v":0},{"$f":"'[1]11 кл'!FPU15","v":0},{"$f":"'[1]11 кл'!FPV15","v":0},{"$f":"'[1]11 кл'!FPW15","v":0},{"$f":"'[1]11 кл'!FPX15","v":0},{"$f":"'[1]11 кл'!FPY15","v":0},{"$f":"'[1]11 кл'!FPZ15","v":0},{"$f":"'[1]11 кл'!FQA15","v":0},{"$f":"'[1]11 кл'!FQB15","v":0},{"$f":"'[1]11 кл'!FQC15","v":0},{"$f":"'[1]11 кл'!FQD15","v":0},{"$f":"'[1]11 кл'!FQE15","v":0},{"$f":"'[1]11 кл'!FQF15","v":0},{"$f":"'[1]11 кл'!FQG15","v":0},{"$f":"'[1]11 кл'!FQH15","v":0},{"$f":"'[1]11 кл'!FQI15","v":0},{"$f":"'[1]11 кл'!FQJ15","v":0},{"$f":"'[1]11 кл'!FQK15","v":0},{"$f":"'[1]11 кл'!FQL15","v":0},{"$f":"'[1]11 кл'!FQM15","v":0},{"$f":"'[1]11 кл'!FQN15","v":0},{"$f":"'[1]11 кл'!FQO15","v":0},{"$f":"'[1]11 кл'!FQP15","v":0},{"$f":"'[1]11 кл'!FQQ15","v":0},{"$f":"'[1]11 кл'!FQR15","v":0},{"$f":"'[1]11 кл'!FQS15","v":0},{"$f":"'[1]11 кл'!FQT15","v":0},{"$f":"'[1]11 кл'!FQU15","v":0},{"$f":"'[1]11 кл'!FQV15","v":0},{"$f":"'[1]11 кл'!FQW15","v":0},{"$f":"'[1]11 кл'!FQX15","v":0},{"$f":"'[1]11 кл'!FQY15","v":0},{"$f":"'[1]11 кл'!FQZ15","v":0},{"$f":"'[1]11 кл'!FRA15","v":0},{"$f":"'[1]11 кл'!FRB15","v":0},{"$f":"'[1]11 кл'!FRC15","v":0},{"$f":"'[1]11 кл'!FRD15","v":0},{"$f":"'[1]11 кл'!FRE15","v":0},{"$f":"'[1]11 кл'!FRF15","v":0},{"$f":"'[1]11 кл'!FRG15","v":0},{"$f":"'[1]11 кл'!FRH15","v":0},{"$f":"'[1]11 кл'!FRI15","v":0},{"$f":"'[1]11 кл'!FRJ15","v":0},{"$f":"'[1]11 кл'!FRK15","v":0},{"$f":"'[1]11 кл'!FRL15","v":0},{"$f":"'[1]11 кл'!FRM15","v":0},{"$f":"'[1]11 кл'!FRN15","v":0},{"$f":"'[1]11 кл'!FRO15","v":0},{"$f":"'[1]11 кл'!FRP15","v":0},{"$f":"'[1]11 кл'!FRQ15","v":0},{"$f":"'[1]11 кл'!FRR15","v":0},{"$f":"'[1]11 кл'!FRS15","v":0},{"$f":"'[1]11 кл'!FRT15","v":0},{"$f":"'[1]11 кл'!FRU15","v":0},{"$f":"'[1]11 кл'!FRV15","v":0},{"$f":"'[1]11 кл'!FRW15","v":0},{"$f":"'[1]11 кл'!FRX15","v":0},{"$f":"'[1]11 кл'!FRY15","v":0},{"$f":"'[1]11 кл'!FRZ15","v":0},{"$f":"'[1]11 кл'!FSA15","v":0},{"$f":"'[1]11 кл'!FSB15","v":0},{"$f":"'[1]11 кл'!FSC15","v":0},{"$f":"'[1]11 кл'!FSD15","v":0},{"$f":"'[1]11 кл'!FSE15","v":0},{"$f":"'[1]11 кл'!FSF15","v":0},{"$f":"'[1]11 кл'!FSG15","v":0},{"$f":"'[1]11 кл'!FSH15","v":0},{"$f":"'[1]11 кл'!FSI15","v":0},{"$f":"'[1]11 кл'!FSJ15","v":0},{"$f":"'[1]11 кл'!FSK15","v":0},{"$f":"'[1]11 кл'!FSL15","v":0},{"$f":"'[1]11 кл'!FSM15","v":0},{"$f":"'[1]11 кл'!FSN15","v":0},{"$f":"'[1]11 кл'!FSO15","v":0},{"$f":"'[1]11 кл'!FSP15","v":0},{"$f":"'[1]11 кл'!FSQ15","v":0},{"$f":"'[1]11 кл'!FSR15","v":0},{"$f":"'[1]11 кл'!FSS15","v":0},{"$f":"'[1]11 кл'!FST15","v":0},{"$f":"'[1]11 кл'!FSU15","v":0},{"$f":"'[1]11 кл'!FSV15","v":0},{"$f":"'[1]11 кл'!FSW15","v":0},{"$f":"'[1]11 кл'!FSX15","v":0},{"$f":"'[1]11 кл'!FSY15","v":0},{"$f":"'[1]11 кл'!FSZ15","v":0},{"$f":"'[1]11 кл'!FTA15","v":0},{"$f":"'[1]11 кл'!FTB15","v":0},{"$f":"'[1]11 кл'!FTC15","v":0},{"$f":"'[1]11 кл'!FTD15","v":0},{"$f":"'[1]11 кл'!FTE15","v":0},{"$f":"'[1]11 кл'!FTF15","v":0},{"$f":"'[1]11 кл'!FTG15","v":0},{"$f":"'[1]11 кл'!FTH15","v":0},{"$f":"'[1]11 кл'!FTI15","v":0},{"$f":"'[1]11 кл'!FTJ15","v":0},{"$f":"'[1]11 кл'!FTK15","v":0},{"$f":"'[1]11 кл'!FTL15","v":0},{"$f":"'[1]11 кл'!FTM15","v":0},{"$f":"'[1]11 кл'!FTN15","v":0},{"$f":"'[1]11 кл'!FTO15","v":0},{"$f":"'[1]11 кл'!FTP15","v":0},{"$f":"'[1]11 кл'!FTQ15","v":0},{"$f":"'[1]11 кл'!FTR15","v":0},{"$f":"'[1]11 кл'!FTS15","v":0},{"$f":"'[1]11 кл'!FTT15","v":0},{"$f":"'[1]11 кл'!FTU15","v":0},{"$f":"'[1]11 кл'!FTV15","v":0},{"$f":"'[1]11 кл'!FTW15","v":0},{"$f":"'[1]11 кл'!FTX15","v":0},{"$f":"'[1]11 кл'!FTY15","v":0},{"$f":"'[1]11 кл'!FTZ15","v":0},{"$f":"'[1]11 кл'!FUA15","v":0},{"$f":"'[1]11 кл'!FUB15","v":0},{"$f":"'[1]11 кл'!FUC15","v":0},{"$f":"'[1]11 кл'!FUD15","v":0},{"$f":"'[1]11 кл'!FUE15","v":0},{"$f":"'[1]11 кл'!FUF15","v":0},{"$f":"'[1]11 кл'!FUG15","v":0},{"$f":"'[1]11 кл'!FUH15","v":0},{"$f":"'[1]11 кл'!FUI15","v":0},{"$f":"'[1]11 кл'!FUJ15","v":0},{"$f":"'[1]11 кл'!FUK15","v":0},{"$f":"'[1]11 кл'!FUL15","v":0},{"$f":"'[1]11 кл'!FUM15","v":0},{"$f":"'[1]11 кл'!FUN15","v":0},{"$f":"'[1]11 кл'!FUO15","v":0},{"$f":"'[1]11 кл'!FUP15","v":0},{"$f":"'[1]11 кл'!FUQ15","v":0},{"$f":"'[1]11 кл'!FUR15","v":0},{"$f":"'[1]11 кл'!FUS15","v":0},{"$f":"'[1]11 кл'!FUT15","v":0},{"$f":"'[1]11 кл'!FUU15","v":0},{"$f":"'[1]11 кл'!FUV15","v":0},{"$f":"'[1]11 кл'!FUW15","v":0},{"$f":"'[1]11 кл'!FUX15","v":0},{"$f":"'[1]11 кл'!FUY15","v":0},{"$f":"'[1]11 кл'!FUZ15","v":0},{"$f":"'[1]11 кл'!FVA15","v":0},{"$f":"'[1]11 кл'!FVB15","v":0},{"$f":"'[1]11 кл'!FVC15","v":0},{"$f":"'[1]11 кл'!FVD15","v":0},{"$f":"'[1]11 кл'!FVE15","v":0},{"$f":"'[1]11 кл'!FVF15","v":0},{"$f":"'[1]11 кл'!FVG15","v":0},{"$f":"'[1]11 кл'!FVH15","v":0},{"$f":"'[1]11 кл'!FVI15","v":0},{"$f":"'[1]11 кл'!FVJ15","v":0},{"$f":"'[1]11 кл'!FVK15","v":0},{"$f":"'[1]11 кл'!FVL15","v":0},{"$f":"'[1]11 кл'!FVM15","v":0},{"$f":"'[1]11 кл'!FVN15","v":0},{"$f":"'[1]11 кл'!FVO15","v":0},{"$f":"'[1]11 кл'!FVP15","v":0},{"$f":"'[1]11 кл'!FVQ15","v":0},{"$f":"'[1]11 кл'!FVR15","v":0},{"$f":"'[1]11 кл'!FVS15","v":0},{"$f":"'[1]11 кл'!FVT15","v":0},{"$f":"'[1]11 кл'!FVU15","v":0},{"$f":"'[1]11 кл'!FVV15","v":0},{"$f":"'[1]11 кл'!FVW15","v":0},{"$f":"'[1]11 кл'!FVX15","v":0},{"$f":"'[1]11 кл'!FVY15","v":0},{"$f":"'[1]11 кл'!FVZ15","v":0},{"$f":"'[1]11 кл'!FWA15","v":0},{"$f":"'[1]11 кл'!FWB15","v":0},{"$f":"'[1]11 кл'!FWC15","v":0},{"$f":"'[1]11 кл'!FWD15","v":0},{"$f":"'[1]11 кл'!FWE15","v":0},{"$f":"'[1]11 кл'!FWF15","v":0},{"$f":"'[1]11 кл'!FWG15","v":0},{"$f":"'[1]11 кл'!FWH15","v":0},{"$f":"'[1]11 кл'!FWI15","v":0},{"$f":"'[1]11 кл'!FWJ15","v":0},{"$f":"'[1]11 кл'!FWK15","v":0},{"$f":"'[1]11 кл'!FWL15","v":0},{"$f":"'[1]11 кл'!FWM15","v":0},{"$f":"'[1]11 кл'!FWN15","v":0},{"$f":"'[1]11 кл'!FWO15","v":0},{"$f":"'[1]11 кл'!FWP15","v":0},{"$f":"'[1]11 кл'!FWQ15","v":0},{"$f":"'[1]11 кл'!FWR15","v":0},{"$f":"'[1]11 кл'!FWS15","v":0},{"$f":"'[1]11 кл'!FWT15","v":0},{"$f":"'[1]11 кл'!FWU15","v":0},{"$f":"'[1]11 кл'!FWV15","v":0},{"$f":"'[1]11 кл'!FWW15","v":0},{"$f":"'[1]11 кл'!FWX15","v":0},{"$f":"'[1]11 кл'!FWY15","v":0},{"$f":"'[1]11 кл'!FWZ15","v":0},{"$f":"'[1]11 кл'!FXA15","v":0},{"$f":"'[1]11 кл'!FXB15","v":0},{"$f":"'[1]11 кл'!FXC15","v":0},{"$f":"'[1]11 кл'!FXD15","v":0},{"$f":"'[1]11 кл'!FXE15","v":0},{"$f":"'[1]11 кл'!FXF15","v":0},{"$f":"'[1]11 кл'!FXG15","v":0},{"$f":"'[1]11 кл'!FXH15","v":0},{"$f":"'[1]11 кл'!FXI15","v":0},{"$f":"'[1]11 кл'!FXJ15","v":0},{"$f":"'[1]11 кл'!FXK15","v":0},{"$f":"'[1]11 кл'!FXL15","v":0},{"$f":"'[1]11 кл'!FXM15","v":0},{"$f":"'[1]11 кл'!FXN15","v":0},{"$f":"'[1]11 кл'!FXO15","v":0},{"$f":"'[1]11 кл'!FXP15","v":0},{"$f":"'[1]11 кл'!FXQ15","v":0},{"$f":"'[1]11 кл'!FXR15","v":0},{"$f":"'[1]11 кл'!FXS15","v":0},{"$f":"'[1]11 кл'!FXT15","v":0},{"$f":"'[1]11 кл'!FXU15","v":0},{"$f":"'[1]11 кл'!FXV15","v":0},{"$f":"'[1]11 кл'!FXW15","v":0},{"$f":"'[1]11 кл'!FXX15","v":0},{"$f":"'[1]11 кл'!FXY15","v":0},{"$f":"'[1]11 кл'!FXZ15","v":0},{"$f":"'[1]11 кл'!FYA15","v":0},{"$f":"'[1]11 кл'!FYB15","v":0},{"$f":"'[1]11 кл'!FYC15","v":0},{"$f":"'[1]11 кл'!FYD15","v":0},{"$f":"'[1]11 кл'!FYE15","v":0},{"$f":"'[1]11 кл'!FYF15","v":0},{"$f":"'[1]11 кл'!FYG15","v":0},{"$f":"'[1]11 кл'!FYH15","v":0},{"$f":"'[1]11 кл'!FYI15","v":0},{"$f":"'[1]11 кл'!FYJ15","v":0},{"$f":"'[1]11 кл'!FYK15","v":0},{"$f":"'[1]11 кл'!FYL15","v":0},{"$f":"'[1]11 кл'!FYM15","v":0},{"$f":"'[1]11 кл'!FYN15","v":0},{"$f":"'[1]11 кл'!FYO15","v":0},{"$f":"'[1]11 кл'!FYP15","v":0},{"$f":"'[1]11 кл'!FYQ15","v":0},{"$f":"'[1]11 кл'!FYR15","v":0},{"$f":"'[1]11 кл'!FYS15","v":0},{"$f":"'[1]11 кл'!FYT15","v":0},{"$f":"'[1]11 кл'!FYU15","v":0},{"$f":"'[1]11 кл'!FYV15","v":0},{"$f":"'[1]11 кл'!FYW15","v":0},{"$f":"'[1]11 кл'!FYX15","v":0},{"$f":"'[1]11 кл'!FYY15","v":0},{"$f":"'[1]11 кл'!FYZ15","v":0},{"$f":"'[1]11 кл'!FZA15","v":0},{"$f":"'[1]11 кл'!FZB15","v":0},{"$f":"'[1]11 кл'!FZC15","v":0},{"$f":"'[1]11 кл'!FZD15","v":0},{"$f":"'[1]11 кл'!FZE15","v":0},{"$f":"'[1]11 кл'!FZF15","v":0},{"$f":"'[1]11 кл'!FZG15","v":0},{"$f":"'[1]11 кл'!FZH15","v":0},{"$f":"'[1]11 кл'!FZI15","v":0},{"$f":"'[1]11 кл'!FZJ15","v":0},{"$f":"'[1]11 кл'!FZK15","v":0},{"$f":"'[1]11 кл'!FZL15","v":0},{"$f":"'[1]11 кл'!FZM15","v":0},{"$f":"'[1]11 кл'!FZN15","v":0},{"$f":"'[1]11 кл'!FZO15","v":0},{"$f":"'[1]11 кл'!FZP15","v":0},{"$f":"'[1]11 кл'!FZQ15","v":0},{"$f":"'[1]11 кл'!FZR15","v":0},{"$f":"'[1]11 кл'!FZS15","v":0},{"$f":"'[1]11 кл'!FZT15","v":0},{"$f":"'[1]11 кл'!FZU15","v":0},{"$f":"'[1]11 кл'!FZV15","v":0},{"$f":"'[1]11 кл'!FZW15","v":0},{"$f":"'[1]11 кл'!FZX15","v":0},{"$f":"'[1]11 кл'!FZY15","v":0},{"$f":"'[1]11 кл'!FZZ15","v":0},{"$f":"'[1]11 кл'!GAA15","v":0},{"$f":"'[1]11 кл'!GAB15","v":0},{"$f":"'[1]11 кл'!GAC15","v":0},{"$f":"'[1]11 кл'!GAD15","v":0},{"$f":"'[1]11 кл'!GAE15","v":0},{"$f":"'[1]11 кл'!GAF15","v":0},{"$f":"'[1]11 кл'!GAG15","v":0},{"$f":"'[1]11 кл'!GAH15","v":0},{"$f":"'[1]11 кл'!GAI15","v":0},{"$f":"'[1]11 кл'!GAJ15","v":0},{"$f":"'[1]11 кл'!GAK15","v":0},{"$f":"'[1]11 кл'!GAL15","v":0},{"$f":"'[1]11 кл'!GAM15","v":0},{"$f":"'[1]11 кл'!GAN15","v":0},{"$f":"'[1]11 кл'!GAO15","v":0},{"$f":"'[1]11 кл'!GAP15","v":0},{"$f":"'[1]11 кл'!GAQ15","v":0},{"$f":"'[1]11 кл'!GAR15","v":0},{"$f":"'[1]11 кл'!GAS15","v":0},{"$f":"'[1]11 кл'!GAT15","v":0},{"$f":"'[1]11 кл'!GAU15","v":0},{"$f":"'[1]11 кл'!GAV15","v":0},{"$f":"'[1]11 кл'!GAW15","v":0},{"$f":"'[1]11 кл'!GAX15","v":0},{"$f":"'[1]11 кл'!GAY15","v":0},{"$f":"'[1]11 кл'!GAZ15","v":0},{"$f":"'[1]11 кл'!GBA15","v":0},{"$f":"'[1]11 кл'!GBB15","v":0},{"$f":"'[1]11 кл'!GBC15","v":0},{"$f":"'[1]11 кл'!GBD15","v":0},{"$f":"'[1]11 кл'!GBE15","v":0},{"$f":"'[1]11 кл'!GBF15","v":0},{"$f":"'[1]11 кл'!GBG15","v":0},{"$f":"'[1]11 кл'!GBH15","v":0},{"$f":"'[1]11 кл'!GBI15","v":0},{"$f":"'[1]11 кл'!GBJ15","v":0},{"$f":"'[1]11 кл'!GBK15","v":0},{"$f":"'[1]11 кл'!GBL15","v":0},{"$f":"'[1]11 кл'!GBM15","v":0},{"$f":"'[1]11 кл'!GBN15","v":0},{"$f":"'[1]11 кл'!GBO15","v":0},{"$f":"'[1]11 кл'!GBP15","v":0},{"$f":"'[1]11 кл'!GBQ15","v":0},{"$f":"'[1]11 кл'!GBR15","v":0},{"$f":"'[1]11 кл'!GBS15","v":0},{"$f":"'[1]11 кл'!GBT15","v":0},{"$f":"'[1]11 кл'!GBU15","v":0},{"$f":"'[1]11 кл'!GBV15","v":0},{"$f":"'[1]11 кл'!GBW15","v":0},{"$f":"'[1]11 кл'!GBX15","v":0},{"$f":"'[1]11 кл'!GBY15","v":0},{"$f":"'[1]11 кл'!GBZ15","v":0},{"$f":"'[1]11 кл'!GCA15","v":0},{"$f":"'[1]11 кл'!GCB15","v":0},{"$f":"'[1]11 кл'!GCC15","v":0},{"$f":"'[1]11 кл'!GCD15","v":0},{"$f":"'[1]11 кл'!GCE15","v":0},{"$f":"'[1]11 кл'!GCF15","v":0},{"$f":"'[1]11 кл'!GCG15","v":0},{"$f":"'[1]11 кл'!GCH15","v":0},{"$f":"'[1]11 кл'!GCI15","v":0},{"$f":"'[1]11 кл'!GCJ15","v":0},{"$f":"'[1]11 кл'!GCK15","v":0},{"$f":"'[1]11 кл'!GCL15","v":0},{"$f":"'[1]11 кл'!GCM15","v":0},{"$f":"'[1]11 кл'!GCN15","v":0},{"$f":"'[1]11 кл'!GCO15","v":0},{"$f":"'[1]11 кл'!GCP15","v":0},{"$f":"'[1]11 кл'!GCQ15","v":0},{"$f":"'[1]11 кл'!GCR15","v":0},{"$f":"'[1]11 кл'!GCS15","v":0},{"$f":"'[1]11 кл'!GCT15","v":0},{"$f":"'[1]11 кл'!GCU15","v":0},{"$f":"'[1]11 кл'!GCV15","v":0},{"$f":"'[1]11 кл'!GCW15","v":0},{"$f":"'[1]11 кл'!GCX15","v":0},{"$f":"'[1]11 кл'!GCY15","v":0},{"$f":"'[1]11 кл'!GCZ15","v":0},{"$f":"'[1]11 кл'!GDA15","v":0},{"$f":"'[1]11 кл'!GDB15","v":0},{"$f":"'[1]11 кл'!GDC15","v":0},{"$f":"'[1]11 кл'!GDD15","v":0},{"$f":"'[1]11 кл'!GDE15","v":0},{"$f":"'[1]11 кл'!GDF15","v":0},{"$f":"'[1]11 кл'!GDG15","v":0},{"$f":"'[1]11 кл'!GDH15","v":0},{"$f":"'[1]11 кл'!GDI15","v":0},{"$f":"'[1]11 кл'!GDJ15","v":0},{"$f":"'[1]11 кл'!GDK15","v":0},{"$f":"'[1]11 кл'!GDL15","v":0},{"$f":"'[1]11 кл'!GDM15","v":0},{"$f":"'[1]11 кл'!GDN15","v":0},{"$f":"'[1]11 кл'!GDO15","v":0},{"$f":"'[1]11 кл'!GDP15","v":0},{"$f":"'[1]11 кл'!GDQ15","v":0},{"$f":"'[1]11 кл'!GDR15","v":0},{"$f":"'[1]11 кл'!GDS15","v":0},{"$f":"'[1]11 кл'!GDT15","v":0},{"$f":"'[1]11 кл'!GDU15","v":0},{"$f":"'[1]11 кл'!GDV15","v":0},{"$f":"'[1]11 кл'!GDW15","v":0},{"$f":"'[1]11 кл'!GDX15","v":0},{"$f":"'[1]11 кл'!GDY15","v":0},{"$f":"'[1]11 кл'!GDZ15","v":0},{"$f":"'[1]11 кл'!GEA15","v":0},{"$f":"'[1]11 кл'!GEB15","v":0},{"$f":"'[1]11 кл'!GEC15","v":0},{"$f":"'[1]11 кл'!GED15","v":0},{"$f":"'[1]11 кл'!GEE15","v":0},{"$f":"'[1]11 кл'!GEF15","v":0},{"$f":"'[1]11 кл'!GEG15","v":0},{"$f":"'[1]11 кл'!GEH15","v":0},{"$f":"'[1]11 кл'!GEI15","v":0},{"$f":"'[1]11 кл'!GEJ15","v":0},{"$f":"'[1]11 кл'!GEK15","v":0},{"$f":"'[1]11 кл'!GEL15","v":0},{"$f":"'[1]11 кл'!GEM15","v":0},{"$f":"'[1]11 кл'!GEN15","v":0},{"$f":"'[1]11 кл'!GEO15","v":0},{"$f":"'[1]11 кл'!GEP15","v":0},{"$f":"'[1]11 кл'!GEQ15","v":0},{"$f":"'[1]11 кл'!GER15","v":0},{"$f":"'[1]11 кл'!GES15","v":0},{"$f":"'[1]11 кл'!GET15","v":0},{"$f":"'[1]11 кл'!GEU15","v":0},{"$f":"'[1]11 кл'!GEV15","v":0},{"$f":"'[1]11 кл'!GEW15","v":0},{"$f":"'[1]11 кл'!GEX15","v":0},{"$f":"'[1]11 кл'!GEY15","v":0},{"$f":"'[1]11 кл'!GEZ15","v":0},{"$f":"'[1]11 кл'!GFA15","v":0},{"$f":"'[1]11 кл'!GFB15","v":0},{"$f":"'[1]11 кл'!GFC15","v":0},{"$f":"'[1]11 кл'!GFD15","v":0},{"$f":"'[1]11 кл'!GFE15","v":0},{"$f":"'[1]11 кл'!GFF15","v":0},{"$f":"'[1]11 кл'!GFG15","v":0},{"$f":"'[1]11 кл'!GFH15","v":0},{"$f":"'[1]11 кл'!GFI15","v":0},{"$f":"'[1]11 кл'!GFJ15","v":0},{"$f":"'[1]11 кл'!GFK15","v":0},{"$f":"'[1]11 кл'!GFL15","v":0},{"$f":"'[1]11 кл'!GFM15","v":0},{"$f":"'[1]11 кл'!GFN15","v":0},{"$f":"'[1]11 кл'!GFO15","v":0},{"$f":"'[1]11 кл'!GFP15","v":0},{"$f":"'[1]11 кл'!GFQ15","v":0},{"$f":"'[1]11 кл'!GFR15","v":0},{"$f":"'[1]11 кл'!GFS15","v":0},{"$f":"'[1]11 кл'!GFT15","v":0},{"$f":"'[1]11 кл'!GFU15","v":0},{"$f":"'[1]11 кл'!GFV15","v":0},{"$f":"'[1]11 кл'!GFW15","v":0},{"$f":"'[1]11 кл'!GFX15","v":0},{"$f":"'[1]11 кл'!GFY15","v":0},{"$f":"'[1]11 кл'!GFZ15","v":0},{"$f":"'[1]11 кл'!GGA15","v":0},{"$f":"'[1]11 кл'!GGB15","v":0},{"$f":"'[1]11 кл'!GGC15","v":0},{"$f":"'[1]11 кл'!GGD15","v":0},{"$f":"'[1]11 кл'!GGE15","v":0},{"$f":"'[1]11 кл'!GGF15","v":0},{"$f":"'[1]11 кл'!GGG15","v":0},{"$f":"'[1]11 кл'!GGH15","v":0},{"$f":"'[1]11 кл'!GGI15","v":0},{"$f":"'[1]11 кл'!GGJ15","v":0},{"$f":"'[1]11 кл'!GGK15","v":0},{"$f":"'[1]11 кл'!GGL15","v":0},{"$f":"'[1]11 кл'!GGM15","v":0},{"$f":"'[1]11 кл'!GGN15","v":0},{"$f":"'[1]11 кл'!GGO15","v":0},{"$f":"'[1]11 кл'!GGP15","v":0},{"$f":"'[1]11 кл'!GGQ15","v":0},{"$f":"'[1]11 кл'!GGR15","v":0},{"$f":"'[1]11 кл'!GGS15","v":0},{"$f":"'[1]11 кл'!GGT15","v":0},{"$f":"'[1]11 кл'!GGU15","v":0},{"$f":"'[1]11 кл'!GGV15","v":0},{"$f":"'[1]11 кл'!GGW15","v":0},{"$f":"'[1]11 кл'!GGX15","v":0},{"$f":"'[1]11 кл'!GGY15","v":0},{"$f":"'[1]11 кл'!GGZ15","v":0},{"$f":"'[1]11 кл'!GHA15","v":0},{"$f":"'[1]11 кл'!GHB15","v":0},{"$f":"'[1]11 кл'!GHC15","v":0},{"$f":"'[1]11 кл'!GHD15","v":0},{"$f":"'[1]11 кл'!GHE15","v":0},{"$f":"'[1]11 кл'!GHF15","v":0},{"$f":"'[1]11 кл'!GHG15","v":0},{"$f":"'[1]11 кл'!GHH15","v":0},{"$f":"'[1]11 кл'!GHI15","v":0},{"$f":"'[1]11 кл'!GHJ15","v":0},{"$f":"'[1]11 кл'!GHK15","v":0},{"$f":"'[1]11 кл'!GHL15","v":0},{"$f":"'[1]11 кл'!GHM15","v":0},{"$f":"'[1]11 кл'!GHN15","v":0},{"$f":"'[1]11 кл'!GHO15","v":0},{"$f":"'[1]11 кл'!GHP15","v":0},{"$f":"'[1]11 кл'!GHQ15","v":0},{"$f":"'[1]11 кл'!GHR15","v":0},{"$f":"'[1]11 кл'!GHS15","v":0},{"$f":"'[1]11 кл'!GHT15","v":0},{"$f":"'[1]11 кл'!GHU15","v":0},{"$f":"'[1]11 кл'!GHV15","v":0},{"$f":"'[1]11 кл'!GHW15","v":0},{"$f":"'[1]11 кл'!GHX15","v":0},{"$f":"'[1]11 кл'!GHY15","v":0},{"$f":"'[1]11 кл'!GHZ15","v":0},{"$f":"'[1]11 кл'!GIA15","v":0},{"$f":"'[1]11 кл'!GIB15","v":0},{"$f":"'[1]11 кл'!GIC15","v":0},{"$f":"'[1]11 кл'!GID15","v":0},{"$f":"'[1]11 кл'!GIE15","v":0},{"$f":"'[1]11 кл'!GIF15","v":0},{"$f":"'[1]11 кл'!GIG15","v":0},{"$f":"'[1]11 кл'!GIH15","v":0},{"$f":"'[1]11 кл'!GII15","v":0},{"$f":"'[1]11 кл'!GIJ15","v":0},{"$f":"'[1]11 кл'!GIK15","v":0},{"$f":"'[1]11 кл'!GIL15","v":0},{"$f":"'[1]11 кл'!GIM15","v":0},{"$f":"'[1]11 кл'!GIN15","v":0},{"$f":"'[1]11 кл'!GIO15","v":0},{"$f":"'[1]11 кл'!GIP15","v":0},{"$f":"'[1]11 кл'!GIQ15","v":0},{"$f":"'[1]11 кл'!GIR15","v":0},{"$f":"'[1]11 кл'!GIS15","v":0},{"$f":"'[1]11 кл'!GIT15","v":0},{"$f":"'[1]11 кл'!GIU15","v":0},{"$f":"'[1]11 кл'!GIV15","v":0},{"$f":"'[1]11 кл'!GIW15","v":0},{"$f":"'[1]11 кл'!GIX15","v":0},{"$f":"'[1]11 кл'!GIY15","v":0},{"$f":"'[1]11 кл'!GIZ15","v":0},{"$f":"'[1]11 кл'!GJA15","v":0},{"$f":"'[1]11 кл'!GJB15","v":0},{"$f":"'[1]11 кл'!GJC15","v":0},{"$f":"'[1]11 кл'!GJD15","v":0},{"$f":"'[1]11 кл'!GJE15","v":0},{"$f":"'[1]11 кл'!GJF15","v":0},{"$f":"'[1]11 кл'!GJG15","v":0},{"$f":"'[1]11 кл'!GJH15","v":0},{"$f":"'[1]11 кл'!GJI15","v":0},{"$f":"'[1]11 кл'!GJJ15","v":0},{"$f":"'[1]11 кл'!GJK15","v":0},{"$f":"'[1]11 кл'!GJL15","v":0},{"$f":"'[1]11 кл'!GJM15","v":0},{"$f":"'[1]11 кл'!GJN15","v":0},{"$f":"'[1]11 кл'!GJO15","v":0},{"$f":"'[1]11 кл'!GJP15","v":0},{"$f":"'[1]11 кл'!GJQ15","v":0},{"$f":"'[1]11 кл'!GJR15","v":0},{"$f":"'[1]11 кл'!GJS15","v":0},{"$f":"'[1]11 кл'!GJT15","v":0},{"$f":"'[1]11 кл'!GJU15","v":0},{"$f":"'[1]11 кл'!GJV15","v":0},{"$f":"'[1]11 кл'!GJW15","v":0},{"$f":"'[1]11 кл'!GJX15","v":0},{"$f":"'[1]11 кл'!GJY15","v":0},{"$f":"'[1]11 кл'!GJZ15","v":0},{"$f":"'[1]11 кл'!GKA15","v":0},{"$f":"'[1]11 кл'!GKB15","v":0},{"$f":"'[1]11 кл'!GKC15","v":0},{"$f":"'[1]11 кл'!GKD15","v":0},{"$f":"'[1]11 кл'!GKE15","v":0},{"$f":"'[1]11 кл'!GKF15","v":0},{"$f":"'[1]11 кл'!GKG15","v":0},{"$f":"'[1]11 кл'!GKH15","v":0},{"$f":"'[1]11 кл'!GKI15","v":0},{"$f":"'[1]11 кл'!GKJ15","v":0},{"$f":"'[1]11 кл'!GKK15","v":0},{"$f":"'[1]11 кл'!GKL15","v":0},{"$f":"'[1]11 кл'!GKM15","v":0},{"$f":"'[1]11 кл'!GKN15","v":0},{"$f":"'[1]11 кл'!GKO15","v":0},{"$f":"'[1]11 кл'!GKP15","v":0},{"$f":"'[1]11 кл'!GKQ15","v":0},{"$f":"'[1]11 кл'!GKR15","v":0},{"$f":"'[1]11 кл'!GKS15","v":0},{"$f":"'[1]11 кл'!GKT15","v":0},{"$f":"'[1]11 кл'!GKU15","v":0},{"$f":"'[1]11 кл'!GKV15","v":0},{"$f":"'[1]11 кл'!GKW15","v":0},{"$f":"'[1]11 кл'!GKX15","v":0},{"$f":"'[1]11 кл'!GKY15","v":0},{"$f":"'[1]11 кл'!GKZ15","v":0},{"$f":"'[1]11 кл'!GLA15","v":0},{"$f":"'[1]11 кл'!GLB15","v":0},{"$f":"'[1]11 кл'!GLC15","v":0},{"$f":"'[1]11 кл'!GLD15","v":0},{"$f":"'[1]11 кл'!GLE15","v":0},{"$f":"'[1]11 кл'!GLF15","v":0},{"$f":"'[1]11 кл'!GLG15","v":0},{"$f":"'[1]11 кл'!GLH15","v":0},{"$f":"'[1]11 кл'!GLI15","v":0},{"$f":"'[1]11 кл'!GLJ15","v":0},{"$f":"'[1]11 кл'!GLK15","v":0},{"$f":"'[1]11 кл'!GLL15","v":0},{"$f":"'[1]11 кл'!GLM15","v":0},{"$f":"'[1]11 кл'!GLN15","v":0},{"$f":"'[1]11 кл'!GLO15","v":0},{"$f":"'[1]11 кл'!GLP15","v":0},{"$f":"'[1]11 кл'!GLQ15","v":0},{"$f":"'[1]11 кл'!GLR15","v":0},{"$f":"'[1]11 кл'!GLS15","v":0},{"$f":"'[1]11 кл'!GLT15","v":0},{"$f":"'[1]11 кл'!GLU15","v":0},{"$f":"'[1]11 кл'!GLV15","v":0},{"$f":"'[1]11 кл'!GLW15","v":0},{"$f":"'[1]11 кл'!GLX15","v":0},{"$f":"'[1]11 кл'!GLY15","v":0},{"$f":"'[1]11 кл'!GLZ15","v":0},{"$f":"'[1]11 кл'!GMA15","v":0},{"$f":"'[1]11 кл'!GMB15","v":0},{"$f":"'[1]11 кл'!GMC15","v":0},{"$f":"'[1]11 кл'!GMD15","v":0},{"$f":"'[1]11 кл'!GME15","v":0},{"$f":"'[1]11 кл'!GMF15","v":0},{"$f":"'[1]11 кл'!GMG15","v":0},{"$f":"'[1]11 кл'!GMH15","v":0},{"$f":"'[1]11 кл'!GMI15","v":0},{"$f":"'[1]11 кл'!GMJ15","v":0},{"$f":"'[1]11 кл'!GMK15","v":0},{"$f":"'[1]11 кл'!GML15","v":0},{"$f":"'[1]11 кл'!GMM15","v":0},{"$f":"'[1]11 кл'!GMN15","v":0},{"$f":"'[1]11 кл'!GMO15","v":0},{"$f":"'[1]11 кл'!GMP15","v":0},{"$f":"'[1]11 кл'!GMQ15","v":0},{"$f":"'[1]11 кл'!GMR15","v":0},{"$f":"'[1]11 кл'!GMS15","v":0},{"$f":"'[1]11 кл'!GMT15","v":0},{"$f":"'[1]11 кл'!GMU15","v":0},{"$f":"'[1]11 кл'!GMV15","v":0},{"$f":"'[1]11 кл'!GMW15","v":0},{"$f":"'[1]11 кл'!GMX15","v":0},{"$f":"'[1]11 кл'!GMY15","v":0},{"$f":"'[1]11 кл'!GMZ15","v":0},{"$f":"'[1]11 кл'!GNA15","v":0},{"$f":"'[1]11 кл'!GNB15","v":0},{"$f":"'[1]11 кл'!GNC15","v":0},{"$f":"'[1]11 кл'!GND15","v":0},{"$f":"'[1]11 кл'!GNE15","v":0},{"$f":"'[1]11 кл'!GNF15","v":0},{"$f":"'[1]11 кл'!GNG15","v":0},{"$f":"'[1]11 кл'!GNH15","v":0},{"$f":"'[1]11 кл'!GNI15","v":0},{"$f":"'[1]11 кл'!GNJ15","v":0},{"$f":"'[1]11 кл'!GNK15","v":0},{"$f":"'[1]11 кл'!GNL15","v":0},{"$f":"'[1]11 кл'!GNM15","v":0},{"$f":"'[1]11 кл'!GNN15","v":0},{"$f":"'[1]11 кл'!GNO15","v":0},{"$f":"'[1]11 кл'!GNP15","v":0},{"$f":"'[1]11 кл'!GNQ15","v":0},{"$f":"'[1]11 кл'!GNR15","v":0},{"$f":"'[1]11 кл'!GNS15","v":0},{"$f":"'[1]11 кл'!GNT15","v":0},{"$f":"'[1]11 кл'!GNU15","v":0},{"$f":"'[1]11 кл'!GNV15","v":0},{"$f":"'[1]11 кл'!GNW15","v":0},{"$f":"'[1]11 кл'!GNX15","v":0},{"$f":"'[1]11 кл'!GNY15","v":0},{"$f":"'[1]11 кл'!GNZ15","v":0},{"$f":"'[1]11 кл'!GOA15","v":0},{"$f":"'[1]11 кл'!GOB15","v":0},{"$f":"'[1]11 кл'!GOC15","v":0},{"$f":"'[1]11 кл'!GOD15","v":0},{"$f":"'[1]11 кл'!GOE15","v":0},{"$f":"'[1]11 кл'!GOF15","v":0},{"$f":"'[1]11 кл'!GOG15","v":0},{"$f":"'[1]11 кл'!GOH15","v":0},{"$f":"'[1]11 кл'!GOI15","v":0},{"$f":"'[1]11 кл'!GOJ15","v":0},{"$f":"'[1]11 кл'!GOK15","v":0},{"$f":"'[1]11 кл'!GOL15","v":0},{"$f":"'[1]11 кл'!GOM15","v":0},{"$f":"'[1]11 кл'!GON15","v":0},{"$f":"'[1]11 кл'!GOO15","v":0},{"$f":"'[1]11 кл'!GOP15","v":0},{"$f":"'[1]11 кл'!GOQ15","v":0},{"$f":"'[1]11 кл'!GOR15","v":0},{"$f":"'[1]11 кл'!GOS15","v":0},{"$f":"'[1]11 кл'!GOT15","v":0},{"$f":"'[1]11 кл'!GOU15","v":0},{"$f":"'[1]11 кл'!GOV15","v":0},{"$f":"'[1]11 кл'!GOW15","v":0},{"$f":"'[1]11 кл'!GOX15","v":0},{"$f":"'[1]11 кл'!GOY15","v":0},{"$f":"'[1]11 кл'!GOZ15","v":0},{"$f":"'[1]11 кл'!GPA15","v":0},{"$f":"'[1]11 кл'!GPB15","v":0},{"$f":"'[1]11 кл'!GPC15","v":0},{"$f":"'[1]11 кл'!GPD15","v":0},{"$f":"'[1]11 кл'!GPE15","v":0},{"$f":"'[1]11 кл'!GPF15","v":0},{"$f":"'[1]11 кл'!GPG15","v":0},{"$f":"'[1]11 кл'!GPH15","v":0},{"$f":"'[1]11 кл'!GPI15","v":0},{"$f":"'[1]11 кл'!GPJ15","v":0},{"$f":"'[1]11 кл'!GPK15","v":0},{"$f":"'[1]11 кл'!GPL15","v":0},{"$f":"'[1]11 кл'!GPM15","v":0},{"$f":"'[1]11 кл'!GPN15","v":0},{"$f":"'[1]11 кл'!GPO15","v":0},{"$f":"'[1]11 кл'!GPP15","v":0},{"$f":"'[1]11 кл'!GPQ15","v":0},{"$f":"'[1]11 кл'!GPR15","v":0},{"$f":"'[1]11 кл'!GPS15","v":0},{"$f":"'[1]11 кл'!GPT15","v":0},{"$f":"'[1]11 кл'!GPU15","v":0},{"$f":"'[1]11 кл'!GPV15","v":0},{"$f":"'[1]11 кл'!GPW15","v":0},{"$f":"'[1]11 кл'!GPX15","v":0},{"$f":"'[1]11 кл'!GPY15","v":0},{"$f":"'[1]11 кл'!GPZ15","v":0},{"$f":"'[1]11 кл'!GQA15","v":0},{"$f":"'[1]11 кл'!GQB15","v":0},{"$f":"'[1]11 кл'!GQC15","v":0},{"$f":"'[1]11 кл'!GQD15","v":0},{"$f":"'[1]11 кл'!GQE15","v":0},{"$f":"'[1]11 кл'!GQF15","v":0},{"$f":"'[1]11 кл'!GQG15","v":0},{"$f":"'[1]11 кл'!GQH15","v":0},{"$f":"'[1]11 кл'!GQI15","v":0},{"$f":"'[1]11 кл'!GQJ15","v":0},{"$f":"'[1]11 кл'!GQK15","v":0},{"$f":"'[1]11 кл'!GQL15","v":0},{"$f":"'[1]11 кл'!GQM15","v":0},{"$f":"'[1]11 кл'!GQN15","v":0},{"$f":"'[1]11 кл'!GQO15","v":0},{"$f":"'[1]11 кл'!GQP15","v":0},{"$f":"'[1]11 кл'!GQQ15","v":0},{"$f":"'[1]11 кл'!GQR15","v":0},{"$f":"'[1]11 кл'!GQS15","v":0},{"$f":"'[1]11 кл'!GQT15","v":0},{"$f":"'[1]11 кл'!GQU15","v":0},{"$f":"'[1]11 кл'!GQV15","v":0},{"$f":"'[1]11 кл'!GQW15","v":0},{"$f":"'[1]11 кл'!GQX15","v":0},{"$f":"'[1]11 кл'!GQY15","v":0},{"$f":"'[1]11 кл'!GQZ15","v":0},{"$f":"'[1]11 кл'!GRA15","v":0},{"$f":"'[1]11 кл'!GRB15","v":0},{"$f":"'[1]11 кл'!GRC15","v":0},{"$f":"'[1]11 кл'!GRD15","v":0},{"$f":"'[1]11 кл'!GRE15","v":0},{"$f":"'[1]11 кл'!GRF15","v":0},{"$f":"'[1]11 кл'!GRG15","v":0},{"$f":"'[1]11 кл'!GRH15","v":0},{"$f":"'[1]11 кл'!GRI15","v":0},{"$f":"'[1]11 кл'!GRJ15","v":0},{"$f":"'[1]11 кл'!GRK15","v":0},{"$f":"'[1]11 кл'!GRL15","v":0},{"$f":"'[1]11 кл'!GRM15","v":0},{"$f":"'[1]11 кл'!GRN15","v":0},{"$f":"'[1]11 кл'!GRO15","v":0},{"$f":"'[1]11 кл'!GRP15","v":0},{"$f":"'[1]11 кл'!GRQ15","v":0},{"$f":"'[1]11 кл'!GRR15","v":0},{"$f":"'[1]11 кл'!GRS15","v":0},{"$f":"'[1]11 кл'!GRT15","v":0},{"$f":"'[1]11 кл'!GRU15","v":0},{"$f":"'[1]11 кл'!GRV15","v":0},{"$f":"'[1]11 кл'!GRW15","v":0},{"$f":"'[1]11 кл'!GRX15","v":0},{"$f":"'[1]11 кл'!GRY15","v":0},{"$f":"'[1]11 кл'!GRZ15","v":0},{"$f":"'[1]11 кл'!GSA15","v":0},{"$f":"'[1]11 кл'!GSB15","v":0},{"$f":"'[1]11 кл'!GSC15","v":0},{"$f":"'[1]11 кл'!GSD15","v":0},{"$f":"'[1]11 кл'!GSE15","v":0},{"$f":"'[1]11 кл'!GSF15","v":0},{"$f":"'[1]11 кл'!GSG15","v":0},{"$f":"'[1]11 кл'!GSH15","v":0},{"$f":"'[1]11 кл'!GSI15","v":0},{"$f":"'[1]11 кл'!GSJ15","v":0},{"$f":"'[1]11 кл'!GSK15","v":0},{"$f":"'[1]11 кл'!GSL15","v":0},{"$f":"'[1]11 кл'!GSM15","v":0},{"$f":"'[1]11 кл'!GSN15","v":0},{"$f":"'[1]11 кл'!GSO15","v":0},{"$f":"'[1]11 кл'!GSP15","v":0},{"$f":"'[1]11 кл'!GSQ15","v":0},{"$f":"'[1]11 кл'!GSR15","v":0},{"$f":"'[1]11 кл'!GSS15","v":0},{"$f":"'[1]11 кл'!GST15","v":0},{"$f":"'[1]11 кл'!GSU15","v":0},{"$f":"'[1]11 кл'!GSV15","v":0},{"$f":"'[1]11 кл'!GSW15","v":0},{"$f":"'[1]11 кл'!GSX15","v":0},{"$f":"'[1]11 кл'!GSY15","v":0},{"$f":"'[1]11 кл'!GSZ15","v":0},{"$f":"'[1]11 кл'!GTA15","v":0},{"$f":"'[1]11 кл'!GTB15","v":0},{"$f":"'[1]11 кл'!GTC15","v":0},{"$f":"'[1]11 кл'!GTD15","v":0},{"$f":"'[1]11 кл'!GTE15","v":0},{"$f":"'[1]11 кл'!GTF15","v":0},{"$f":"'[1]11 кл'!GTG15","v":0},{"$f":"'[1]11 кл'!GTH15","v":0},{"$f":"'[1]11 кл'!GTI15","v":0},{"$f":"'[1]11 кл'!GTJ15","v":0},{"$f":"'[1]11 кл'!GTK15","v":0},{"$f":"'[1]11 кл'!GTL15","v":0},{"$f":"'[1]11 кл'!GTM15","v":0},{"$f":"'[1]11 кл'!GTN15","v":0},{"$f":"'[1]11 кл'!GTO15","v":0},{"$f":"'[1]11 кл'!GTP15","v":0},{"$f":"'[1]11 кл'!GTQ15","v":0},{"$f":"'[1]11 кл'!GTR15","v":0},{"$f":"'[1]11 кл'!GTS15","v":0},{"$f":"'[1]11 кл'!GTT15","v":0},{"$f":"'[1]11 кл'!GTU15","v":0},{"$f":"'[1]11 кл'!GTV15","v":0},{"$f":"'[1]11 кл'!GTW15","v":0},{"$f":"'[1]11 кл'!GTX15","v":0},{"$f":"'[1]11 кл'!GTY15","v":0},{"$f":"'[1]11 кл'!GTZ15","v":0},{"$f":"'[1]11 кл'!GUA15","v":0},{"$f":"'[1]11 кл'!GUB15","v":0},{"$f":"'[1]11 кл'!GUC15","v":0},{"$f":"'[1]11 кл'!GUD15","v":0},{"$f":"'[1]11 кл'!GUE15","v":0},{"$f":"'[1]11 кл'!GUF15","v":0},{"$f":"'[1]11 кл'!GUG15","v":0},{"$f":"'[1]11 кл'!GUH15","v":0},{"$f":"'[1]11 кл'!GUI15","v":0},{"$f":"'[1]11 кл'!GUJ15","v":0},{"$f":"'[1]11 кл'!GUK15","v":0},{"$f":"'[1]11 кл'!GUL15","v":0},{"$f":"'[1]11 кл'!GUM15","v":0},{"$f":"'[1]11 кл'!GUN15","v":0},{"$f":"'[1]11 кл'!GUO15","v":0},{"$f":"'[1]11 кл'!GUP15","v":0},{"$f":"'[1]11 кл'!GUQ15","v":0},{"$f":"'[1]11 кл'!GUR15","v":0},{"$f":"'[1]11 кл'!GUS15","v":0},{"$f":"'[1]11 кл'!GUT15","v":0},{"$f":"'[1]11 кл'!GUU15","v":0},{"$f":"'[1]11 кл'!GUV15","v":0},{"$f":"'[1]11 кл'!GUW15","v":0},{"$f":"'[1]11 кл'!GUX15","v":0},{"$f":"'[1]11 кл'!GUY15","v":0},{"$f":"'[1]11 кл'!GUZ15","v":0},{"$f":"'[1]11 кл'!GVA15","v":0},{"$f":"'[1]11 кл'!GVB15","v":0},{"$f":"'[1]11 кл'!GVC15","v":0},{"$f":"'[1]11 кл'!GVD15","v":0},{"$f":"'[1]11 кл'!GVE15","v":0},{"$f":"'[1]11 кл'!GVF15","v":0},{"$f":"'[1]11 кл'!GVG15","v":0},{"$f":"'[1]11 кл'!GVH15","v":0},{"$f":"'[1]11 кл'!GVI15","v":0},{"$f":"'[1]11 кл'!GVJ15","v":0},{"$f":"'[1]11 кл'!GVK15","v":0},{"$f":"'[1]11 кл'!GVL15","v":0},{"$f":"'[1]11 кл'!GVM15","v":0},{"$f":"'[1]11 кл'!GVN15","v":0},{"$f":"'[1]11 кл'!GVO15","v":0},{"$f":"'[1]11 кл'!GVP15","v":0},{"$f":"'[1]11 кл'!GVQ15","v":0},{"$f":"'[1]11 кл'!GVR15","v":0},{"$f":"'[1]11 кл'!GVS15","v":0},{"$f":"'[1]11 кл'!GVT15","v":0},{"$f":"'[1]11 кл'!GVU15","v":0},{"$f":"'[1]11 кл'!GVV15","v":0},{"$f":"'[1]11 кл'!GVW15","v":0},{"$f":"'[1]11 кл'!GVX15","v":0},{"$f":"'[1]11 кл'!GVY15","v":0},{"$f":"'[1]11 кл'!GVZ15","v":0},{"$f":"'[1]11 кл'!GWA15","v":0},{"$f":"'[1]11 кл'!GWB15","v":0},{"$f":"'[1]11 кл'!GWC15","v":0},{"$f":"'[1]11 кл'!GWD15","v":0},{"$f":"'[1]11 кл'!GWE15","v":0},{"$f":"'[1]11 кл'!GWF15","v":0},{"$f":"'[1]11 кл'!GWG15","v":0},{"$f":"'[1]11 кл'!GWH15","v":0},{"$f":"'[1]11 кл'!GWI15","v":0},{"$f":"'[1]11 кл'!GWJ15","v":0},{"$f":"'[1]11 кл'!GWK15","v":0},{"$f":"'[1]11 кл'!GWL15","v":0},{"$f":"'[1]11 кл'!GWM15","v":0},{"$f":"'[1]11 кл'!GWN15","v":0},{"$f":"'[1]11 кл'!GWO15","v":0},{"$f":"'[1]11 кл'!GWP15","v":0},{"$f":"'[1]11 кл'!GWQ15","v":0},{"$f":"'[1]11 кл'!GWR15","v":0},{"$f":"'[1]11 кл'!GWS15","v":0},{"$f":"'[1]11 кл'!GWT15","v":0},{"$f":"'[1]11 кл'!GWU15","v":0},{"$f":"'[1]11 кл'!GWV15","v":0},{"$f":"'[1]11 кл'!GWW15","v":0},{"$f":"'[1]11 кл'!GWX15","v":0},{"$f":"'[1]11 кл'!GWY15","v":0},{"$f":"'[1]11 кл'!GWZ15","v":0},{"$f":"'[1]11 кл'!GXA15","v":0},{"$f":"'[1]11 кл'!GXB15","v":0},{"$f":"'[1]11 кл'!GXC15","v":0},{"$f":"'[1]11 кл'!GXD15","v":0},{"$f":"'[1]11 кл'!GXE15","v":0},{"$f":"'[1]11 кл'!GXF15","v":0},{"$f":"'[1]11 кл'!GXG15","v":0},{"$f":"'[1]11 кл'!GXH15","v":0},{"$f":"'[1]11 кл'!GXI15","v":0},{"$f":"'[1]11 кл'!GXJ15","v":0},{"$f":"'[1]11 кл'!GXK15","v":0},{"$f":"'[1]11 кл'!GXL15","v":0},{"$f":"'[1]11 кл'!GXM15","v":0},{"$f":"'[1]11 кл'!GXN15","v":0},{"$f":"'[1]11 кл'!GXO15","v":0},{"$f":"'[1]11 кл'!GXP15","v":0},{"$f":"'[1]11 кл'!GXQ15","v":0},{"$f":"'[1]11 кл'!GXR15","v":0},{"$f":"'[1]11 кл'!GXS15","v":0},{"$f":"'[1]11 кл'!GXT15","v":0},{"$f":"'[1]11 кл'!GXU15","v":0},{"$f":"'[1]11 кл'!GXV15","v":0},{"$f":"'[1]11 кл'!GXW15","v":0},{"$f":"'[1]11 кл'!GXX15","v":0},{"$f":"'[1]11 кл'!GXY15","v":0},{"$f":"'[1]11 кл'!GXZ15","v":0},{"$f":"'[1]11 кл'!GYA15","v":0},{"$f":"'[1]11 кл'!GYB15","v":0},{"$f":"'[1]11 кл'!GYC15","v":0},{"$f":"'[1]11 кл'!GYD15","v":0},{"$f":"'[1]11 кл'!GYE15","v":0},{"$f":"'[1]11 кл'!GYF15","v":0},{"$f":"'[1]11 кл'!GYG15","v":0},{"$f":"'[1]11 кл'!GYH15","v":0},{"$f":"'[1]11 кл'!GYI15","v":0},{"$f":"'[1]11 кл'!GYJ15","v":0},{"$f":"'[1]11 кл'!GYK15","v":0},{"$f":"'[1]11 кл'!GYL15","v":0},{"$f":"'[1]11 кл'!GYM15","v":0},{"$f":"'[1]11 кл'!GYN15","v":0},{"$f":"'[1]11 кл'!GYO15","v":0},{"$f":"'[1]11 кл'!GYP15","v":0},{"$f":"'[1]11 кл'!GYQ15","v":0},{"$f":"'[1]11 кл'!GYR15","v":0},{"$f":"'[1]11 кл'!GYS15","v":0},{"$f":"'[1]11 кл'!GYT15","v":0},{"$f":"'[1]11 кл'!GYU15","v":0},{"$f":"'[1]11 кл'!GYV15","v":0},{"$f":"'[1]11 кл'!GYW15","v":0},{"$f":"'[1]11 кл'!GYX15","v":0},{"$f":"'[1]11 кл'!GYY15","v":0},{"$f":"'[1]11 кл'!GYZ15","v":0},{"$f":"'[1]11 кл'!GZA15","v":0},{"$f":"'[1]11 кл'!GZB15","v":0},{"$f":"'[1]11 кл'!GZC15","v":0},{"$f":"'[1]11 кл'!GZD15","v":0},{"$f":"'[1]11 кл'!GZE15","v":0},{"$f":"'[1]11 кл'!GZF15","v":0},{"$f":"'[1]11 кл'!GZG15","v":0},{"$f":"'[1]11 кл'!GZH15","v":0},{"$f":"'[1]11 кл'!GZI15","v":0},{"$f":"'[1]11 кл'!GZJ15","v":0},{"$f":"'[1]11 кл'!GZK15","v":0},{"$f":"'[1]11 кл'!GZL15","v":0},{"$f":"'[1]11 кл'!GZM15","v":0},{"$f":"'[1]11 кл'!GZN15","v":0},{"$f":"'[1]11 кл'!GZO15","v":0},{"$f":"'[1]11 кл'!GZP15","v":0},{"$f":"'[1]11 кл'!GZQ15","v":0},{"$f":"'[1]11 кл'!GZR15","v":0},{"$f":"'[1]11 кл'!GZS15","v":0},{"$f":"'[1]11 кл'!GZT15","v":0},{"$f":"'[1]11 кл'!GZU15","v":0},{"$f":"'[1]11 кл'!GZV15","v":0},{"$f":"'[1]11 кл'!GZW15","v":0},{"$f":"'[1]11 кл'!GZX15","v":0},{"$f":"'[1]11 кл'!GZY15","v":0},{"$f":"'[1]11 кл'!GZZ15","v":0},{"$f":"'[1]11 кл'!HAA15","v":0},{"$f":"'[1]11 кл'!HAB15","v":0},{"$f":"'[1]11 кл'!HAC15","v":0},{"$f":"'[1]11 кл'!HAD15","v":0},{"$f":"'[1]11 кл'!HAE15","v":0},{"$f":"'[1]11 кл'!HAF15","v":0},{"$f":"'[1]11 кл'!HAG15","v":0},{"$f":"'[1]11 кл'!HAH15","v":0},{"$f":"'[1]11 кл'!HAI15","v":0},{"$f":"'[1]11 кл'!HAJ15","v":0},{"$f":"'[1]11 кл'!HAK15","v":0},{"$f":"'[1]11 кл'!HAL15","v":0},{"$f":"'[1]11 кл'!HAM15","v":0},{"$f":"'[1]11 кл'!HAN15","v":0},{"$f":"'[1]11 кл'!HAO15","v":0},{"$f":"'[1]11 кл'!HAP15","v":0},{"$f":"'[1]11 кл'!HAQ15","v":0},{"$f":"'[1]11 кл'!HAR15","v":0},{"$f":"'[1]11 кл'!HAS15","v":0},{"$f":"'[1]11 кл'!HAT15","v":0},{"$f":"'[1]11 кл'!HAU15","v":0},{"$f":"'[1]11 кл'!HAV15","v":0},{"$f":"'[1]11 кл'!HAW15","v":0},{"$f":"'[1]11 кл'!HAX15","v":0},{"$f":"'[1]11 кл'!HAY15","v":0},{"$f":"'[1]11 кл'!HAZ15","v":0},{"$f":"'[1]11 кл'!HBA15","v":0},{"$f":"'[1]11 кл'!HBB15","v":0},{"$f":"'[1]11 кл'!HBC15","v":0},{"$f":"'[1]11 кл'!HBD15","v":0},{"$f":"'[1]11 кл'!HBE15","v":0},{"$f":"'[1]11 кл'!HBF15","v":0},{"$f":"'[1]11 кл'!HBG15","v":0},{"$f":"'[1]11 кл'!HBH15","v":0},{"$f":"'[1]11 кл'!HBI15","v":0},{"$f":"'[1]11 кл'!HBJ15","v":0},{"$f":"'[1]11 кл'!HBK15","v":0},{"$f":"'[1]11 кл'!HBL15","v":0},{"$f":"'[1]11 кл'!HBM15","v":0},{"$f":"'[1]11 кл'!HBN15","v":0},{"$f":"'[1]11 кл'!HBO15","v":0},{"$f":"'[1]11 кл'!HBP15","v":0},{"$f":"'[1]11 кл'!HBQ15","v":0},{"$f":"'[1]11 кл'!HBR15","v":0},{"$f":"'[1]11 кл'!HBS15","v":0},{"$f":"'[1]11 кл'!HBT15","v":0},{"$f":"'[1]11 кл'!HBU15","v":0},{"$f":"'[1]11 кл'!HBV15","v":0},{"$f":"'[1]11 кл'!HBW15","v":0},{"$f":"'[1]11 кл'!HBX15","v":0},{"$f":"'[1]11 кл'!HBY15","v":0},{"$f":"'[1]11 кл'!HBZ15","v":0},{"$f":"'[1]11 кл'!HCA15","v":0},{"$f":"'[1]11 кл'!HCB15","v":0},{"$f":"'[1]11 кл'!HCC15","v":0},{"$f":"'[1]11 кл'!HCD15","v":0},{"$f":"'[1]11 кл'!HCE15","v":0},{"$f":"'[1]11 кл'!HCF15","v":0},{"$f":"'[1]11 кл'!HCG15","v":0},{"$f":"'[1]11 кл'!HCH15","v":0},{"$f":"'[1]11 кл'!HCI15","v":0},{"$f":"'[1]11 кл'!HCJ15","v":0},{"$f":"'[1]11 кл'!HCK15","v":0},{"$f":"'[1]11 кл'!HCL15","v":0},{"$f":"'[1]11 кл'!HCM15","v":0},{"$f":"'[1]11 кл'!HCN15","v":0},{"$f":"'[1]11 кл'!HCO15","v":0},{"$f":"'[1]11 кл'!HCP15","v":0},{"$f":"'[1]11 кл'!HCQ15","v":0},{"$f":"'[1]11 кл'!HCR15","v":0},{"$f":"'[1]11 кл'!HCS15","v":0},{"$f":"'[1]11 кл'!HCT15","v":0},{"$f":"'[1]11 кл'!HCU15","v":0},{"$f":"'[1]11 кл'!HCV15","v":0},{"$f":"'[1]11 кл'!HCW15","v":0},{"$f":"'[1]11 кл'!HCX15","v":0},{"$f":"'[1]11 кл'!HCY15","v":0},{"$f":"'[1]11 кл'!HCZ15","v":0},{"$f":"'[1]11 кл'!HDA15","v":0},{"$f":"'[1]11 кл'!HDB15","v":0},{"$f":"'[1]11 кл'!HDC15","v":0},{"$f":"'[1]11 кл'!HDD15","v":0},{"$f":"'[1]11 кл'!HDE15","v":0},{"$f":"'[1]11 кл'!HDF15","v":0},{"$f":"'[1]11 кл'!HDG15","v":0},{"$f":"'[1]11 кл'!HDH15","v":0},{"$f":"'[1]11 кл'!HDI15","v":0},{"$f":"'[1]11 кл'!HDJ15","v":0},{"$f":"'[1]11 кл'!HDK15","v":0},{"$f":"'[1]11 кл'!HDL15","v":0},{"$f":"'[1]11 кл'!HDM15","v":0},{"$f":"'[1]11 кл'!HDN15","v":0},{"$f":"'[1]11 кл'!HDO15","v":0},{"$f":"'[1]11 кл'!HDP15","v":0},{"$f":"'[1]11 кл'!HDQ15","v":0},{"$f":"'[1]11 кл'!HDR15","v":0},{"$f":"'[1]11 кл'!HDS15","v":0},{"$f":"'[1]11 кл'!HDT15","v":0},{"$f":"'[1]11 кл'!HDU15","v":0},{"$f":"'[1]11 кл'!HDV15","v":0},{"$f":"'[1]11 кл'!HDW15","v":0},{"$f":"'[1]11 кл'!HDX15","v":0},{"$f":"'[1]11 кл'!HDY15","v":0},{"$f":"'[1]11 кл'!HDZ15","v":0},{"$f":"'[1]11 кл'!HEA15","v":0},{"$f":"'[1]11 кл'!HEB15","v":0},{"$f":"'[1]11 кл'!HEC15","v":0},{"$f":"'[1]11 кл'!HED15","v":0},{"$f":"'[1]11 кл'!HEE15","v":0},{"$f":"'[1]11 кл'!HEF15","v":0},{"$f":"'[1]11 кл'!HEG15","v":0},{"$f":"'[1]11 кл'!HEH15","v":0},{"$f":"'[1]11 кл'!HEI15","v":0},{"$f":"'[1]11 кл'!HEJ15","v":0},{"$f":"'[1]11 кл'!HEK15","v":0},{"$f":"'[1]11 кл'!HEL15","v":0},{"$f":"'[1]11 кл'!HEM15","v":0},{"$f":"'[1]11 кл'!HEN15","v":0},{"$f":"'[1]11 кл'!HEO15","v":0},{"$f":"'[1]11 кл'!HEP15","v":0},{"$f":"'[1]11 кл'!HEQ15","v":0},{"$f":"'[1]11 кл'!HER15","v":0},{"$f":"'[1]11 кл'!HES15","v":0},{"$f":"'[1]11 кл'!HET15","v":0},{"$f":"'[1]11 кл'!HEU15","v":0},{"$f":"'[1]11 кл'!HEV15","v":0},{"$f":"'[1]11 кл'!HEW15","v":0},{"$f":"'[1]11 кл'!HEX15","v":0},{"$f":"'[1]11 кл'!HEY15","v":0},{"$f":"'[1]11 кл'!HEZ15","v":0},{"$f":"'[1]11 кл'!HFA15","v":0},{"$f":"'[1]11 кл'!HFB15","v":0},{"$f":"'[1]11 кл'!HFC15","v":0},{"$f":"'[1]11 кл'!HFD15","v":0},{"$f":"'[1]11 кл'!HFE15","v":0},{"$f":"'[1]11 кл'!HFF15","v":0},{"$f":"'[1]11 кл'!HFG15","v":0},{"$f":"'[1]11 кл'!HFH15","v":0},{"$f":"'[1]11 кл'!HFI15","v":0},{"$f":"'[1]11 кл'!HFJ15","v":0},{"$f":"'[1]11 кл'!HFK15","v":0},{"$f":"'[1]11 кл'!HFL15","v":0},{"$f":"'[1]11 кл'!HFM15","v":0},{"$f":"'[1]11 кл'!HFN15","v":0},{"$f":"'[1]11 кл'!HFO15","v":0},{"$f":"'[1]11 кл'!HFP15","v":0},{"$f":"'[1]11 кл'!HFQ15","v":0},{"$f":"'[1]11 кл'!HFR15","v":0},{"$f":"'[1]11 кл'!HFS15","v":0},{"$f":"'[1]11 кл'!HFT15","v":0},{"$f":"'[1]11 кл'!HFU15","v":0},{"$f":"'[1]11 кл'!HFV15","v":0},{"$f":"'[1]11 кл'!HFW15","v":0},{"$f":"'[1]11 кл'!HFX15","v":0},{"$f":"'[1]11 кл'!HFY15","v":0},{"$f":"'[1]11 кл'!HFZ15","v":0},{"$f":"'[1]11 кл'!HGA15","v":0},{"$f":"'[1]11 кл'!HGB15","v":0},{"$f":"'[1]11 кл'!HGC15","v":0},{"$f":"'[1]11 кл'!HGD15","v":0},{"$f":"'[1]11 кл'!HGE15","v":0},{"$f":"'[1]11 кл'!HGF15","v":0},{"$f":"'[1]11 кл'!HGG15","v":0},{"$f":"'[1]11 кл'!HGH15","v":0},{"$f":"'[1]11 кл'!HGI15","v":0},{"$f":"'[1]11 кл'!HGJ15","v":0},{"$f":"'[1]11 кл'!HGK15","v":0},{"$f":"'[1]11 кл'!HGL15","v":0},{"$f":"'[1]11 кл'!HGM15","v":0},{"$f":"'[1]11 кл'!HGN15","v":0},{"$f":"'[1]11 кл'!HGO15","v":0},{"$f":"'[1]11 кл'!HGP15","v":0},{"$f":"'[1]11 кл'!HGQ15","v":0},{"$f":"'[1]11 кл'!HGR15","v":0},{"$f":"'[1]11 кл'!HGS15","v":0},{"$f":"'[1]11 кл'!HGT15","v":0},{"$f":"'[1]11 кл'!HGU15","v":0},{"$f":"'[1]11 кл'!HGV15","v":0},{"$f":"'[1]11 кл'!HGW15","v":0},{"$f":"'[1]11 кл'!HGX15","v":0},{"$f":"'[1]11 кл'!HGY15","v":0},{"$f":"'[1]11 кл'!HGZ15","v":0},{"$f":"'[1]11 кл'!HHA15","v":0},{"$f":"'[1]11 кл'!HHB15","v":0},{"$f":"'[1]11 кл'!HHC15","v":0},{"$f":"'[1]11 кл'!HHD15","v":0},{"$f":"'[1]11 кл'!HHE15","v":0},{"$f":"'[1]11 кл'!HHF15","v":0},{"$f":"'[1]11 кл'!HHG15","v":0},{"$f":"'[1]11 кл'!HHH15","v":0},{"$f":"'[1]11 кл'!HHI15","v":0},{"$f":"'[1]11 кл'!HHJ15","v":0},{"$f":"'[1]11 кл'!HHK15","v":0},{"$f":"'[1]11 кл'!HHL15","v":0},{"$f":"'[1]11 кл'!HHM15","v":0},{"$f":"'[1]11 кл'!HHN15","v":0},{"$f":"'[1]11 кл'!HHO15","v":0},{"$f":"'[1]11 кл'!HHP15","v":0},{"$f":"'[1]11 кл'!HHQ15","v":0},{"$f":"'[1]11 кл'!HHR15","v":0},{"$f":"'[1]11 кл'!HHS15","v":0},{"$f":"'[1]11 кл'!HHT15","v":0},{"$f":"'[1]11 кл'!HHU15","v":0},{"$f":"'[1]11 кл'!HHV15","v":0},{"$f":"'[1]11 кл'!HHW15","v":0},{"$f":"'[1]11 кл'!HHX15","v":0},{"$f":"'[1]11 кл'!HHY15","v":0},{"$f":"'[1]11 кл'!HHZ15","v":0},{"$f":"'[1]11 кл'!HIA15","v":0},{"$f":"'[1]11 кл'!HIB15","v":0},{"$f":"'[1]11 кл'!HIC15","v":0},{"$f":"'[1]11 кл'!HID15","v":0},{"$f":"'[1]11 кл'!HIE15","v":0},{"$f":"'[1]11 кл'!HIF15","v":0},{"$f":"'[1]11 кл'!HIG15","v":0},{"$f":"'[1]11 кл'!HIH15","v":0},{"$f":"'[1]11 кл'!HII15","v":0},{"$f":"'[1]11 кл'!HIJ15","v":0},{"$f":"'[1]11 кл'!HIK15","v":0},{"$f":"'[1]11 кл'!HIL15","v":0},{"$f":"'[1]11 кл'!HIM15","v":0},{"$f":"'[1]11 кл'!HIN15","v":0},{"$f":"'[1]11 кл'!HIO15","v":0},{"$f":"'[1]11 кл'!HIP15","v":0},{"$f":"'[1]11 кл'!HIQ15","v":0},{"$f":"'[1]11 кл'!HIR15","v":0},{"$f":"'[1]11 кл'!HIS15","v":0},{"$f":"'[1]11 кл'!HIT15","v":0},{"$f":"'[1]11 кл'!HIU15","v":0},{"$f":"'[1]11 кл'!HIV15","v":0},{"$f":"'[1]11 кл'!HIW15","v":0},{"$f":"'[1]11 кл'!HIX15","v":0},{"$f":"'[1]11 кл'!HIY15","v":0},{"$f":"'[1]11 кл'!HIZ15","v":0},{"$f":"'[1]11 кл'!HJA15","v":0},{"$f":"'[1]11 кл'!HJB15","v":0},{"$f":"'[1]11 кл'!HJC15","v":0},{"$f":"'[1]11 кл'!HJD15","v":0},{"$f":"'[1]11 кл'!HJE15","v":0},{"$f":"'[1]11 кл'!HJF15","v":0},{"$f":"'[1]11 кл'!HJG15","v":0},{"$f":"'[1]11 кл'!HJH15","v":0},{"$f":"'[1]11 кл'!HJI15","v":0},{"$f":"'[1]11 кл'!HJJ15","v":0},{"$f":"'[1]11 кл'!HJK15","v":0},{"$f":"'[1]11 кл'!HJL15","v":0},{"$f":"'[1]11 кл'!HJM15","v":0},{"$f":"'[1]11 кл'!HJN15","v":0},{"$f":"'[1]11 кл'!HJO15","v":0},{"$f":"'[1]11 кл'!HJP15","v":0},{"$f":"'[1]11 кл'!HJQ15","v":0},{"$f":"'[1]11 кл'!HJR15","v":0},{"$f":"'[1]11 кл'!HJS15","v":0},{"$f":"'[1]11 кл'!HJT15","v":0},{"$f":"'[1]11 кл'!HJU15","v":0},{"$f":"'[1]11 кл'!HJV15","v":0},{"$f":"'[1]11 кл'!HJW15","v":0},{"$f":"'[1]11 кл'!HJX15","v":0},{"$f":"'[1]11 кл'!HJY15","v":0},{"$f":"'[1]11 кл'!HJZ15","v":0},{"$f":"'[1]11 кл'!HKA15","v":0},{"$f":"'[1]11 кл'!HKB15","v":0},{"$f":"'[1]11 кл'!HKC15","v":0},{"$f":"'[1]11 кл'!HKD15","v":0},{"$f":"'[1]11 кл'!HKE15","v":0},{"$f":"'[1]11 кл'!HKF15","v":0},{"$f":"'[1]11 кл'!HKG15","v":0},{"$f":"'[1]11 кл'!HKH15","v":0},{"$f":"'[1]11 кл'!HKI15","v":0},{"$f":"'[1]11 кл'!HKJ15","v":0},{"$f":"'[1]11 кл'!HKK15","v":0},{"$f":"'[1]11 кл'!HKL15","v":0},{"$f":"'[1]11 кл'!HKM15","v":0},{"$f":"'[1]11 кл'!HKN15","v":0},{"$f":"'[1]11 кл'!HKO15","v":0},{"$f":"'[1]11 кл'!HKP15","v":0},{"$f":"'[1]11 кл'!HKQ15","v":0},{"$f":"'[1]11 кл'!HKR15","v":0},{"$f":"'[1]11 кл'!HKS15","v":0},{"$f":"'[1]11 кл'!HKT15","v":0},{"$f":"'[1]11 кл'!HKU15","v":0},{"$f":"'[1]11 кл'!HKV15","v":0},{"$f":"'[1]11 кл'!HKW15","v":0},{"$f":"'[1]11 кл'!HKX15","v":0},{"$f":"'[1]11 кл'!HKY15","v":0},{"$f":"'[1]11 кл'!HKZ15","v":0},{"$f":"'[1]11 кл'!HLA15","v":0},{"$f":"'[1]11 кл'!HLB15","v":0},{"$f":"'[1]11 кл'!HLC15","v":0},{"$f":"'[1]11 кл'!HLD15","v":0},{"$f":"'[1]11 кл'!HLE15","v":0},{"$f":"'[1]11 кл'!HLF15","v":0},{"$f":"'[1]11 кл'!HLG15","v":0},{"$f":"'[1]11 кл'!HLH15","v":0},{"$f":"'[1]11 кл'!HLI15","v":0},{"$f":"'[1]11 кл'!HLJ15","v":0},{"$f":"'[1]11 кл'!HLK15","v":0},{"$f":"'[1]11 кл'!HLL15","v":0},{"$f":"'[1]11 кл'!HLM15","v":0},{"$f":"'[1]11 кл'!HLN15","v":0},{"$f":"'[1]11 кл'!HLO15","v":0},{"$f":"'[1]11 кл'!HLP15","v":0},{"$f":"'[1]11 кл'!HLQ15","v":0},{"$f":"'[1]11 кл'!HLR15","v":0},{"$f":"'[1]11 кл'!HLS15","v":0},{"$f":"'[1]11 кл'!HLT15","v":0},{"$f":"'[1]11 кл'!HLU15","v":0},{"$f":"'[1]11 кл'!HLV15","v":0},{"$f":"'[1]11 кл'!HLW15","v":0},{"$f":"'[1]11 кл'!HLX15","v":0},{"$f":"'[1]11 кл'!HLY15","v":0},{"$f":"'[1]11 кл'!HLZ15","v":0},{"$f":"'[1]11 кл'!HMA15","v":0},{"$f":"'[1]11 кл'!HMB15","v":0},{"$f":"'[1]11 кл'!HMC15","v":0},{"$f":"'[1]11 кл'!HMD15","v":0},{"$f":"'[1]11 кл'!HME15","v":0},{"$f":"'[1]11 кл'!HMF15","v":0},{"$f":"'[1]11 кл'!HMG15","v":0},{"$f":"'[1]11 кл'!HMH15","v":0},{"$f":"'[1]11 кл'!HMI15","v":0},{"$f":"'[1]11 кл'!HMJ15","v":0},{"$f":"'[1]11 кл'!HMK15","v":0},{"$f":"'[1]11 кл'!HML15","v":0},{"$f":"'[1]11 кл'!HMM15","v":0},{"$f":"'[1]11 кл'!HMN15","v":0},{"$f":"'[1]11 кл'!HMO15","v":0},{"$f":"'[1]11 кл'!HMP15","v":0},{"$f":"'[1]11 кл'!HMQ15","v":0},{"$f":"'[1]11 кл'!HMR15","v":0},{"$f":"'[1]11 кл'!HMS15","v":0},{"$f":"'[1]11 кл'!HMT15","v":0},{"$f":"'[1]11 кл'!HMU15","v":0},{"$f":"'[1]11 кл'!HMV15","v":0},{"$f":"'[1]11 кл'!HMW15","v":0},{"$f":"'[1]11 кл'!HMX15","v":0},{"$f":"'[1]11 кл'!HMY15","v":0},{"$f":"'[1]11 кл'!HMZ15","v":0},{"$f":"'[1]11 кл'!HNA15","v":0},{"$f":"'[1]11 кл'!HNB15","v":0},{"$f":"'[1]11 кл'!HNC15","v":0},{"$f":"'[1]11 кл'!HND15","v":0},{"$f":"'[1]11 кл'!HNE15","v":0},{"$f":"'[1]11 кл'!HNF15","v":0},{"$f":"'[1]11 кл'!HNG15","v":0},{"$f":"'[1]11 кл'!HNH15","v":0},{"$f":"'[1]11 кл'!HNI15","v":0},{"$f":"'[1]11 кл'!HNJ15","v":0},{"$f":"'[1]11 кл'!HNK15","v":0},{"$f":"'[1]11 кл'!HNL15","v":0},{"$f":"'[1]11 кл'!HNM15","v":0},{"$f":"'[1]11 кл'!HNN15","v":0},{"$f":"'[1]11 кл'!HNO15","v":0},{"$f":"'[1]11 кл'!HNP15","v":0},{"$f":"'[1]11 кл'!HNQ15","v":0},{"$f":"'[1]11 кл'!HNR15","v":0},{"$f":"'[1]11 кл'!HNS15","v":0},{"$f":"'[1]11 кл'!HNT15","v":0},{"$f":"'[1]11 кл'!HNU15","v":0},{"$f":"'[1]11 кл'!HNV15","v":0},{"$f":"'[1]11 кл'!HNW15","v":0},{"$f":"'[1]11 кл'!HNX15","v":0},{"$f":"'[1]11 кл'!HNY15","v":0},{"$f":"'[1]11 кл'!HNZ15","v":0},{"$f":"'[1]11 кл'!HOA15","v":0},{"$f":"'[1]11 кл'!HOB15","v":0},{"$f":"'[1]11 кл'!HOC15","v":0},{"$f":"'[1]11 кл'!HOD15","v":0},{"$f":"'[1]11 кл'!HOE15","v":0},{"$f":"'[1]11 кл'!HOF15","v":0},{"$f":"'[1]11 кл'!HOG15","v":0},{"$f":"'[1]11 кл'!HOH15","v":0},{"$f":"'[1]11 кл'!HOI15","v":0},{"$f":"'[1]11 кл'!HOJ15","v":0},{"$f":"'[1]11 кл'!HOK15","v":0},{"$f":"'[1]11 кл'!HOL15","v":0},{"$f":"'[1]11 кл'!HOM15","v":0},{"$f":"'[1]11 кл'!HON15","v":0},{"$f":"'[1]11 кл'!HOO15","v":0},{"$f":"'[1]11 кл'!HOP15","v":0},{"$f":"'[1]11 кл'!HOQ15","v":0},{"$f":"'[1]11 кл'!HOR15","v":0},{"$f":"'[1]11 кл'!HOS15","v":0},{"$f":"'[1]11 кл'!HOT15","v":0},{"$f":"'[1]11 кл'!HOU15","v":0},{"$f":"'[1]11 кл'!HOV15","v":0},{"$f":"'[1]11 кл'!HOW15","v":0},{"$f":"'[1]11 кл'!HOX15","v":0},{"$f":"'[1]11 кл'!HOY15","v":0},{"$f":"'[1]11 кл'!HOZ15","v":0},{"$f":"'[1]11 кл'!HPA15","v":0},{"$f":"'[1]11 кл'!HPB15","v":0},{"$f":"'[1]11 кл'!HPC15","v":0},{"$f":"'[1]11 кл'!HPD15","v":0},{"$f":"'[1]11 кл'!HPE15","v":0},{"$f":"'[1]11 кл'!HPF15","v":0},{"$f":"'[1]11 кл'!HPG15","v":0},{"$f":"'[1]11 кл'!HPH15","v":0},{"$f":"'[1]11 кл'!HPI15","v":0},{"$f":"'[1]11 кл'!HPJ15","v":0},{"$f":"'[1]11 кл'!HPK15","v":0},{"$f":"'[1]11 кл'!HPL15","v":0},{"$f":"'[1]11 кл'!HPM15","v":0},{"$f":"'[1]11 кл'!HPN15","v":0},{"$f":"'[1]11 кл'!HPO15","v":0},{"$f":"'[1]11 кл'!HPP15","v":0},{"$f":"'[1]11 кл'!HPQ15","v":0},{"$f":"'[1]11 кл'!HPR15","v":0},{"$f":"'[1]11 кл'!HPS15","v":0},{"$f":"'[1]11 кл'!HPT15","v":0},{"$f":"'[1]11 кл'!HPU15","v":0},{"$f":"'[1]11 кл'!HPV15","v":0},{"$f":"'[1]11 кл'!HPW15","v":0},{"$f":"'[1]11 кл'!HPX15","v":0},{"$f":"'[1]11 кл'!HPY15","v":0},{"$f":"'[1]11 кл'!HPZ15","v":0},{"$f":"'[1]11 кл'!HQA15","v":0},{"$f":"'[1]11 кл'!HQB15","v":0},{"$f":"'[1]11 кл'!HQC15","v":0},{"$f":"'[1]11 кл'!HQD15","v":0},{"$f":"'[1]11 кл'!HQE15","v":0},{"$f":"'[1]11 кл'!HQF15","v":0},{"$f":"'[1]11 кл'!HQG15","v":0},{"$f":"'[1]11 кл'!HQH15","v":0},{"$f":"'[1]11 кл'!HQI15","v":0},{"$f":"'[1]11 кл'!HQJ15","v":0},{"$f":"'[1]11 кл'!HQK15","v":0},{"$f":"'[1]11 кл'!HQL15","v":0},{"$f":"'[1]11 кл'!HQM15","v":0},{"$f":"'[1]11 кл'!HQN15","v":0},{"$f":"'[1]11 кл'!HQO15","v":0},{"$f":"'[1]11 кл'!HQP15","v":0},{"$f":"'[1]11 кл'!HQQ15","v":0},{"$f":"'[1]11 кл'!HQR15","v":0},{"$f":"'[1]11 кл'!HQS15","v":0},{"$f":"'[1]11 кл'!HQT15","v":0},{"$f":"'[1]11 кл'!HQU15","v":0},{"$f":"'[1]11 кл'!HQV15","v":0},{"$f":"'[1]11 кл'!HQW15","v":0},{"$f":"'[1]11 кл'!HQX15","v":0},{"$f":"'[1]11 кл'!HQY15","v":0},{"$f":"'[1]11 кл'!HQZ15","v":0},{"$f":"'[1]11 кл'!HRA15","v":0},{"$f":"'[1]11 кл'!HRB15","v":0},{"$f":"'[1]11 кл'!HRC15","v":0},{"$f":"'[1]11 кл'!HRD15","v":0},{"$f":"'[1]11 кл'!HRE15","v":0},{"$f":"'[1]11 кл'!HRF15","v":0},{"$f":"'[1]11 кл'!HRG15","v":0},{"$f":"'[1]11 кл'!HRH15","v":0},{"$f":"'[1]11 кл'!HRI15","v":0},{"$f":"'[1]11 кл'!HRJ15","v":0},{"$f":"'[1]11 кл'!HRK15","v":0},{"$f":"'[1]11 кл'!HRL15","v":0},{"$f":"'[1]11 кл'!HRM15","v":0},{"$f":"'[1]11 кл'!HRN15","v":0},{"$f":"'[1]11 кл'!HRO15","v":0},{"$f":"'[1]11 кл'!HRP15","v":0},{"$f":"'[1]11 кл'!HRQ15","v":0},{"$f":"'[1]11 кл'!HRR15","v":0},{"$f":"'[1]11 кл'!HRS15","v":0},{"$f":"'[1]11 кл'!HRT15","v":0},{"$f":"'[1]11 кл'!HRU15","v":0},{"$f":"'[1]11 кл'!HRV15","v":0},{"$f":"'[1]11 кл'!HRW15","v":0},{"$f":"'[1]11 кл'!HRX15","v":0},{"$f":"'[1]11 кл'!HRY15","v":0},{"$f":"'[1]11 кл'!HRZ15","v":0},{"$f":"'[1]11 кл'!HSA15","v":0},{"$f":"'[1]11 кл'!HSB15","v":0},{"$f":"'[1]11 кл'!HSC15","v":0},{"$f":"'[1]11 кл'!HSD15","v":0},{"$f":"'[1]11 кл'!HSE15","v":0},{"$f":"'[1]11 кл'!HSF15","v":0},{"$f":"'[1]11 кл'!HSG15","v":0},{"$f":"'[1]11 кл'!HSH15","v":0},{"$f":"'[1]11 кл'!HSI15","v":0},{"$f":"'[1]11 кл'!HSJ15","v":0},{"$f":"'[1]11 кл'!HSK15","v":0},{"$f":"'[1]11 кл'!HSL15","v":0},{"$f":"'[1]11 кл'!HSM15","v":0},{"$f":"'[1]11 кл'!HSN15","v":0},{"$f":"'[1]11 кл'!HSO15","v":0},{"$f":"'[1]11 кл'!HSP15","v":0},{"$f":"'[1]11 кл'!HSQ15","v":0},{"$f":"'[1]11 кл'!HSR15","v":0},{"$f":"'[1]11 кл'!HSS15","v":0},{"$f":"'[1]11 кл'!HST15","v":0},{"$f":"'[1]11 кл'!HSU15","v":0},{"$f":"'[1]11 кл'!HSV15","v":0},{"$f":"'[1]11 кл'!HSW15","v":0},{"$f":"'[1]11 кл'!HSX15","v":0},{"$f":"'[1]11 кл'!HSY15","v":0},{"$f":"'[1]11 кл'!HSZ15","v":0},{"$f":"'[1]11 кл'!HTA15","v":0},{"$f":"'[1]11 кл'!HTB15","v":0},{"$f":"'[1]11 кл'!HTC15","v":0},{"$f":"'[1]11 кл'!HTD15","v":0},{"$f":"'[1]11 кл'!HTE15","v":0},{"$f":"'[1]11 кл'!HTF15","v":0},{"$f":"'[1]11 кл'!HTG15","v":0},{"$f":"'[1]11 кл'!HTH15","v":0},{"$f":"'[1]11 кл'!HTI15","v":0},{"$f":"'[1]11 кл'!HTJ15","v":0},{"$f":"'[1]11 кл'!HTK15","v":0},{"$f":"'[1]11 кл'!HTL15","v":0},{"$f":"'[1]11 кл'!HTM15","v":0},{"$f":"'[1]11 кл'!HTN15","v":0},{"$f":"'[1]11 кл'!HTO15","v":0},{"$f":"'[1]11 кл'!HTP15","v":0},{"$f":"'[1]11 кл'!HTQ15","v":0},{"$f":"'[1]11 кл'!HTR15","v":0},{"$f":"'[1]11 кл'!HTS15","v":0},{"$f":"'[1]11 кл'!HTT15","v":0},{"$f":"'[1]11 кл'!HTU15","v":0},{"$f":"'[1]11 кл'!HTV15","v":0},{"$f":"'[1]11 кл'!HTW15","v":0},{"$f":"'[1]11 кл'!HTX15","v":0},{"$f":"'[1]11 кл'!HTY15","v":0},{"$f":"'[1]11 кл'!HTZ15","v":0},{"$f":"'[1]11 кл'!HUA15","v":0},{"$f":"'[1]11 кл'!HUB15","v":0},{"$f":"'[1]11 кл'!HUC15","v":0},{"$f":"'[1]11 кл'!HUD15","v":0},{"$f":"'[1]11 кл'!HUE15","v":0},{"$f":"'[1]11 кл'!HUF15","v":0},{"$f":"'[1]11 кл'!HUG15","v":0},{"$f":"'[1]11 кл'!HUH15","v":0},{"$f":"'[1]11 кл'!HUI15","v":0},{"$f":"'[1]11 кл'!HUJ15","v":0},{"$f":"'[1]11 кл'!HUK15","v":0},{"$f":"'[1]11 кл'!HUL15","v":0},{"$f":"'[1]11 кл'!HUM15","v":0},{"$f":"'[1]11 кл'!HUN15","v":0},{"$f":"'[1]11 кл'!HUO15","v":0},{"$f":"'[1]11 кл'!HUP15","v":0},{"$f":"'[1]11 кл'!HUQ15","v":0},{"$f":"'[1]11 кл'!HUR15","v":0},{"$f":"'[1]11 кл'!HUS15","v":0},{"$f":"'[1]11 кл'!HUT15","v":0},{"$f":"'[1]11 кл'!HUU15","v":0},{"$f":"'[1]11 кл'!HUV15","v":0},{"$f":"'[1]11 кл'!HUW15","v":0},{"$f":"'[1]11 кл'!HUX15","v":0},{"$f":"'[1]11 кл'!HUY15","v":0},{"$f":"'[1]11 кл'!HUZ15","v":0},{"$f":"'[1]11 кл'!HVA15","v":0},{"$f":"'[1]11 кл'!HVB15","v":0},{"$f":"'[1]11 кл'!HVC15","v":0},{"$f":"'[1]11 кл'!HVD15","v":0},{"$f":"'[1]11 кл'!HVE15","v":0},{"$f":"'[1]11 кл'!HVF15","v":0},{"$f":"'[1]11 кл'!HVG15","v":0},{"$f":"'[1]11 кл'!HVH15","v":0},{"$f":"'[1]11 кл'!HVI15","v":0},{"$f":"'[1]11 кл'!HVJ15","v":0},{"$f":"'[1]11 кл'!HVK15","v":0},{"$f":"'[1]11 кл'!HVL15","v":0},{"$f":"'[1]11 кл'!HVM15","v":0},{"$f":"'[1]11 кл'!HVN15","v":0},{"$f":"'[1]11 кл'!HVO15","v":0},{"$f":"'[1]11 кл'!HVP15","v":0},{"$f":"'[1]11 кл'!HVQ15","v":0},{"$f":"'[1]11 кл'!HVR15","v":0},{"$f":"'[1]11 кл'!HVS15","v":0},{"$f":"'[1]11 кл'!HVT15","v":0},{"$f":"'[1]11 кл'!HVU15","v":0},{"$f":"'[1]11 кл'!HVV15","v":0},{"$f":"'[1]11 кл'!HVW15","v":0},{"$f":"'[1]11 кл'!HVX15","v":0},{"$f":"'[1]11 кл'!HVY15","v":0},{"$f":"'[1]11 кл'!HVZ15","v":0},{"$f":"'[1]11 кл'!HWA15","v":0},{"$f":"'[1]11 кл'!HWB15","v":0},{"$f":"'[1]11 кл'!HWC15","v":0},{"$f":"'[1]11 кл'!HWD15","v":0},{"$f":"'[1]11 кл'!HWE15","v":0},{"$f":"'[1]11 кл'!HWF15","v":0},{"$f":"'[1]11 кл'!HWG15","v":0},{"$f":"'[1]11 кл'!HWH15","v":0},{"$f":"'[1]11 кл'!HWI15","v":0},{"$f":"'[1]11 кл'!HWJ15","v":0},{"$f":"'[1]11 кл'!HWK15","v":0},{"$f":"'[1]11 кл'!HWL15","v":0},{"$f":"'[1]11 кл'!HWM15","v":0},{"$f":"'[1]11 кл'!HWN15","v":0},{"$f":"'[1]11 кл'!HWO15","v":0},{"$f":"'[1]11 кл'!HWP15","v":0},{"$f":"'[1]11 кл'!HWQ15","v":0},{"$f":"'[1]11 кл'!HWR15","v":0},{"$f":"'[1]11 кл'!HWS15","v":0},{"$f":"'[1]11 кл'!HWT15","v":0},{"$f":"'[1]11 кл'!HWU15","v":0},{"$f":"'[1]11 кл'!HWV15","v":0},{"$f":"'[1]11 кл'!HWW15","v":0},{"$f":"'[1]11 кл'!HWX15","v":0},{"$f":"'[1]11 кл'!HWY15","v":0},{"$f":"'[1]11 кл'!HWZ15","v":0},{"$f":"'[1]11 кл'!HXA15","v":0},{"$f":"'[1]11 кл'!HXB15","v":0},{"$f":"'[1]11 кл'!HXC15","v":0},{"$f":"'[1]11 кл'!HXD15","v":0},{"$f":"'[1]11 кл'!HXE15","v":0},{"$f":"'[1]11 кл'!HXF15","v":0},{"$f":"'[1]11 кл'!HXG15","v":0},{"$f":"'[1]11 кл'!HXH15","v":0},{"$f":"'[1]11 кл'!HXI15","v":0},{"$f":"'[1]11 кл'!HXJ15","v":0},{"$f":"'[1]11 кл'!HXK15","v":0},{"$f":"'[1]11 кл'!HXL15","v":0},{"$f":"'[1]11 кл'!HXM15","v":0},{"$f":"'[1]11 кл'!HXN15","v":0},{"$f":"'[1]11 кл'!HXO15","v":0},{"$f":"'[1]11 кл'!HXP15","v":0},{"$f":"'[1]11 кл'!HXQ15","v":0},{"$f":"'[1]11 кл'!HXR15","v":0},{"$f":"'[1]11 кл'!HXS15","v":0},{"$f":"'[1]11 кл'!HXT15","v":0},{"$f":"'[1]11 кл'!HXU15","v":0},{"$f":"'[1]11 кл'!HXV15","v":0},{"$f":"'[1]11 кл'!HXW15","v":0},{"$f":"'[1]11 кл'!HXX15","v":0},{"$f":"'[1]11 кл'!HXY15","v":0},{"$f":"'[1]11 кл'!HXZ15","v":0},{"$f":"'[1]11 кл'!HYA15","v":0},{"$f":"'[1]11 кл'!HYB15","v":0},{"$f":"'[1]11 кл'!HYC15","v":0},{"$f":"'[1]11 кл'!HYD15","v":0},{"$f":"'[1]11 кл'!HYE15","v":0},{"$f":"'[1]11 кл'!HYF15","v":0},{"$f":"'[1]11 кл'!HYG15","v":0},{"$f":"'[1]11 кл'!HYH15","v":0},{"$f":"'[1]11 кл'!HYI15","v":0},{"$f":"'[1]11 кл'!HYJ15","v":0},{"$f":"'[1]11 кл'!HYK15","v":0},{"$f":"'[1]11 кл'!HYL15","v":0},{"$f":"'[1]11 кл'!HYM15","v":0},{"$f":"'[1]11 кл'!HYN15","v":0},{"$f":"'[1]11 кл'!HYO15","v":0},{"$f":"'[1]11 кл'!HYP15","v":0},{"$f":"'[1]11 кл'!HYQ15","v":0},{"$f":"'[1]11 кл'!HYR15","v":0},{"$f":"'[1]11 кл'!HYS15","v":0},{"$f":"'[1]11 кл'!HYT15","v":0},{"$f":"'[1]11 кл'!HYU15","v":0},{"$f":"'[1]11 кл'!HYV15","v":0},{"$f":"'[1]11 кл'!HYW15","v":0},{"$f":"'[1]11 кл'!HYX15","v":0},{"$f":"'[1]11 кл'!HYY15","v":0},{"$f":"'[1]11 кл'!HYZ15","v":0},{"$f":"'[1]11 кл'!HZA15","v":0},{"$f":"'[1]11 кл'!HZB15","v":0},{"$f":"'[1]11 кл'!HZC15","v":0},{"$f":"'[1]11 кл'!HZD15","v":0},{"$f":"'[1]11 кл'!HZE15","v":0},{"$f":"'[1]11 кл'!HZF15","v":0},{"$f":"'[1]11 кл'!HZG15","v":0},{"$f":"'[1]11 кл'!HZH15","v":0},{"$f":"'[1]11 кл'!HZI15","v":0},{"$f":"'[1]11 кл'!HZJ15","v":0},{"$f":"'[1]11 кл'!HZK15","v":0},{"$f":"'[1]11 кл'!HZL15","v":0},{"$f":"'[1]11 кл'!HZM15","v":0},{"$f":"'[1]11 кл'!HZN15","v":0},{"$f":"'[1]11 кл'!HZO15","v":0},{"$f":"'[1]11 кл'!HZP15","v":0},{"$f":"'[1]11 кл'!HZQ15","v":0},{"$f":"'[1]11 кл'!HZR15","v":0},{"$f":"'[1]11 кл'!HZS15","v":0},{"$f":"'[1]11 кл'!HZT15","v":0},{"$f":"'[1]11 кл'!HZU15","v":0},{"$f":"'[1]11 кл'!HZV15","v":0},{"$f":"'[1]11 кл'!HZW15","v":0},{"$f":"'[1]11 кл'!HZX15","v":0},{"$f":"'[1]11 кл'!HZY15","v":0},{"$f":"'[1]11 кл'!HZZ15","v":0},{"$f":"'[1]11 кл'!IAA15","v":0},{"$f":"'[1]11 кл'!IAB15","v":0},{"$f":"'[1]11 кл'!IAC15","v":0},{"$f":"'[1]11 кл'!IAD15","v":0},{"$f":"'[1]11 кл'!IAE15","v":0},{"$f":"'[1]11 кл'!IAF15","v":0},{"$f":"'[1]11 кл'!IAG15","v":0},{"$f":"'[1]11 кл'!IAH15","v":0},{"$f":"'[1]11 кл'!IAI15","v":0},{"$f":"'[1]11 кл'!IAJ15","v":0},{"$f":"'[1]11 кл'!IAK15","v":0},{"$f":"'[1]11 кл'!IAL15","v":0},{"$f":"'[1]11 кл'!IAM15","v":0},{"$f":"'[1]11 кл'!IAN15","v":0},{"$f":"'[1]11 кл'!IAO15","v":0},{"$f":"'[1]11 кл'!IAP15","v":0},{"$f":"'[1]11 кл'!IAQ15","v":0},{"$f":"'[1]11 кл'!IAR15","v":0},{"$f":"'[1]11 кл'!IAS15","v":0},{"$f":"'[1]11 кл'!IAT15","v":0},{"$f":"'[1]11 кл'!IAU15","v":0},{"$f":"'[1]11 кл'!IAV15","v":0},{"$f":"'[1]11 кл'!IAW15","v":0},{"$f":"'[1]11 кл'!IAX15","v":0},{"$f":"'[1]11 кл'!IAY15","v":0},{"$f":"'[1]11 кл'!IAZ15","v":0},{"$f":"'[1]11 кл'!IBA15","v":0},{"$f":"'[1]11 кл'!IBB15","v":0},{"$f":"'[1]11 кл'!IBC15","v":0},{"$f":"'[1]11 кл'!IBD15","v":0},{"$f":"'[1]11 кл'!IBE15","v":0},{"$f":"'[1]11 кл'!IBF15","v":0},{"$f":"'[1]11 кл'!IBG15","v":0},{"$f":"'[1]11 кл'!IBH15","v":0},{"$f":"'[1]11 кл'!IBI15","v":0},{"$f":"'[1]11 кл'!IBJ15","v":0},{"$f":"'[1]11 кл'!IBK15","v":0},{"$f":"'[1]11 кл'!IBL15","v":0},{"$f":"'[1]11 кл'!IBM15","v":0},{"$f":"'[1]11 кл'!IBN15","v":0},{"$f":"'[1]11 кл'!IBO15","v":0},{"$f":"'[1]11 кл'!IBP15","v":0},{"$f":"'[1]11 кл'!IBQ15","v":0},{"$f":"'[1]11 кл'!IBR15","v":0},{"$f":"'[1]11 кл'!IBS15","v":0},{"$f":"'[1]11 кл'!IBT15","v":0},{"$f":"'[1]11 кл'!IBU15","v":0},{"$f":"'[1]11 кл'!IBV15","v":0},{"$f":"'[1]11 кл'!IBW15","v":0},{"$f":"'[1]11 кл'!IBX15","v":0},{"$f":"'[1]11 кл'!IBY15","v":0},{"$f":"'[1]11 кл'!IBZ15","v":0},{"$f":"'[1]11 кл'!ICA15","v":0},{"$f":"'[1]11 кл'!ICB15","v":0},{"$f":"'[1]11 кл'!ICC15","v":0},{"$f":"'[1]11 кл'!ICD15","v":0},{"$f":"'[1]11 кл'!ICE15","v":0},{"$f":"'[1]11 кл'!ICF15","v":0},{"$f":"'[1]11 кл'!ICG15","v":0},{"$f":"'[1]11 кл'!ICH15","v":0},{"$f":"'[1]11 кл'!ICI15","v":0},{"$f":"'[1]11 кл'!ICJ15","v":0},{"$f":"'[1]11 кл'!ICK15","v":0},{"$f":"'[1]11 кл'!ICL15","v":0},{"$f":"'[1]11 кл'!ICM15","v":0},{"$f":"'[1]11 кл'!ICN15","v":0},{"$f":"'[1]11 кл'!ICO15","v":0},{"$f":"'[1]11 кл'!ICP15","v":0},{"$f":"'[1]11 кл'!ICQ15","v":0},{"$f":"'[1]11 кл'!ICR15","v":0},{"$f":"'[1]11 кл'!ICS15","v":0},{"$f":"'[1]11 кл'!ICT15","v":0},{"$f":"'[1]11 кл'!ICU15","v":0},{"$f":"'[1]11 кл'!ICV15","v":0},{"$f":"'[1]11 кл'!ICW15","v":0},{"$f":"'[1]11 кл'!ICX15","v":0},{"$f":"'[1]11 кл'!ICY15","v":0},{"$f":"'[1]11 кл'!ICZ15","v":0},{"$f":"'[1]11 кл'!IDA15","v":0},{"$f":"'[1]11 кл'!IDB15","v":0},{"$f":"'[1]11 кл'!IDC15","v":0},{"$f":"'[1]11 кл'!IDD15","v":0},{"$f":"'[1]11 кл'!IDE15","v":0},{"$f":"'[1]11 кл'!IDF15","v":0},{"$f":"'[1]11 кл'!IDG15","v":0},{"$f":"'[1]11 кл'!IDH15","v":0},{"$f":"'[1]11 кл'!IDI15","v":0},{"$f":"'[1]11 кл'!IDJ15","v":0},{"$f":"'[1]11 кл'!IDK15","v":0},{"$f":"'[1]11 кл'!IDL15","v":0},{"$f":"'[1]11 кл'!IDM15","v":0},{"$f":"'[1]11 кл'!IDN15","v":0},{"$f":"'[1]11 кл'!IDO15","v":0},{"$f":"'[1]11 кл'!IDP15","v":0},{"$f":"'[1]11 кл'!IDQ15","v":0},{"$f":"'[1]11 кл'!IDR15","v":0},{"$f":"'[1]11 кл'!IDS15","v":0},{"$f":"'[1]11 кл'!IDT15","v":0},{"$f":"'[1]11 кл'!IDU15","v":0},{"$f":"'[1]11 кл'!IDV15","v":0},{"$f":"'[1]11 кл'!IDW15","v":0},{"$f":"'[1]11 кл'!IDX15","v":0},{"$f":"'[1]11 кл'!IDY15","v":0},{"$f":"'[1]11 кл'!IDZ15","v":0},{"$f":"'[1]11 кл'!IEA15","v":0},{"$f":"'[1]11 кл'!IEB15","v":0},{"$f":"'[1]11 кл'!IEC15","v":0},{"$f":"'[1]11 кл'!IED15","v":0},{"$f":"'[1]11 кл'!IEE15","v":0},{"$f":"'[1]11 кл'!IEF15","v":0},{"$f":"'[1]11 кл'!IEG15","v":0},{"$f":"'[1]11 кл'!IEH15","v":0},{"$f":"'[1]11 кл'!IEI15","v":0},{"$f":"'[1]11 кл'!IEJ15","v":0},{"$f":"'[1]11 кл'!IEK15","v":0},{"$f":"'[1]11 кл'!IEL15","v":0},{"$f":"'[1]11 кл'!IEM15","v":0},{"$f":"'[1]11 кл'!IEN15","v":0},{"$f":"'[1]11 кл'!IEO15","v":0},{"$f":"'[1]11 кл'!IEP15","v":0},{"$f":"'[1]11 кл'!IEQ15","v":0},{"$f":"'[1]11 кл'!IER15","v":0},{"$f":"'[1]11 кл'!IES15","v":0},{"$f":"'[1]11 кл'!IET15","v":0},{"$f":"'[1]11 кл'!IEU15","v":0},{"$f":"'[1]11 кл'!IEV15","v":0},{"$f":"'[1]11 кл'!IEW15","v":0},{"$f":"'[1]11 кл'!IEX15","v":0},{"$f":"'[1]11 кл'!IEY15","v":0},{"$f":"'[1]11 кл'!IEZ15","v":0},{"$f":"'[1]11 кл'!IFA15","v":0},{"$f":"'[1]11 кл'!IFB15","v":0},{"$f":"'[1]11 кл'!IFC15","v":0},{"$f":"'[1]11 кл'!IFD15","v":0},{"$f":"'[1]11 кл'!IFE15","v":0},{"$f":"'[1]11 кл'!IFF15","v":0},{"$f":"'[1]11 кл'!IFG15","v":0},{"$f":"'[1]11 кл'!IFH15","v":0},{"$f":"'[1]11 кл'!IFI15","v":0},{"$f":"'[1]11 кл'!IFJ15","v":0},{"$f":"'[1]11 кл'!IFK15","v":0},{"$f":"'[1]11 кл'!IFL15","v":0},{"$f":"'[1]11 кл'!IFM15","v":0},{"$f":"'[1]11 кл'!IFN15","v":0},{"$f":"'[1]11 кл'!IFO15","v":0},{"$f":"'[1]11 кл'!IFP15","v":0},{"$f":"'[1]11 кл'!IFQ15","v":0},{"$f":"'[1]11 кл'!IFR15","v":0},{"$f":"'[1]11 кл'!IFS15","v":0},{"$f":"'[1]11 кл'!IFT15","v":0},{"$f":"'[1]11 кл'!IFU15","v":0},{"$f":"'[1]11 кл'!IFV15","v":0},{"$f":"'[1]11 кл'!IFW15","v":0},{"$f":"'[1]11 кл'!IFX15","v":0},{"$f":"'[1]11 кл'!IFY15","v":0},{"$f":"'[1]11 кл'!IFZ15","v":0},{"$f":"'[1]11 кл'!IGA15","v":0},{"$f":"'[1]11 кл'!IGB15","v":0},{"$f":"'[1]11 кл'!IGC15","v":0},{"$f":"'[1]11 кл'!IGD15","v":0},{"$f":"'[1]11 кл'!IGE15","v":0},{"$f":"'[1]11 кл'!IGF15","v":0},{"$f":"'[1]11 кл'!IGG15","v":0},{"$f":"'[1]11 кл'!IGH15","v":0},{"$f":"'[1]11 кл'!IGI15","v":0},{"$f":"'[1]11 кл'!IGJ15","v":0},{"$f":"'[1]11 кл'!IGK15","v":0},{"$f":"'[1]11 кл'!IGL15","v":0},{"$f":"'[1]11 кл'!IGM15","v":0},{"$f":"'[1]11 кл'!IGN15","v":0},{"$f":"'[1]11 кл'!IGO15","v":0},{"$f":"'[1]11 кл'!IGP15","v":0},{"$f":"'[1]11 кл'!IGQ15","v":0},{"$f":"'[1]11 кл'!IGR15","v":0},{"$f":"'[1]11 кл'!IGS15","v":0},{"$f":"'[1]11 кл'!IGT15","v":0},{"$f":"'[1]11 кл'!IGU15","v":0},{"$f":"'[1]11 кл'!IGV15","v":0},{"$f":"'[1]11 кл'!IGW15","v":0},{"$f":"'[1]11 кл'!IGX15","v":0},{"$f":"'[1]11 кл'!IGY15","v":0},{"$f":"'[1]11 кл'!IGZ15","v":0},{"$f":"'[1]11 кл'!IHA15","v":0},{"$f":"'[1]11 кл'!IHB15","v":0},{"$f":"'[1]11 кл'!IHC15","v":0},{"$f":"'[1]11 кл'!IHD15","v":0},{"$f":"'[1]11 кл'!IHE15","v":0},{"$f":"'[1]11 кл'!IHF15","v":0},{"$f":"'[1]11 кл'!IHG15","v":0},{"$f":"'[1]11 кл'!IHH15","v":0},{"$f":"'[1]11 кл'!IHI15","v":0},{"$f":"'[1]11 кл'!IHJ15","v":0},{"$f":"'[1]11 кл'!IHK15","v":0},{"$f":"'[1]11 кл'!IHL15","v":0},{"$f":"'[1]11 кл'!IHM15","v":0},{"$f":"'[1]11 кл'!IHN15","v":0},{"$f":"'[1]11 кл'!IHO15","v":0},{"$f":"'[1]11 кл'!IHP15","v":0},{"$f":"'[1]11 кл'!IHQ15","v":0},{"$f":"'[1]11 кл'!IHR15","v":0},{"$f":"'[1]11 кл'!IHS15","v":0},{"$f":"'[1]11 кл'!IHT15","v":0},{"$f":"'[1]11 кл'!IHU15","v":0},{"$f":"'[1]11 кл'!IHV15","v":0},{"$f":"'[1]11 кл'!IHW15","v":0},{"$f":"'[1]11 кл'!IHX15","v":0},{"$f":"'[1]11 кл'!IHY15","v":0},{"$f":"'[1]11 кл'!IHZ15","v":0},{"$f":"'[1]11 кл'!IIA15","v":0},{"$f":"'[1]11 кл'!IIB15","v":0},{"$f":"'[1]11 кл'!IIC15","v":0},{"$f":"'[1]11 кл'!IID15","v":0},{"$f":"'[1]11 кл'!IIE15","v":0},{"$f":"'[1]11 кл'!IIF15","v":0},{"$f":"'[1]11 кл'!IIG15","v":0},{"$f":"'[1]11 кл'!IIH15","v":0},{"$f":"'[1]11 кл'!III15","v":0},{"$f":"'[1]11 кл'!IIJ15","v":0},{"$f":"'[1]11 кл'!IIK15","v":0},{"$f":"'[1]11 кл'!IIL15","v":0},{"$f":"'[1]11 кл'!IIM15","v":0},{"$f":"'[1]11 кл'!IIN15","v":0},{"$f":"'[1]11 кл'!IIO15","v":0},{"$f":"'[1]11 кл'!IIP15","v":0},{"$f":"'[1]11 кл'!IIQ15","v":0},{"$f":"'[1]11 кл'!IIR15","v":0},{"$f":"'[1]11 кл'!IIS15","v":0},{"$f":"'[1]11 кл'!IIT15","v":0},{"$f":"'[1]11 кл'!IIU15","v":0},{"$f":"'[1]11 кл'!IIV15","v":0},{"$f":"'[1]11 кл'!IIW15","v":0},{"$f":"'[1]11 кл'!IIX15","v":0},{"$f":"'[1]11 кл'!IIY15","v":0},{"$f":"'[1]11 кл'!IIZ15","v":0},{"$f":"'[1]11 кл'!IJA15","v":0},{"$f":"'[1]11 кл'!IJB15","v":0},{"$f":"'[1]11 кл'!IJC15","v":0},{"$f":"'[1]11 кл'!IJD15","v":0},{"$f":"'[1]11 кл'!IJE15","v":0},{"$f":"'[1]11 кл'!IJF15","v":0},{"$f":"'[1]11 кл'!IJG15","v":0},{"$f":"'[1]11 кл'!IJH15","v":0},{"$f":"'[1]11 кл'!IJI15","v":0},{"$f":"'[1]11 кл'!IJJ15","v":0},{"$f":"'[1]11 кл'!IJK15","v":0},{"$f":"'[1]11 кл'!IJL15","v":0},{"$f":"'[1]11 кл'!IJM15","v":0},{"$f":"'[1]11 кл'!IJN15","v":0},{"$f":"'[1]11 кл'!IJO15","v":0},{"$f":"'[1]11 кл'!IJP15","v":0},{"$f":"'[1]11 кл'!IJQ15","v":0},{"$f":"'[1]11 кл'!IJR15","v":0},{"$f":"'[1]11 кл'!IJS15","v":0},{"$f":"'[1]11 кл'!IJT15","v":0},{"$f":"'[1]11 кл'!IJU15","v":0},{"$f":"'[1]11 кл'!IJV15","v":0},{"$f":"'[1]11 кл'!IJW15","v":0},{"$f":"'[1]11 кл'!IJX15","v":0},{"$f":"'[1]11 кл'!IJY15","v":0},{"$f":"'[1]11 кл'!IJZ15","v":0},{"$f":"'[1]11 кл'!IKA15","v":0},{"$f":"'[1]11 кл'!IKB15","v":0},{"$f":"'[1]11 кл'!IKC15","v":0},{"$f":"'[1]11 кл'!IKD15","v":0},{"$f":"'[1]11 кл'!IKE15","v":0},{"$f":"'[1]11 кл'!IKF15","v":0},{"$f":"'[1]11 кл'!IKG15","v":0},{"$f":"'[1]11 кл'!IKH15","v":0},{"$f":"'[1]11 кл'!IKI15","v":0},{"$f":"'[1]11 кл'!IKJ15","v":0},{"$f":"'[1]11 кл'!IKK15","v":0},{"$f":"'[1]11 кл'!IKL15","v":0},{"$f":"'[1]11 кл'!IKM15","v":0},{"$f":"'[1]11 кл'!IKN15","v":0},{"$f":"'[1]11 кл'!IKO15","v":0},{"$f":"'[1]11 кл'!IKP15","v":0},{"$f":"'[1]11 кл'!IKQ15","v":0},{"$f":"'[1]11 кл'!IKR15","v":0},{"$f":"'[1]11 кл'!IKS15","v":0},{"$f":"'[1]11 кл'!IKT15","v":0},{"$f":"'[1]11 кл'!IKU15","v":0},{"$f":"'[1]11 кл'!IKV15","v":0},{"$f":"'[1]11 кл'!IKW15","v":0},{"$f":"'[1]11 кл'!IKX15","v":0},{"$f":"'[1]11 кл'!IKY15","v":0},{"$f":"'[1]11 кл'!IKZ15","v":0},{"$f":"'[1]11 кл'!ILA15","v":0},{"$f":"'[1]11 кл'!ILB15","v":0},{"$f":"'[1]11 кл'!ILC15","v":0},{"$f":"'[1]11 кл'!ILD15","v":0},{"$f":"'[1]11 кл'!ILE15","v":0},{"$f":"'[1]11 кл'!ILF15","v":0},{"$f":"'[1]11 кл'!ILG15","v":0},{"$f":"'[1]11 кл'!ILH15","v":0},{"$f":"'[1]11 кл'!ILI15","v":0},{"$f":"'[1]11 кл'!ILJ15","v":0},{"$f":"'[1]11 кл'!ILK15","v":0},{"$f":"'[1]11 кл'!ILL15","v":0},{"$f":"'[1]11 кл'!ILM15","v":0},{"$f":"'[1]11 кл'!ILN15","v":0},{"$f":"'[1]11 кл'!ILO15","v":0},{"$f":"'[1]11 кл'!ILP15","v":0},{"$f":"'[1]11 кл'!ILQ15","v":0},{"$f":"'[1]11 кл'!ILR15","v":0},{"$f":"'[1]11 кл'!ILS15","v":0},{"$f":"'[1]11 кл'!ILT15","v":0},{"$f":"'[1]11 кл'!ILU15","v":0},{"$f":"'[1]11 кл'!ILV15","v":0},{"$f":"'[1]11 кл'!ILW15","v":0},{"$f":"'[1]11 кл'!ILX15","v":0},{"$f":"'[1]11 кл'!ILY15","v":0},{"$f":"'[1]11 кл'!ILZ15","v":0},{"$f":"'[1]11 кл'!IMA15","v":0},{"$f":"'[1]11 кл'!IMB15","v":0},{"$f":"'[1]11 кл'!IMC15","v":0},{"$f":"'[1]11 кл'!IMD15","v":0},{"$f":"'[1]11 кл'!IME15","v":0},{"$f":"'[1]11 кл'!IMF15","v":0},{"$f":"'[1]11 кл'!IMG15","v":0},{"$f":"'[1]11 кл'!IMH15","v":0},{"$f":"'[1]11 кл'!IMI15","v":0},{"$f":"'[1]11 кл'!IMJ15","v":0},{"$f":"'[1]11 кл'!IMK15","v":0},{"$f":"'[1]11 кл'!IML15","v":0},{"$f":"'[1]11 кл'!IMM15","v":0},{"$f":"'[1]11 кл'!IMN15","v":0},{"$f":"'[1]11 кл'!IMO15","v":0},{"$f":"'[1]11 кл'!IMP15","v":0},{"$f":"'[1]11 кл'!IMQ15","v":0},{"$f":"'[1]11 кл'!IMR15","v":0},{"$f":"'[1]11 кл'!IMS15","v":0},{"$f":"'[1]11 кл'!IMT15","v":0},{"$f":"'[1]11 кл'!IMU15","v":0},{"$f":"'[1]11 кл'!IMV15","v":0},{"$f":"'[1]11 кл'!IMW15","v":0},{"$f":"'[1]11 кл'!IMX15","v":0},{"$f":"'[1]11 кл'!IMY15","v":0},{"$f":"'[1]11 кл'!IMZ15","v":0},{"$f":"'[1]11 кл'!INA15","v":0},{"$f":"'[1]11 кл'!INB15","v":0},{"$f":"'[1]11 кл'!INC15","v":0},{"$f":"'[1]11 кл'!IND15","v":0},{"$f":"'[1]11 кл'!INE15","v":0},{"$f":"'[1]11 кл'!INF15","v":0},{"$f":"'[1]11 кл'!ING15","v":0},{"$f":"'[1]11 кл'!INH15","v":0},{"$f":"'[1]11 кл'!INI15","v":0},{"$f":"'[1]11 кл'!INJ15","v":0},{"$f":"'[1]11 кл'!INK15","v":0},{"$f":"'[1]11 кл'!INL15","v":0},{"$f":"'[1]11 кл'!INM15","v":0},{"$f":"'[1]11 кл'!INN15","v":0},{"$f":"'[1]11 кл'!INO15","v":0},{"$f":"'[1]11 кл'!INP15","v":0},{"$f":"'[1]11 кл'!INQ15","v":0},{"$f":"'[1]11 кл'!INR15","v":0},{"$f":"'[1]11 кл'!INS15","v":0},{"$f":"'[1]11 кл'!INT15","v":0},{"$f":"'[1]11 кл'!INU15","v":0},{"$f":"'[1]11 кл'!INV15","v":0},{"$f":"'[1]11 кл'!INW15","v":0},{"$f":"'[1]11 кл'!INX15","v":0},{"$f":"'[1]11 кл'!INY15","v":0},{"$f":"'[1]11 кл'!INZ15","v":0},{"$f":"'[1]11 кл'!IOA15","v":0},{"$f":"'[1]11 кл'!IOB15","v":0},{"$f":"'[1]11 кл'!IOC15","v":0},{"$f":"'[1]11 кл'!IOD15","v":0},{"$f":"'[1]11 кл'!IOE15","v":0},{"$f":"'[1]11 кл'!IOF15","v":0},{"$f":"'[1]11 кл'!IOG15","v":0},{"$f":"'[1]11 кл'!IOH15","v":0},{"$f":"'[1]11 кл'!IOI15","v":0},{"$f":"'[1]11 кл'!IOJ15","v":0},{"$f":"'[1]11 кл'!IOK15","v":0},{"$f":"'[1]11 кл'!IOL15","v":0},{"$f":"'[1]11 кл'!IOM15","v":0},{"$f":"'[1]11 кл'!ION15","v":0},{"$f":"'[1]11 кл'!IOO15","v":0},{"$f":"'[1]11 кл'!IOP15","v":0},{"$f":"'[1]11 кл'!IOQ15","v":0},{"$f":"'[1]11 кл'!IOR15","v":0},{"$f":"'[1]11 кл'!IOS15","v":0},{"$f":"'[1]11 кл'!IOT15","v":0},{"$f":"'[1]11 кл'!IOU15","v":0},{"$f":"'[1]11 кл'!IOV15","v":0},{"$f":"'[1]11 кл'!IOW15","v":0},{"$f":"'[1]11 кл'!IOX15","v":0},{"$f":"'[1]11 кл'!IOY15","v":0},{"$f":"'[1]11 кл'!IOZ15","v":0},{"$f":"'[1]11 кл'!IPA15","v":0},{"$f":"'[1]11 кл'!IPB15","v":0},{"$f":"'[1]11 кл'!IPC15","v":0},{"$f":"'[1]11 кл'!IPD15","v":0},{"$f":"'[1]11 кл'!IPE15","v":0},{"$f":"'[1]11 кл'!IPF15","v":0},{"$f":"'[1]11 кл'!IPG15","v":0},{"$f":"'[1]11 кл'!IPH15","v":0},{"$f":"'[1]11 кл'!IPI15","v":0},{"$f":"'[1]11 кл'!IPJ15","v":0},{"$f":"'[1]11 кл'!IPK15","v":0},{"$f":"'[1]11 кл'!IPL15","v":0},{"$f":"'[1]11 кл'!IPM15","v":0},{"$f":"'[1]11 кл'!IPN15","v":0},{"$f":"'[1]11 кл'!IPO15","v":0},{"$f":"'[1]11 кл'!IPP15","v":0},{"$f":"'[1]11 кл'!IPQ15","v":0},{"$f":"'[1]11 кл'!IPR15","v":0},{"$f":"'[1]11 кл'!IPS15","v":0},{"$f":"'[1]11 кл'!IPT15","v":0},{"$f":"'[1]11 кл'!IPU15","v":0},{"$f":"'[1]11 кл'!IPV15","v":0},{"$f":"'[1]11 кл'!IPW15","v":0},{"$f":"'[1]11 кл'!IPX15","v":0},{"$f":"'[1]11 кл'!IPY15","v":0},{"$f":"'[1]11 кл'!IPZ15","v":0},{"$f":"'[1]11 кл'!IQA15","v":0},{"$f":"'[1]11 кл'!IQB15","v":0},{"$f":"'[1]11 кл'!IQC15","v":0},{"$f":"'[1]11 кл'!IQD15","v":0},{"$f":"'[1]11 кл'!IQE15","v":0},{"$f":"'[1]11 кл'!IQF15","v":0},{"$f":"'[1]11 кл'!IQG15","v":0},{"$f":"'[1]11 кл'!IQH15","v":0},{"$f":"'[1]11 кл'!IQI15","v":0},{"$f":"'[1]11 кл'!IQJ15","v":0},{"$f":"'[1]11 кл'!IQK15","v":0},{"$f":"'[1]11 кл'!IQL15","v":0},{"$f":"'[1]11 кл'!IQM15","v":0},{"$f":"'[1]11 кл'!IQN15","v":0},{"$f":"'[1]11 кл'!IQO15","v":0},{"$f":"'[1]11 кл'!IQP15","v":0},{"$f":"'[1]11 кл'!IQQ15","v":0},{"$f":"'[1]11 кл'!IQR15","v":0},{"$f":"'[1]11 кл'!IQS15","v":0},{"$f":"'[1]11 кл'!IQT15","v":0},{"$f":"'[1]11 кл'!IQU15","v":0},{"$f":"'[1]11 кл'!IQV15","v":0},{"$f":"'[1]11 кл'!IQW15","v":0},{"$f":"'[1]11 кл'!IQX15","v":0},{"$f":"'[1]11 кл'!IQY15","v":0},{"$f":"'[1]11 кл'!IQZ15","v":0},{"$f":"'[1]11 кл'!IRA15","v":0},{"$f":"'[1]11 кл'!IRB15","v":0},{"$f":"'[1]11 кл'!IRC15","v":0},{"$f":"'[1]11 кл'!IRD15","v":0},{"$f":"'[1]11 кл'!IRE15","v":0},{"$f":"'[1]11 кл'!IRF15","v":0},{"$f":"'[1]11 кл'!IRG15","v":0},{"$f":"'[1]11 кл'!IRH15","v":0},{"$f":"'[1]11 кл'!IRI15","v":0},{"$f":"'[1]11 кл'!IRJ15","v":0},{"$f":"'[1]11 кл'!IRK15","v":0},{"$f":"'[1]11 кл'!IRL15","v":0},{"$f":"'[1]11 кл'!IRM15","v":0},{"$f":"'[1]11 кл'!IRN15","v":0},{"$f":"'[1]11 кл'!IRO15","v":0},{"$f":"'[1]11 кл'!IRP15","v":0},{"$f":"'[1]11 кл'!IRQ15","v":0},{"$f":"'[1]11 кл'!IRR15","v":0},{"$f":"'[1]11 кл'!IRS15","v":0},{"$f":"'[1]11 кл'!IRT15","v":0},{"$f":"'[1]11 кл'!IRU15","v":0},{"$f":"'[1]11 кл'!IRV15","v":0},{"$f":"'[1]11 кл'!IRW15","v":0},{"$f":"'[1]11 кл'!IRX15","v":0},{"$f":"'[1]11 кл'!IRY15","v":0},{"$f":"'[1]11 кл'!IRZ15","v":0},{"$f":"'[1]11 кл'!ISA15","v":0},{"$f":"'[1]11 кл'!ISB15","v":0},{"$f":"'[1]11 кл'!ISC15","v":0},{"$f":"'[1]11 кл'!ISD15","v":0},{"$f":"'[1]11 кл'!ISE15","v":0},{"$f":"'[1]11 кл'!ISF15","v":0},{"$f":"'[1]11 кл'!ISG15","v":0},{"$f":"'[1]11 кл'!ISH15","v":0},{"$f":"'[1]11 кл'!ISI15","v":0},{"$f":"'[1]11 кл'!ISJ15","v":0},{"$f":"'[1]11 кл'!ISK15","v":0},{"$f":"'[1]11 кл'!ISL15","v":0},{"$f":"'[1]11 кл'!ISM15","v":0},{"$f":"'[1]11 кл'!ISN15","v":0},{"$f":"'[1]11 кл'!ISO15","v":0},{"$f":"'[1]11 кл'!ISP15","v":0},{"$f":"'[1]11 кл'!ISQ15","v":0},{"$f":"'[1]11 кл'!ISR15","v":0},{"$f":"'[1]11 кл'!ISS15","v":0},{"$f":"'[1]11 кл'!IST15","v":0},{"$f":"'[1]11 кл'!ISU15","v":0},{"$f":"'[1]11 кл'!ISV15","v":0},{"$f":"'[1]11 кл'!ISW15","v":0},{"$f":"'[1]11 кл'!ISX15","v":0},{"$f":"'[1]11 кл'!ISY15","v":0},{"$f":"'[1]11 кл'!ISZ15","v":0},{"$f":"'[1]11 кл'!ITA15","v":0},{"$f":"'[1]11 кл'!ITB15","v":0},{"$f":"'[1]11 кл'!ITC15","v":0},{"$f":"'[1]11 кл'!ITD15","v":0},{"$f":"'[1]11 кл'!ITE15","v":0},{"$f":"'[1]11 кл'!ITF15","v":0},{"$f":"'[1]11 кл'!ITG15","v":0},{"$f":"'[1]11 кл'!ITH15","v":0},{"$f":"'[1]11 кл'!ITI15","v":0},{"$f":"'[1]11 кл'!ITJ15","v":0},{"$f":"'[1]11 кл'!ITK15","v":0},{"$f":"'[1]11 кл'!ITL15","v":0},{"$f":"'[1]11 кл'!ITM15","v":0},{"$f":"'[1]11 кл'!ITN15","v":0},{"$f":"'[1]11 кл'!ITO15","v":0},{"$f":"'[1]11 кл'!ITP15","v":0},{"$f":"'[1]11 кл'!ITQ15","v":0},{"$f":"'[1]11 кл'!ITR15","v":0},{"$f":"'[1]11 кл'!ITS15","v":0},{"$f":"'[1]11 кл'!ITT15","v":0},{"$f":"'[1]11 кл'!ITU15","v":0},{"$f":"'[1]11 кл'!ITV15","v":0},{"$f":"'[1]11 кл'!ITW15","v":0},{"$f":"'[1]11 кл'!ITX15","v":0},{"$f":"'[1]11 кл'!ITY15","v":0},{"$f":"'[1]11 кл'!ITZ15","v":0},{"$f":"'[1]11 кл'!IUA15","v":0},{"$f":"'[1]11 кл'!IUB15","v":0},{"$f":"'[1]11 кл'!IUC15","v":0},{"$f":"'[1]11 кл'!IUD15","v":0},{"$f":"'[1]11 кл'!IUE15","v":0},{"$f":"'[1]11 кл'!IUF15","v":0},{"$f":"'[1]11 кл'!IUG15","v":0},{"$f":"'[1]11 кл'!IUH15","v":0},{"$f":"'[1]11 кл'!IUI15","v":0},{"$f":"'[1]11 кл'!IUJ15","v":0},{"$f":"'[1]11 кл'!IUK15","v":0},{"$f":"'[1]11 кл'!IUL15","v":0},{"$f":"'[1]11 кл'!IUM15","v":0},{"$f":"'[1]11 кл'!IUN15","v":0},{"$f":"'[1]11 кл'!IUO15","v":0},{"$f":"'[1]11 кл'!IUP15","v":0},{"$f":"'[1]11 кл'!IUQ15","v":0},{"$f":"'[1]11 кл'!IUR15","v":0},{"$f":"'[1]11 кл'!IUS15","v":0},{"$f":"'[1]11 кл'!IUT15","v":0},{"$f":"'[1]11 кл'!IUU15","v":0},{"$f":"'[1]11 кл'!IUV15","v":0},{"$f":"'[1]11 кл'!IUW15","v":0},{"$f":"'[1]11 кл'!IUX15","v":0},{"$f":"'[1]11 кл'!IUY15","v":0},{"$f":"'[1]11 кл'!IUZ15","v":0},{"$f":"'[1]11 кл'!IVA15","v":0},{"$f":"'[1]11 кл'!IVB15","v":0},{"$f":"'[1]11 кл'!IVC15","v":0},{"$f":"'[1]11 кл'!IVD15","v":0},{"$f":"'[1]11 кл'!IVE15","v":0},{"$f":"'[1]11 кл'!IVF15","v":0},{"$f":"'[1]11 кл'!IVG15","v":0},{"$f":"'[1]11 кл'!IVH15","v":0},{"$f":"'[1]11 кл'!IVI15","v":0},{"$f":"'[1]11 кл'!IVJ15","v":0},{"$f":"'[1]11 кл'!IVK15","v":0},{"$f":"'[1]11 кл'!IVL15","v":0},{"$f":"'[1]11 кл'!IVM15","v":0},{"$f":"'[1]11 кл'!IVN15","v":0},{"$f":"'[1]11 кл'!IVO15","v":0},{"$f":"'[1]11 кл'!IVP15","v":0},{"$f":"'[1]11 кл'!IVQ15","v":0},{"$f":"'[1]11 кл'!IVR15","v":0},{"$f":"'[1]11 кл'!IVS15","v":0},{"$f":"'[1]11 кл'!IVT15","v":0},{"$f":"'[1]11 кл'!IVU15","v":0},{"$f":"'[1]11 кл'!IVV15","v":0},{"$f":"'[1]11 кл'!IVW15","v":0},{"$f":"'[1]11 кл'!IVX15","v":0},{"$f":"'[1]11 кл'!IVY15","v":0},{"$f":"'[1]11 кл'!IVZ15","v":0},{"$f":"'[1]11 кл'!IWA15","v":0},{"$f":"'[1]11 кл'!IWB15","v":0},{"$f":"'[1]11 кл'!IWC15","v":0},{"$f":"'[1]11 кл'!IWD15","v":0},{"$f":"'[1]11 кл'!IWE15","v":0},{"$f":"'[1]11 кл'!IWF15","v":0},{"$f":"'[1]11 кл'!IWG15","v":0},{"$f":"'[1]11 кл'!IWH15","v":0},{"$f":"'[1]11 кл'!IWI15","v":0},{"$f":"'[1]11 кл'!IWJ15","v":0},{"$f":"'[1]11 кл'!IWK15","v":0},{"$f":"'[1]11 кл'!IWL15","v":0},{"$f":"'[1]11 кл'!IWM15","v":0},{"$f":"'[1]11 кл'!IWN15","v":0},{"$f":"'[1]11 кл'!IWO15","v":0},{"$f":"'[1]11 кл'!IWP15","v":0},{"$f":"'[1]11 кл'!IWQ15","v":0},{"$f":"'[1]11 кл'!IWR15","v":0},{"$f":"'[1]11 кл'!IWS15","v":0},{"$f":"'[1]11 кл'!IWT15","v":0},{"$f":"'[1]11 кл'!IWU15","v":0},{"$f":"'[1]11 кл'!IWV15","v":0},{"$f":"'[1]11 кл'!IWW15","v":0},{"$f":"'[1]11 кл'!IWX15","v":0},{"$f":"'[1]11 кл'!IWY15","v":0},{"$f":"'[1]11 кл'!IWZ15","v":0},{"$f":"'[1]11 кл'!IXA15","v":0},{"$f":"'[1]11 кл'!IXB15","v":0},{"$f":"'[1]11 кл'!IXC15","v":0},{"$f":"'[1]11 кл'!IXD15","v":0},{"$f":"'[1]11 кл'!IXE15","v":0},{"$f":"'[1]11 кл'!IXF15","v":0},{"$f":"'[1]11 кл'!IXG15","v":0},{"$f":"'[1]11 кл'!IXH15","v":0},{"$f":"'[1]11 кл'!IXI15","v":0},{"$f":"'[1]11 кл'!IXJ15","v":0},{"$f":"'[1]11 кл'!IXK15","v":0},{"$f":"'[1]11 кл'!IXL15","v":0},{"$f":"'[1]11 кл'!IXM15","v":0},{"$f":"'[1]11 кл'!IXN15","v":0},{"$f":"'[1]11 кл'!IXO15","v":0},{"$f":"'[1]11 кл'!IXP15","v":0},{"$f":"'[1]11 кл'!IXQ15","v":0},{"$f":"'[1]11 кл'!IXR15","v":0},{"$f":"'[1]11 кл'!IXS15","v":0},{"$f":"'[1]11 кл'!IXT15","v":0},{"$f":"'[1]11 кл'!IXU15","v":0},{"$f":"'[1]11 кл'!IXV15","v":0},{"$f":"'[1]11 кл'!IXW15","v":0},{"$f":"'[1]11 кл'!IXX15","v":0},{"$f":"'[1]11 кл'!IXY15","v":0},{"$f":"'[1]11 кл'!IXZ15","v":0},{"$f":"'[1]11 кл'!IYA15","v":0},{"$f":"'[1]11 кл'!IYB15","v":0},{"$f":"'[1]11 кл'!IYC15","v":0},{"$f":"'[1]11 кл'!IYD15","v":0},{"$f":"'[1]11 кл'!IYE15","v":0},{"$f":"'[1]11 кл'!IYF15","v":0},{"$f":"'[1]11 кл'!IYG15","v":0},{"$f":"'[1]11 кл'!IYH15","v":0},{"$f":"'[1]11 кл'!IYI15","v":0},{"$f":"'[1]11 кл'!IYJ15","v":0},{"$f":"'[1]11 кл'!IYK15","v":0},{"$f":"'[1]11 кл'!IYL15","v":0},{"$f":"'[1]11 кл'!IYM15","v":0},{"$f":"'[1]11 кл'!IYN15","v":0},{"$f":"'[1]11 кл'!IYO15","v":0},{"$f":"'[1]11 кл'!IYP15","v":0},{"$f":"'[1]11 кл'!IYQ15","v":0},{"$f":"'[1]11 кл'!IYR15","v":0},{"$f":"'[1]11 кл'!IYS15","v":0},{"$f":"'[1]11 кл'!IYT15","v":0},{"$f":"'[1]11 кл'!IYU15","v":0},{"$f":"'[1]11 кл'!IYV15","v":0},{"$f":"'[1]11 кл'!IYW15","v":0},{"$f":"'[1]11 кл'!IYX15","v":0},{"$f":"'[1]11 кл'!IYY15","v":0},{"$f":"'[1]11 кл'!IYZ15","v":0},{"$f":"'[1]11 кл'!IZA15","v":0},{"$f":"'[1]11 кл'!IZB15","v":0},{"$f":"'[1]11 кл'!IZC15","v":0},{"$f":"'[1]11 кл'!IZD15","v":0},{"$f":"'[1]11 кл'!IZE15","v":0},{"$f":"'[1]11 кл'!IZF15","v":0},{"$f":"'[1]11 кл'!IZG15","v":0},{"$f":"'[1]11 кл'!IZH15","v":0},{"$f":"'[1]11 кл'!IZI15","v":0},{"$f":"'[1]11 кл'!IZJ15","v":0},{"$f":"'[1]11 кл'!IZK15","v":0},{"$f":"'[1]11 кл'!IZL15","v":0},{"$f":"'[1]11 кл'!IZM15","v":0},{"$f":"'[1]11 кл'!IZN15","v":0},{"$f":"'[1]11 кл'!IZO15","v":0},{"$f":"'[1]11 кл'!IZP15","v":0},{"$f":"'[1]11 кл'!IZQ15","v":0},{"$f":"'[1]11 кл'!IZR15","v":0},{"$f":"'[1]11 кл'!IZS15","v":0},{"$f":"'[1]11 кл'!IZT15","v":0},{"$f":"'[1]11 кл'!IZU15","v":0},{"$f":"'[1]11 кл'!IZV15","v":0},{"$f":"'[1]11 кл'!IZW15","v":0},{"$f":"'[1]11 кл'!IZX15","v":0},{"$f":"'[1]11 кл'!IZY15","v":0},{"$f":"'[1]11 кл'!IZZ15","v":0},{"$f":"'[1]11 кл'!JAA15","v":0},{"$f":"'[1]11 кл'!JAB15","v":0},{"$f":"'[1]11 кл'!JAC15","v":0},{"$f":"'[1]11 кл'!JAD15","v":0},{"$f":"'[1]11 кл'!JAE15","v":0},{"$f":"'[1]11 кл'!JAF15","v":0},{"$f":"'[1]11 кл'!JAG15","v":0},{"$f":"'[1]11 кл'!JAH15","v":0},{"$f":"'[1]11 кл'!JAI15","v":0},{"$f":"'[1]11 кл'!JAJ15","v":0},{"$f":"'[1]11 кл'!JAK15","v":0},{"$f":"'[1]11 кл'!JAL15","v":0},{"$f":"'[1]11 кл'!JAM15","v":0},{"$f":"'[1]11 кл'!JAN15","v":0},{"$f":"'[1]11 кл'!JAO15","v":0},{"$f":"'[1]11 кл'!JAP15","v":0},{"$f":"'[1]11 кл'!JAQ15","v":0},{"$f":"'[1]11 кл'!JAR15","v":0},{"$f":"'[1]11 кл'!JAS15","v":0},{"$f":"'[1]11 кл'!JAT15","v":0},{"$f":"'[1]11 кл'!JAU15","v":0},{"$f":"'[1]11 кл'!JAV15","v":0},{"$f":"'[1]11 кл'!JAW15","v":0},{"$f":"'[1]11 кл'!JAX15","v":0},{"$f":"'[1]11 кл'!JAY15","v":0},{"$f":"'[1]11 кл'!JAZ15","v":0},{"$f":"'[1]11 кл'!JBA15","v":0},{"$f":"'[1]11 кл'!JBB15","v":0},{"$f":"'[1]11 кл'!JBC15","v":0},{"$f":"'[1]11 кл'!JBD15","v":0},{"$f":"'[1]11 кл'!JBE15","v":0},{"$f":"'[1]11 кл'!JBF15","v":0},{"$f":"'[1]11 кл'!JBG15","v":0},{"$f":"'[1]11 кл'!JBH15","v":0},{"$f":"'[1]11 кл'!JBI15","v":0},{"$f":"'[1]11 кл'!JBJ15","v":0},{"$f":"'[1]11 кл'!JBK15","v":0},{"$f":"'[1]11 кл'!JBL15","v":0},{"$f":"'[1]11 кл'!JBM15","v":0},{"$f":"'[1]11 кл'!JBN15","v":0},{"$f":"'[1]11 кл'!JBO15","v":0},{"$f":"'[1]11 кл'!JBP15","v":0},{"$f":"'[1]11 кл'!JBQ15","v":0},{"$f":"'[1]11 кл'!JBR15","v":0},{"$f":"'[1]11 кл'!JBS15","v":0},{"$f":"'[1]11 кл'!JBT15","v":0},{"$f":"'[1]11 кл'!JBU15","v":0},{"$f":"'[1]11 кл'!JBV15","v":0},{"$f":"'[1]11 кл'!JBW15","v":0},{"$f":"'[1]11 кл'!JBX15","v":0},{"$f":"'[1]11 кл'!JBY15","v":0},{"$f":"'[1]11 кл'!JBZ15","v":0},{"$f":"'[1]11 кл'!JCA15","v":0},{"$f":"'[1]11 кл'!JCB15","v":0},{"$f":"'[1]11 кл'!JCC15","v":0},{"$f":"'[1]11 кл'!JCD15","v":0},{"$f":"'[1]11 кл'!JCE15","v":0},{"$f":"'[1]11 кл'!JCF15","v":0},{"$f":"'[1]11 кл'!JCG15","v":0},{"$f":"'[1]11 кл'!JCH15","v":0},{"$f":"'[1]11 кл'!JCI15","v":0},{"$f":"'[1]11 кл'!JCJ15","v":0},{"$f":"'[1]11 кл'!JCK15","v":0},{"$f":"'[1]11 кл'!JCL15","v":0},{"$f":"'[1]11 кл'!JCM15","v":0},{"$f":"'[1]11 кл'!JCN15","v":0},{"$f":"'[1]11 кл'!JCO15","v":0},{"$f":"'[1]11 кл'!JCP15","v":0},{"$f":"'[1]11 кл'!JCQ15","v":0},{"$f":"'[1]11 кл'!JCR15","v":0},{"$f":"'[1]11 кл'!JCS15","v":0},{"$f":"'[1]11 кл'!JCT15","v":0},{"$f":"'[1]11 кл'!JCU15","v":0},{"$f":"'[1]11 кл'!JCV15","v":0},{"$f":"'[1]11 кл'!JCW15","v":0},{"$f":"'[1]11 кл'!JCX15","v":0},{"$f":"'[1]11 кл'!JCY15","v":0},{"$f":"'[1]11 кл'!JCZ15","v":0},{"$f":"'[1]11 кл'!JDA15","v":0},{"$f":"'[1]11 кл'!JDB15","v":0},{"$f":"'[1]11 кл'!JDC15","v":0},{"$f":"'[1]11 кл'!JDD15","v":0},{"$f":"'[1]11 кл'!JDE15","v":0},{"$f":"'[1]11 кл'!JDF15","v":0},{"$f":"'[1]11 кл'!JDG15","v":0},{"$f":"'[1]11 кл'!JDH15","v":0},{"$f":"'[1]11 кл'!JDI15","v":0},{"$f":"'[1]11 кл'!JDJ15","v":0},{"$f":"'[1]11 кл'!JDK15","v":0},{"$f":"'[1]11 кл'!JDL15","v":0},{"$f":"'[1]11 кл'!JDM15","v":0},{"$f":"'[1]11 кл'!JDN15","v":0},{"$f":"'[1]11 кл'!JDO15","v":0},{"$f":"'[1]11 кл'!JDP15","v":0},{"$f":"'[1]11 кл'!JDQ15","v":0},{"$f":"'[1]11 кл'!JDR15","v":0},{"$f":"'[1]11 кл'!JDS15","v":0},{"$f":"'[1]11 кл'!JDT15","v":0},{"$f":"'[1]11 кл'!JDU15","v":0},{"$f":"'[1]11 кл'!JDV15","v":0},{"$f":"'[1]11 кл'!JDW15","v":0},{"$f":"'[1]11 кл'!JDX15","v":0},{"$f":"'[1]11 кл'!JDY15","v":0},{"$f":"'[1]11 кл'!JDZ15","v":0},{"$f":"'[1]11 кл'!JEA15","v":0},{"$f":"'[1]11 кл'!JEB15","v":0},{"$f":"'[1]11 кл'!JEC15","v":0},{"$f":"'[1]11 кл'!JED15","v":0},{"$f":"'[1]11 кл'!JEE15","v":0},{"$f":"'[1]11 кл'!JEF15","v":0},{"$f":"'[1]11 кл'!JEG15","v":0},{"$f":"'[1]11 кл'!JEH15","v":0},{"$f":"'[1]11 кл'!JEI15","v":0},{"$f":"'[1]11 кл'!JEJ15","v":0},{"$f":"'[1]11 кл'!JEK15","v":0},{"$f":"'[1]11 кл'!JEL15","v":0},{"$f":"'[1]11 кл'!JEM15","v":0},{"$f":"'[1]11 кл'!JEN15","v":0},{"$f":"'[1]11 кл'!JEO15","v":0},{"$f":"'[1]11 кл'!JEP15","v":0},{"$f":"'[1]11 кл'!JEQ15","v":0},{"$f":"'[1]11 кл'!JER15","v":0},{"$f":"'[1]11 кл'!JES15","v":0},{"$f":"'[1]11 кл'!JET15","v":0},{"$f":"'[1]11 кл'!JEU15","v":0},{"$f":"'[1]11 кл'!JEV15","v":0},{"$f":"'[1]11 кл'!JEW15","v":0},{"$f":"'[1]11 кл'!JEX15","v":0},{"$f":"'[1]11 кл'!JEY15","v":0},{"$f":"'[1]11 кл'!JEZ15","v":0},{"$f":"'[1]11 кл'!JFA15","v":0},{"$f":"'[1]11 кл'!JFB15","v":0},{"$f":"'[1]11 кл'!JFC15","v":0},{"$f":"'[1]11 кл'!JFD15","v":0},{"$f":"'[1]11 кл'!JFE15","v":0},{"$f":"'[1]11 кл'!JFF15","v":0},{"$f":"'[1]11 кл'!JFG15","v":0},{"$f":"'[1]11 кл'!JFH15","v":0},{"$f":"'[1]11 кл'!JFI15","v":0},{"$f":"'[1]11 кл'!JFJ15","v":0},{"$f":"'[1]11 кл'!JFK15","v":0},{"$f":"'[1]11 кл'!JFL15","v":0},{"$f":"'[1]11 кл'!JFM15","v":0},{"$f":"'[1]11 кл'!JFN15","v":0},{"$f":"'[1]11 кл'!JFO15","v":0},{"$f":"'[1]11 кл'!JFP15","v":0},{"$f":"'[1]11 кл'!JFQ15","v":0},{"$f":"'[1]11 кл'!JFR15","v":0},{"$f":"'[1]11 кл'!JFS15","v":0},{"$f":"'[1]11 кл'!JFT15","v":0},{"$f":"'[1]11 кл'!JFU15","v":0},{"$f":"'[1]11 кл'!JFV15","v":0},{"$f":"'[1]11 кл'!JFW15","v":0},{"$f":"'[1]11 кл'!JFX15","v":0},{"$f":"'[1]11 кл'!JFY15","v":0},{"$f":"'[1]11 кл'!JFZ15","v":0},{"$f":"'[1]11 кл'!JGA15","v":0},{"$f":"'[1]11 кл'!JGB15","v":0},{"$f":"'[1]11 кл'!JGC15","v":0},{"$f":"'[1]11 кл'!JGD15","v":0},{"$f":"'[1]11 кл'!JGE15","v":0},{"$f":"'[1]11 кл'!JGF15","v":0},{"$f":"'[1]11 кл'!JGG15","v":0},{"$f":"'[1]11 кл'!JGH15","v":0},{"$f":"'[1]11 кл'!JGI15","v":0},{"$f":"'[1]11 кл'!JGJ15","v":0},{"$f":"'[1]11 кл'!JGK15","v":0},{"$f":"'[1]11 кл'!JGL15","v":0},{"$f":"'[1]11 кл'!JGM15","v":0},{"$f":"'[1]11 кл'!JGN15","v":0},{"$f":"'[1]11 кл'!JGO15","v":0},{"$f":"'[1]11 кл'!JGP15","v":0},{"$f":"'[1]11 кл'!JGQ15","v":0},{"$f":"'[1]11 кл'!JGR15","v":0},{"$f":"'[1]11 кл'!JGS15","v":0},{"$f":"'[1]11 кл'!JGT15","v":0},{"$f":"'[1]11 кл'!JGU15","v":0},{"$f":"'[1]11 кл'!JGV15","v":0},{"$f":"'[1]11 кл'!JGW15","v":0},{"$f":"'[1]11 кл'!JGX15","v":0},{"$f":"'[1]11 кл'!JGY15","v":0},{"$f":"'[1]11 кл'!JGZ15","v":0},{"$f":"'[1]11 кл'!JHA15","v":0},{"$f":"'[1]11 кл'!JHB15","v":0},{"$f":"'[1]11 кл'!JHC15","v":0},{"$f":"'[1]11 кл'!JHD15","v":0},{"$f":"'[1]11 кл'!JHE15","v":0},{"$f":"'[1]11 кл'!JHF15","v":0},{"$f":"'[1]11 кл'!JHG15","v":0},{"$f":"'[1]11 кл'!JHH15","v":0},{"$f":"'[1]11 кл'!JHI15","v":0},{"$f":"'[1]11 кл'!JHJ15","v":0},{"$f":"'[1]11 кл'!JHK15","v":0},{"$f":"'[1]11 кл'!JHL15","v":0},{"$f":"'[1]11 кл'!JHM15","v":0},{"$f":"'[1]11 кл'!JHN15","v":0},{"$f":"'[1]11 кл'!JHO15","v":0},{"$f":"'[1]11 кл'!JHP15","v":0},{"$f":"'[1]11 кл'!JHQ15","v":0},{"$f":"'[1]11 кл'!JHR15","v":0},{"$f":"'[1]11 кл'!JHS15","v":0},{"$f":"'[1]11 кл'!JHT15","v":0},{"$f":"'[1]11 кл'!JHU15","v":0},{"$f":"'[1]11 кл'!JHV15","v":0},{"$f":"'[1]11 кл'!JHW15","v":0},{"$f":"'[1]11 кл'!JHX15","v":0},{"$f":"'[1]11 кл'!JHY15","v":0},{"$f":"'[1]11 кл'!JHZ15","v":0},{"$f":"'[1]11 кл'!JIA15","v":0},{"$f":"'[1]11 кл'!JIB15","v":0},{"$f":"'[1]11 кл'!JIC15","v":0},{"$f":"'[1]11 кл'!JID15","v":0},{"$f":"'[1]11 кл'!JIE15","v":0},{"$f":"'[1]11 кл'!JIF15","v":0},{"$f":"'[1]11 кл'!JIG15","v":0},{"$f":"'[1]11 кл'!JIH15","v":0},{"$f":"'[1]11 кл'!JII15","v":0},{"$f":"'[1]11 кл'!JIJ15","v":0},{"$f":"'[1]11 кл'!JIK15","v":0},{"$f":"'[1]11 кл'!JIL15","v":0},{"$f":"'[1]11 кл'!JIM15","v":0},{"$f":"'[1]11 кл'!JIN15","v":0},{"$f":"'[1]11 кл'!JIO15","v":0},{"$f":"'[1]11 кл'!JIP15","v":0},{"$f":"'[1]11 кл'!JIQ15","v":0},{"$f":"'[1]11 кл'!JIR15","v":0},{"$f":"'[1]11 кл'!JIS15","v":0},{"$f":"'[1]11 кл'!JIT15","v":0},{"$f":"'[1]11 кл'!JIU15","v":0},{"$f":"'[1]11 кл'!JIV15","v":0},{"$f":"'[1]11 кл'!JIW15","v":0},{"$f":"'[1]11 кл'!JIX15","v":0},{"$f":"'[1]11 кл'!JIY15","v":0},{"$f":"'[1]11 кл'!JIZ15","v":0},{"$f":"'[1]11 кл'!JJA15","v":0},{"$f":"'[1]11 кл'!JJB15","v":0},{"$f":"'[1]11 кл'!JJC15","v":0},{"$f":"'[1]11 кл'!JJD15","v":0},{"$f":"'[1]11 кл'!JJE15","v":0},{"$f":"'[1]11 кл'!JJF15","v":0},{"$f":"'[1]11 кл'!JJG15","v":0},{"$f":"'[1]11 кл'!JJH15","v":0},{"$f":"'[1]11 кл'!JJI15","v":0},{"$f":"'[1]11 кл'!JJJ15","v":0},{"$f":"'[1]11 кл'!JJK15","v":0},{"$f":"'[1]11 кл'!JJL15","v":0},{"$f":"'[1]11 кл'!JJM15","v":0},{"$f":"'[1]11 кл'!JJN15","v":0},{"$f":"'[1]11 кл'!JJO15","v":0},{"$f":"'[1]11 кл'!JJP15","v":0},{"$f":"'[1]11 кл'!JJQ15","v":0},{"$f":"'[1]11 кл'!JJR15","v":0},{"$f":"'[1]11 кл'!JJS15","v":0},{"$f":"'[1]11 кл'!JJT15","v":0},{"$f":"'[1]11 кл'!JJU15","v":0},{"$f":"'[1]11 кл'!JJV15","v":0},{"$f":"'[1]11 кл'!JJW15","v":0},{"$f":"'[1]11 кл'!JJX15","v":0},{"$f":"'[1]11 кл'!JJY15","v":0},{"$f":"'[1]11 кл'!JJZ15","v":0},{"$f":"'[1]11 кл'!JKA15","v":0},{"$f":"'[1]11 кл'!JKB15","v":0},{"$f":"'[1]11 кл'!JKC15","v":0},{"$f":"'[1]11 кл'!JKD15","v":0},{"$f":"'[1]11 кл'!JKE15","v":0},{"$f":"'[1]11 кл'!JKF15","v":0},{"$f":"'[1]11 кл'!JKG15","v":0},{"$f":"'[1]11 кл'!JKH15","v":0},{"$f":"'[1]11 кл'!JKI15","v":0},{"$f":"'[1]11 кл'!JKJ15","v":0},{"$f":"'[1]11 кл'!JKK15","v":0},{"$f":"'[1]11 кл'!JKL15","v":0},{"$f":"'[1]11 кл'!JKM15","v":0},{"$f":"'[1]11 кл'!JKN15","v":0},{"$f":"'[1]11 кл'!JKO15","v":0},{"$f":"'[1]11 кл'!JKP15","v":0},{"$f":"'[1]11 кл'!JKQ15","v":0},{"$f":"'[1]11 кл'!JKR15","v":0},{"$f":"'[1]11 кл'!JKS15","v":0},{"$f":"'[1]11 кл'!JKT15","v":0},{"$f":"'[1]11 кл'!JKU15","v":0},{"$f":"'[1]11 кл'!JKV15","v":0},{"$f":"'[1]11 кл'!JKW15","v":0},{"$f":"'[1]11 кл'!JKX15","v":0},{"$f":"'[1]11 кл'!JKY15","v":0},{"$f":"'[1]11 кл'!JKZ15","v":0},{"$f":"'[1]11 кл'!JLA15","v":0},{"$f":"'[1]11 кл'!JLB15","v":0},{"$f":"'[1]11 кл'!JLC15","v":0},{"$f":"'[1]11 кл'!JLD15","v":0},{"$f":"'[1]11 кл'!JLE15","v":0},{"$f":"'[1]11 кл'!JLF15","v":0},{"$f":"'[1]11 кл'!JLG15","v":0},{"$f":"'[1]11 кл'!JLH15","v":0},{"$f":"'[1]11 кл'!JLI15","v":0},{"$f":"'[1]11 кл'!JLJ15","v":0},{"$f":"'[1]11 кл'!JLK15","v":0},{"$f":"'[1]11 кл'!JLL15","v":0},{"$f":"'[1]11 кл'!JLM15","v":0},{"$f":"'[1]11 кл'!JLN15","v":0},{"$f":"'[1]11 кл'!JLO15","v":0},{"$f":"'[1]11 кл'!JLP15","v":0},{"$f":"'[1]11 кл'!JLQ15","v":0},{"$f":"'[1]11 кл'!JLR15","v":0},{"$f":"'[1]11 кл'!JLS15","v":0},{"$f":"'[1]11 кл'!JLT15","v":0},{"$f":"'[1]11 кл'!JLU15","v":0},{"$f":"'[1]11 кл'!JLV15","v":0},{"$f":"'[1]11 кл'!JLW15","v":0},{"$f":"'[1]11 кл'!JLX15","v":0},{"$f":"'[1]11 кл'!JLY15","v":0},{"$f":"'[1]11 кл'!JLZ15","v":0},{"$f":"'[1]11 кл'!JMA15","v":0},{"$f":"'[1]11 кл'!JMB15","v":0},{"$f":"'[1]11 кл'!JMC15","v":0},{"$f":"'[1]11 кл'!JMD15","v":0},{"$f":"'[1]11 кл'!JME15","v":0},{"$f":"'[1]11 кл'!JMF15","v":0},{"$f":"'[1]11 кл'!JMG15","v":0},{"$f":"'[1]11 кл'!JMH15","v":0},{"$f":"'[1]11 кл'!JMI15","v":0},{"$f":"'[1]11 кл'!JMJ15","v":0},{"$f":"'[1]11 кл'!JMK15","v":0},{"$f":"'[1]11 кл'!JML15","v":0},{"$f":"'[1]11 кл'!JMM15","v":0},{"$f":"'[1]11 кл'!JMN15","v":0},{"$f":"'[1]11 кл'!JMO15","v":0},{"$f":"'[1]11 кл'!JMP15","v":0},{"$f":"'[1]11 кл'!JMQ15","v":0},{"$f":"'[1]11 кл'!JMR15","v":0},{"$f":"'[1]11 кл'!JMS15","v":0},{"$f":"'[1]11 кл'!JMT15","v":0},{"$f":"'[1]11 кл'!JMU15","v":0},{"$f":"'[1]11 кл'!JMV15","v":0},{"$f":"'[1]11 кл'!JMW15","v":0},{"$f":"'[1]11 кл'!JMX15","v":0},{"$f":"'[1]11 кл'!JMY15","v":0},{"$f":"'[1]11 кл'!JMZ15","v":0},{"$f":"'[1]11 кл'!JNA15","v":0},{"$f":"'[1]11 кл'!JNB15","v":0},{"$f":"'[1]11 кл'!JNC15","v":0},{"$f":"'[1]11 кл'!JND15","v":0},{"$f":"'[1]11 кл'!JNE15","v":0},{"$f":"'[1]11 кл'!JNF15","v":0},{"$f":"'[1]11 кл'!JNG15","v":0},{"$f":"'[1]11 кл'!JNH15","v":0},{"$f":"'[1]11 кл'!JNI15","v":0},{"$f":"'[1]11 кл'!JNJ15","v":0},{"$f":"'[1]11 кл'!JNK15","v":0},{"$f":"'[1]11 кл'!JNL15","v":0},{"$f":"'[1]11 кл'!JNM15","v":0},{"$f":"'[1]11 кл'!JNN15","v":0},{"$f":"'[1]11 кл'!JNO15","v":0},{"$f":"'[1]11 кл'!JNP15","v":0},{"$f":"'[1]11 кл'!JNQ15","v":0},{"$f":"'[1]11 кл'!JNR15","v":0},{"$f":"'[1]11 кл'!JNS15","v":0},{"$f":"'[1]11 кл'!JNT15","v":0},{"$f":"'[1]11 кл'!JNU15","v":0},{"$f":"'[1]11 кл'!JNV15","v":0},{"$f":"'[1]11 кл'!JNW15","v":0},{"$f":"'[1]11 кл'!JNX15","v":0},{"$f":"'[1]11 кл'!JNY15","v":0},{"$f":"'[1]11 кл'!JNZ15","v":0},{"$f":"'[1]11 кл'!JOA15","v":0},{"$f":"'[1]11 кл'!JOB15","v":0},{"$f":"'[1]11 кл'!JOC15","v":0},{"$f":"'[1]11 кл'!JOD15","v":0},{"$f":"'[1]11 кл'!JOE15","v":0},{"$f":"'[1]11 кл'!JOF15","v":0},{"$f":"'[1]11 кл'!JOG15","v":0},{"$f":"'[1]11 кл'!JOH15","v":0},{"$f":"'[1]11 кл'!JOI15","v":0},{"$f":"'[1]11 кл'!JOJ15","v":0},{"$f":"'[1]11 кл'!JOK15","v":0},{"$f":"'[1]11 кл'!JOL15","v":0},{"$f":"'[1]11 кл'!JOM15","v":0},{"$f":"'[1]11 кл'!JON15","v":0},{"$f":"'[1]11 кл'!JOO15","v":0},{"$f":"'[1]11 кл'!JOP15","v":0},{"$f":"'[1]11 кл'!JOQ15","v":0},{"$f":"'[1]11 кл'!JOR15","v":0},{"$f":"'[1]11 кл'!JOS15","v":0},{"$f":"'[1]11 кл'!JOT15","v":0},{"$f":"'[1]11 кл'!JOU15","v":0},{"$f":"'[1]11 кл'!JOV15","v":0},{"$f":"'[1]11 кл'!JOW15","v":0},{"$f":"'[1]11 кл'!JOX15","v":0},{"$f":"'[1]11 кл'!JOY15","v":0},{"$f":"'[1]11 кл'!JOZ15","v":0},{"$f":"'[1]11 кл'!JPA15","v":0},{"$f":"'[1]11 кл'!JPB15","v":0},{"$f":"'[1]11 кл'!JPC15","v":0},{"$f":"'[1]11 кл'!JPD15","v":0},{"$f":"'[1]11 кл'!JPE15","v":0},{"$f":"'[1]11 кл'!JPF15","v":0},{"$f":"'[1]11 кл'!JPG15","v":0},{"$f":"'[1]11 кл'!JPH15","v":0},{"$f":"'[1]11 кл'!JPI15","v":0},{"$f":"'[1]11 кл'!JPJ15","v":0},{"$f":"'[1]11 кл'!JPK15","v":0},{"$f":"'[1]11 кл'!JPL15","v":0},{"$f":"'[1]11 кл'!JPM15","v":0},{"$f":"'[1]11 кл'!JPN15","v":0},{"$f":"'[1]11 кл'!JPO15","v":0},{"$f":"'[1]11 кл'!JPP15","v":0},{"$f":"'[1]11 кл'!JPQ15","v":0},{"$f":"'[1]11 кл'!JPR15","v":0},{"$f":"'[1]11 кл'!JPS15","v":0},{"$f":"'[1]11 кл'!JPT15","v":0},{"$f":"'[1]11 кл'!JPU15","v":0},{"$f":"'[1]11 кл'!JPV15","v":0},{"$f":"'[1]11 кл'!JPW15","v":0},{"$f":"'[1]11 кл'!JPX15","v":0},{"$f":"'[1]11 кл'!JPY15","v":0},{"$f":"'[1]11 кл'!JPZ15","v":0},{"$f":"'[1]11 кл'!JQA15","v":0},{"$f":"'[1]11 кл'!JQB15","v":0},{"$f":"'[1]11 кл'!JQC15","v":0},{"$f":"'[1]11 кл'!JQD15","v":0},{"$f":"'[1]11 кл'!JQE15","v":0},{"$f":"'[1]11 кл'!JQF15","v":0},{"$f":"'[1]11 кл'!JQG15","v":0},{"$f":"'[1]11 кл'!JQH15","v":0},{"$f":"'[1]11 кл'!JQI15","v":0},{"$f":"'[1]11 кл'!JQJ15","v":0},{"$f":"'[1]11 кл'!JQK15","v":0},{"$f":"'[1]11 кл'!JQL15","v":0},{"$f":"'[1]11 кл'!JQM15","v":0},{"$f":"'[1]11 кл'!JQN15","v":0},{"$f":"'[1]11 кл'!JQO15","v":0},{"$f":"'[1]11 кл'!JQP15","v":0},{"$f":"'[1]11 кл'!JQQ15","v":0},{"$f":"'[1]11 кл'!JQR15","v":0},{"$f":"'[1]11 кл'!JQS15","v":0},{"$f":"'[1]11 кл'!JQT15","v":0},{"$f":"'[1]11 кл'!JQU15","v":0},{"$f":"'[1]11 кл'!JQV15","v":0},{"$f":"'[1]11 кл'!JQW15","v":0},{"$f":"'[1]11 кл'!JQX15","v":0},{"$f":"'[1]11 кл'!JQY15","v":0},{"$f":"'[1]11 кл'!JQZ15","v":0},{"$f":"'[1]11 кл'!JRA15","v":0},{"$f":"'[1]11 кл'!JRB15","v":0},{"$f":"'[1]11 кл'!JRC15","v":0},{"$f":"'[1]11 кл'!JRD15","v":0},{"$f":"'[1]11 кл'!JRE15","v":0},{"$f":"'[1]11 кл'!JRF15","v":0},{"$f":"'[1]11 кл'!JRG15","v":0},{"$f":"'[1]11 кл'!JRH15","v":0},{"$f":"'[1]11 кл'!JRI15","v":0},{"$f":"'[1]11 кл'!JRJ15","v":0},{"$f":"'[1]11 кл'!JRK15","v":0},{"$f":"'[1]11 кл'!JRL15","v":0},{"$f":"'[1]11 кл'!JRM15","v":0},{"$f":"'[1]11 кл'!JRN15","v":0},{"$f":"'[1]11 кл'!JRO15","v":0},{"$f":"'[1]11 кл'!JRP15","v":0},{"$f":"'[1]11 кл'!JRQ15","v":0},{"$f":"'[1]11 кл'!JRR15","v":0},{"$f":"'[1]11 кл'!JRS15","v":0},{"$f":"'[1]11 кл'!JRT15","v":0},{"$f":"'[1]11 кл'!JRU15","v":0},{"$f":"'[1]11 кл'!JRV15","v":0},{"$f":"'[1]11 кл'!JRW15","v":0},{"$f":"'[1]11 кл'!JRX15","v":0},{"$f":"'[1]11 кл'!JRY15","v":0},{"$f":"'[1]11 кл'!JRZ15","v":0},{"$f":"'[1]11 кл'!JSA15","v":0},{"$f":"'[1]11 кл'!JSB15","v":0},{"$f":"'[1]11 кл'!JSC15","v":0},{"$f":"'[1]11 кл'!JSD15","v":0},{"$f":"'[1]11 кл'!JSE15","v":0},{"$f":"'[1]11 кл'!JSF15","v":0},{"$f":"'[1]11 кл'!JSG15","v":0},{"$f":"'[1]11 кл'!JSH15","v":0},{"$f":"'[1]11 кл'!JSI15","v":0},{"$f":"'[1]11 кл'!JSJ15","v":0},{"$f":"'[1]11 кл'!JSK15","v":0},{"$f":"'[1]11 кл'!JSL15","v":0},{"$f":"'[1]11 кл'!JSM15","v":0},{"$f":"'[1]11 кл'!JSN15","v":0},{"$f":"'[1]11 кл'!JSO15","v":0},{"$f":"'[1]11 кл'!JSP15","v":0},{"$f":"'[1]11 кл'!JSQ15","v":0},{"$f":"'[1]11 кл'!JSR15","v":0},{"$f":"'[1]11 кл'!JSS15","v":0},{"$f":"'[1]11 кл'!JST15","v":0},{"$f":"'[1]11 кл'!JSU15","v":0},{"$f":"'[1]11 кл'!JSV15","v":0},{"$f":"'[1]11 кл'!JSW15","v":0},{"$f":"'[1]11 кл'!JSX15","v":0},{"$f":"'[1]11 кл'!JSY15","v":0},{"$f":"'[1]11 кл'!JSZ15","v":0},{"$f":"'[1]11 кл'!JTA15","v":0},{"$f":"'[1]11 кл'!JTB15","v":0},{"$f":"'[1]11 кл'!JTC15","v":0},{"$f":"'[1]11 кл'!JTD15","v":0},{"$f":"'[1]11 кл'!JTE15","v":0},{"$f":"'[1]11 кл'!JTF15","v":0},{"$f":"'[1]11 кл'!JTG15","v":0},{"$f":"'[1]11 кл'!JTH15","v":0},{"$f":"'[1]11 кл'!JTI15","v":0},{"$f":"'[1]11 кл'!JTJ15","v":0},{"$f":"'[1]11 кл'!JTK15","v":0},{"$f":"'[1]11 кл'!JTL15","v":0},{"$f":"'[1]11 кл'!JTM15","v":0},{"$f":"'[1]11 кл'!JTN15","v":0},{"$f":"'[1]11 кл'!JTO15","v":0},{"$f":"'[1]11 кл'!JTP15","v":0},{"$f":"'[1]11 кл'!JTQ15","v":0},{"$f":"'[1]11 кл'!JTR15","v":0},{"$f":"'[1]11 кл'!JTS15","v":0},{"$f":"'[1]11 кл'!JTT15","v":0},{"$f":"'[1]11 кл'!JTU15","v":0},{"$f":"'[1]11 кл'!JTV15","v":0},{"$f":"'[1]11 кл'!JTW15","v":0},{"$f":"'[1]11 кл'!JTX15","v":0},{"$f":"'[1]11 кл'!JTY15","v":0},{"$f":"'[1]11 кл'!JTZ15","v":0},{"$f":"'[1]11 кл'!JUA15","v":0},{"$f":"'[1]11 кл'!JUB15","v":0},{"$f":"'[1]11 кл'!JUC15","v":0},{"$f":"'[1]11 кл'!JUD15","v":0},{"$f":"'[1]11 кл'!JUE15","v":0},{"$f":"'[1]11 кл'!JUF15","v":0},{"$f":"'[1]11 кл'!JUG15","v":0},{"$f":"'[1]11 кл'!JUH15","v":0},{"$f":"'[1]11 кл'!JUI15","v":0},{"$f":"'[1]11 кл'!JUJ15","v":0},{"$f":"'[1]11 кл'!JUK15","v":0},{"$f":"'[1]11 кл'!JUL15","v":0},{"$f":"'[1]11 кл'!JUM15","v":0},{"$f":"'[1]11 кл'!JUN15","v":0},{"$f":"'[1]11 кл'!JUO15","v":0},{"$f":"'[1]11 кл'!JUP15","v":0},{"$f":"'[1]11 кл'!JUQ15","v":0},{"$f":"'[1]11 кл'!JUR15","v":0},{"$f":"'[1]11 кл'!JUS15","v":0},{"$f":"'[1]11 кл'!JUT15","v":0},{"$f":"'[1]11 кл'!JUU15","v":0},{"$f":"'[1]11 кл'!JUV15","v":0},{"$f":"'[1]11 кл'!JUW15","v":0},{"$f":"'[1]11 кл'!JUX15","v":0},{"$f":"'[1]11 кл'!JUY15","v":0},{"$f":"'[1]11 кл'!JUZ15","v":0},{"$f":"'[1]11 кл'!JVA15","v":0},{"$f":"'[1]11 кл'!JVB15","v":0},{"$f":"'[1]11 кл'!JVC15","v":0},{"$f":"'[1]11 кл'!JVD15","v":0},{"$f":"'[1]11 кл'!JVE15","v":0},{"$f":"'[1]11 кл'!JVF15","v":0},{"$f":"'[1]11 кл'!JVG15","v":0},{"$f":"'[1]11 кл'!JVH15","v":0},{"$f":"'[1]11 кл'!JVI15","v":0},{"$f":"'[1]11 кл'!JVJ15","v":0},{"$f":"'[1]11 кл'!JVK15","v":0},{"$f":"'[1]11 кл'!JVL15","v":0},{"$f":"'[1]11 кл'!JVM15","v":0},{"$f":"'[1]11 кл'!JVN15","v":0},{"$f":"'[1]11 кл'!JVO15","v":0},{"$f":"'[1]11 кл'!JVP15","v":0},{"$f":"'[1]11 кл'!JVQ15","v":0},{"$f":"'[1]11 кл'!JVR15","v":0},{"$f":"'[1]11 кл'!JVS15","v":0},{"$f":"'[1]11 кл'!JVT15","v":0},{"$f":"'[1]11 кл'!JVU15","v":0},{"$f":"'[1]11 кл'!JVV15","v":0},{"$f":"'[1]11 кл'!JVW15","v":0},{"$f":"'[1]11 кл'!JVX15","v":0},{"$f":"'[1]11 кл'!JVY15","v":0},{"$f":"'[1]11 кл'!JVZ15","v":0},{"$f":"'[1]11 кл'!JWA15","v":0},{"$f":"'[1]11 кл'!JWB15","v":0},{"$f":"'[1]11 кл'!JWC15","v":0},{"$f":"'[1]11 кл'!JWD15","v":0},{"$f":"'[1]11 кл'!JWE15","v":0},{"$f":"'[1]11 кл'!JWF15","v":0},{"$f":"'[1]11 кл'!JWG15","v":0},{"$f":"'[1]11 кл'!JWH15","v":0},{"$f":"'[1]11 кл'!JWI15","v":0},{"$f":"'[1]11 кл'!JWJ15","v":0},{"$f":"'[1]11 кл'!JWK15","v":0},{"$f":"'[1]11 кл'!JWL15","v":0},{"$f":"'[1]11 кл'!JWM15","v":0},{"$f":"'[1]11 кл'!JWN15","v":0},{"$f":"'[1]11 кл'!JWO15","v":0},{"$f":"'[1]11 кл'!JWP15","v":0},{"$f":"'[1]11 кл'!JWQ15","v":0},{"$f":"'[1]11 кл'!JWR15","v":0},{"$f":"'[1]11 кл'!JWS15","v":0},{"$f":"'[1]11 кл'!JWT15","v":0},{"$f":"'[1]11 кл'!JWU15","v":0},{"$f":"'[1]11 кл'!JWV15","v":0},{"$f":"'[1]11 кл'!JWW15","v":0},{"$f":"'[1]11 кл'!JWX15","v":0},{"$f":"'[1]11 кл'!JWY15","v":0},{"$f":"'[1]11 кл'!JWZ15","v":0},{"$f":"'[1]11 кл'!JXA15","v":0},{"$f":"'[1]11 кл'!JXB15","v":0},{"$f":"'[1]11 кл'!JXC15","v":0},{"$f":"'[1]11 кл'!JXD15","v":0},{"$f":"'[1]11 кл'!JXE15","v":0},{"$f":"'[1]11 кл'!JXF15","v":0},{"$f":"'[1]11 кл'!JXG15","v":0},{"$f":"'[1]11 кл'!JXH15","v":0},{"$f":"'[1]11 кл'!JXI15","v":0},{"$f":"'[1]11 кл'!JXJ15","v":0},{"$f":"'[1]11 кл'!JXK15","v":0},{"$f":"'[1]11 кл'!JXL15","v":0},{"$f":"'[1]11 кл'!JXM15","v":0},{"$f":"'[1]11 кл'!JXN15","v":0},{"$f":"'[1]11 кл'!JXO15","v":0},{"$f":"'[1]11 кл'!JXP15","v":0},{"$f":"'[1]11 кл'!JXQ15","v":0},{"$f":"'[1]11 кл'!JXR15","v":0},{"$f":"'[1]11 кл'!JXS15","v":0},{"$f":"'[1]11 кл'!JXT15","v":0},{"$f":"'[1]11 кл'!JXU15","v":0},{"$f":"'[1]11 кл'!JXV15","v":0},{"$f":"'[1]11 кл'!JXW15","v":0},{"$f":"'[1]11 кл'!JXX15","v":0},{"$f":"'[1]11 кл'!JXY15","v":0},{"$f":"'[1]11 кл'!JXZ15","v":0},{"$f":"'[1]11 кл'!JYA15","v":0},{"$f":"'[1]11 кл'!JYB15","v":0},{"$f":"'[1]11 кл'!JYC15","v":0},{"$f":"'[1]11 кл'!JYD15","v":0},{"$f":"'[1]11 кл'!JYE15","v":0},{"$f":"'[1]11 кл'!JYF15","v":0},{"$f":"'[1]11 кл'!JYG15","v":0},{"$f":"'[1]11 кл'!JYH15","v":0},{"$f":"'[1]11 кл'!JYI15","v":0},{"$f":"'[1]11 кл'!JYJ15","v":0},{"$f":"'[1]11 кл'!JYK15","v":0},{"$f":"'[1]11 кл'!JYL15","v":0},{"$f":"'[1]11 кл'!JYM15","v":0},{"$f":"'[1]11 кл'!JYN15","v":0},{"$f":"'[1]11 кл'!JYO15","v":0},{"$f":"'[1]11 кл'!JYP15","v":0},{"$f":"'[1]11 кл'!JYQ15","v":0},{"$f":"'[1]11 кл'!JYR15","v":0},{"$f":"'[1]11 кл'!JYS15","v":0},{"$f":"'[1]11 кл'!JYT15","v":0},{"$f":"'[1]11 кл'!JYU15","v":0},{"$f":"'[1]11 кл'!JYV15","v":0},{"$f":"'[1]11 кл'!JYW15","v":0},{"$f":"'[1]11 кл'!JYX15","v":0},{"$f":"'[1]11 кл'!JYY15","v":0},{"$f":"'[1]11 кл'!JYZ15","v":0},{"$f":"'[1]11 кл'!JZA15","v":0},{"$f":"'[1]11 кл'!JZB15","v":0},{"$f":"'[1]11 кл'!JZC15","v":0},{"$f":"'[1]11 кл'!JZD15","v":0},{"$f":"'[1]11 кл'!JZE15","v":0},{"$f":"'[1]11 кл'!JZF15","v":0},{"$f":"'[1]11 кл'!JZG15","v":0},{"$f":"'[1]11 кл'!JZH15","v":0},{"$f":"'[1]11 кл'!JZI15","v":0},{"$f":"'[1]11 кл'!JZJ15","v":0},{"$f":"'[1]11 кл'!JZK15","v":0},{"$f":"'[1]11 кл'!JZL15","v":0},{"$f":"'[1]11 кл'!JZM15","v":0},{"$f":"'[1]11 кл'!JZN15","v":0},{"$f":"'[1]11 кл'!JZO15","v":0},{"$f":"'[1]11 кл'!JZP15","v":0},{"$f":"'[1]11 кл'!JZQ15","v":0},{"$f":"'[1]11 кл'!JZR15","v":0},{"$f":"'[1]11 кл'!JZS15","v":0},{"$f":"'[1]11 кл'!JZT15","v":0},{"$f":"'[1]11 кл'!JZU15","v":0},{"$f":"'[1]11 кл'!JZV15","v":0},{"$f":"'[1]11 кл'!JZW15","v":0},{"$f":"'[1]11 кл'!JZX15","v":0},{"$f":"'[1]11 кл'!JZY15","v":0},{"$f":"'[1]11 кл'!JZZ15","v":0},{"$f":"'[1]11 кл'!KAA15","v":0},{"$f":"'[1]11 кл'!KAB15","v":0},{"$f":"'[1]11 кл'!KAC15","v":0},{"$f":"'[1]11 кл'!KAD15","v":0},{"$f":"'[1]11 кл'!KAE15","v":0},{"$f":"'[1]11 кл'!KAF15","v":0},{"$f":"'[1]11 кл'!KAG15","v":0},{"$f":"'[1]11 кл'!KAH15","v":0},{"$f":"'[1]11 кл'!KAI15","v":0},{"$f":"'[1]11 кл'!KAJ15","v":0},{"$f":"'[1]11 кл'!KAK15","v":0},{"$f":"'[1]11 кл'!KAL15","v":0},{"$f":"'[1]11 кл'!KAM15","v":0},{"$f":"'[1]11 кл'!KAN15","v":0},{"$f":"'[1]11 кл'!KAO15","v":0},{"$f":"'[1]11 кл'!KAP15","v":0},{"$f":"'[1]11 кл'!KAQ15","v":0},{"$f":"'[1]11 кл'!KAR15","v":0},{"$f":"'[1]11 кл'!KAS15","v":0},{"$f":"'[1]11 кл'!KAT15","v":0},{"$f":"'[1]11 кл'!KAU15","v":0},{"$f":"'[1]11 кл'!KAV15","v":0},{"$f":"'[1]11 кл'!KAW15","v":0},{"$f":"'[1]11 кл'!KAX15","v":0},{"$f":"'[1]11 кл'!KAY15","v":0},{"$f":"'[1]11 кл'!KAZ15","v":0},{"$f":"'[1]11 кл'!KBA15","v":0},{"$f":"'[1]11 кл'!KBB15","v":0},{"$f":"'[1]11 кл'!KBC15","v":0},{"$f":"'[1]11 кл'!KBD15","v":0},{"$f":"'[1]11 кл'!KBE15","v":0},{"$f":"'[1]11 кл'!KBF15","v":0},{"$f":"'[1]11 кл'!KBG15","v":0},{"$f":"'[1]11 кл'!KBH15","v":0},{"$f":"'[1]11 кл'!KBI15","v":0},{"$f":"'[1]11 кл'!KBJ15","v":0},{"$f":"'[1]11 кл'!KBK15","v":0},{"$f":"'[1]11 кл'!KBL15","v":0},{"$f":"'[1]11 кл'!KBM15","v":0},{"$f":"'[1]11 кл'!KBN15","v":0},{"$f":"'[1]11 кл'!KBO15","v":0},{"$f":"'[1]11 кл'!KBP15","v":0},{"$f":"'[1]11 кл'!KBQ15","v":0},{"$f":"'[1]11 кл'!KBR15","v":0},{"$f":"'[1]11 кл'!KBS15","v":0},{"$f":"'[1]11 кл'!KBT15","v":0},{"$f":"'[1]11 кл'!KBU15","v":0},{"$f":"'[1]11 кл'!KBV15","v":0},{"$f":"'[1]11 кл'!KBW15","v":0},{"$f":"'[1]11 кл'!KBX15","v":0},{"$f":"'[1]11 кл'!KBY15","v":0},{"$f":"'[1]11 кл'!KBZ15","v":0},{"$f":"'[1]11 кл'!KCA15","v":0},{"$f":"'[1]11 кл'!KCB15","v":0},{"$f":"'[1]11 кл'!KCC15","v":0},{"$f":"'[1]11 кл'!KCD15","v":0},{"$f":"'[1]11 кл'!KCE15","v":0},{"$f":"'[1]11 кл'!KCF15","v":0},{"$f":"'[1]11 кл'!KCG15","v":0},{"$f":"'[1]11 кл'!KCH15","v":0},{"$f":"'[1]11 кл'!KCI15","v":0},{"$f":"'[1]11 кл'!KCJ15","v":0},{"$f":"'[1]11 кл'!KCK15","v":0},{"$f":"'[1]11 кл'!KCL15","v":0},{"$f":"'[1]11 кл'!KCM15","v":0},{"$f":"'[1]11 кл'!KCN15","v":0},{"$f":"'[1]11 кл'!KCO15","v":0},{"$f":"'[1]11 кл'!KCP15","v":0},{"$f":"'[1]11 кл'!KCQ15","v":0},{"$f":"'[1]11 кл'!KCR15","v":0},{"$f":"'[1]11 кл'!KCS15","v":0},{"$f":"'[1]11 кл'!KCT15","v":0},{"$f":"'[1]11 кл'!KCU15","v":0},{"$f":"'[1]11 кл'!KCV15","v":0},{"$f":"'[1]11 кл'!KCW15","v":0},{"$f":"'[1]11 кл'!KCX15","v":0},{"$f":"'[1]11 кл'!KCY15","v":0},{"$f":"'[1]11 кл'!KCZ15","v":0},{"$f":"'[1]11 кл'!KDA15","v":0},{"$f":"'[1]11 кл'!KDB15","v":0},{"$f":"'[1]11 кл'!KDC15","v":0},{"$f":"'[1]11 кл'!KDD15","v":0},{"$f":"'[1]11 кл'!KDE15","v":0},{"$f":"'[1]11 кл'!KDF15","v":0},{"$f":"'[1]11 кл'!KDG15","v":0},{"$f":"'[1]11 кл'!KDH15","v":0},{"$f":"'[1]11 кл'!KDI15","v":0},{"$f":"'[1]11 кл'!KDJ15","v":0},{"$f":"'[1]11 кл'!KDK15","v":0},{"$f":"'[1]11 кл'!KDL15","v":0},{"$f":"'[1]11 кл'!KDM15","v":0},{"$f":"'[1]11 кл'!KDN15","v":0},{"$f":"'[1]11 кл'!KDO15","v":0},{"$f":"'[1]11 кл'!KDP15","v":0},{"$f":"'[1]11 кл'!KDQ15","v":0},{"$f":"'[1]11 кл'!KDR15","v":0},{"$f":"'[1]11 кл'!KDS15","v":0},{"$f":"'[1]11 кл'!KDT15","v":0},{"$f":"'[1]11 кл'!KDU15","v":0},{"$f":"'[1]11 кл'!KDV15","v":0},{"$f":"'[1]11 кл'!KDW15","v":0},{"$f":"'[1]11 кл'!KDX15","v":0},{"$f":"'[1]11 кл'!KDY15","v":0},{"$f":"'[1]11 кл'!KDZ15","v":0},{"$f":"'[1]11 кл'!KEA15","v":0},{"$f":"'[1]11 кл'!KEB15","v":0},{"$f":"'[1]11 кл'!KEC15","v":0},{"$f":"'[1]11 кл'!KED15","v":0},{"$f":"'[1]11 кл'!KEE15","v":0},{"$f":"'[1]11 кл'!KEF15","v":0},{"$f":"'[1]11 кл'!KEG15","v":0},{"$f":"'[1]11 кл'!KEH15","v":0},{"$f":"'[1]11 кл'!KEI15","v":0},{"$f":"'[1]11 кл'!KEJ15","v":0},{"$f":"'[1]11 кл'!KEK15","v":0},{"$f":"'[1]11 кл'!KEL15","v":0},{"$f":"'[1]11 кл'!KEM15","v":0},{"$f":"'[1]11 кл'!KEN15","v":0},{"$f":"'[1]11 кл'!KEO15","v":0},{"$f":"'[1]11 кл'!KEP15","v":0},{"$f":"'[1]11 кл'!KEQ15","v":0},{"$f":"'[1]11 кл'!KER15","v":0},{"$f":"'[1]11 кл'!KES15","v":0},{"$f":"'[1]11 кл'!KET15","v":0},{"$f":"'[1]11 кл'!KEU15","v":0},{"$f":"'[1]11 кл'!KEV15","v":0},{"$f":"'[1]11 кл'!KEW15","v":0},{"$f":"'[1]11 кл'!KEX15","v":0},{"$f":"'[1]11 кл'!KEY15","v":0},{"$f":"'[1]11 кл'!KEZ15","v":0},{"$f":"'[1]11 кл'!KFA15","v":0},{"$f":"'[1]11 кл'!KFB15","v":0},{"$f":"'[1]11 кл'!KFC15","v":0},{"$f":"'[1]11 кл'!KFD15","v":0},{"$f":"'[1]11 кл'!KFE15","v":0},{"$f":"'[1]11 кл'!KFF15","v":0},{"$f":"'[1]11 кл'!KFG15","v":0},{"$f":"'[1]11 кл'!KFH15","v":0},{"$f":"'[1]11 кл'!KFI15","v":0},{"$f":"'[1]11 кл'!KFJ15","v":0},{"$f":"'[1]11 кл'!KFK15","v":0},{"$f":"'[1]11 кл'!KFL15","v":0},{"$f":"'[1]11 кл'!KFM15","v":0},{"$f":"'[1]11 кл'!KFN15","v":0},{"$f":"'[1]11 кл'!KFO15","v":0},{"$f":"'[1]11 кл'!KFP15","v":0},{"$f":"'[1]11 кл'!KFQ15","v":0},{"$f":"'[1]11 кл'!KFR15","v":0},{"$f":"'[1]11 кл'!KFS15","v":0},{"$f":"'[1]11 кл'!KFT15","v":0},{"$f":"'[1]11 кл'!KFU15","v":0},{"$f":"'[1]11 кл'!KFV15","v":0},{"$f":"'[1]11 кл'!KFW15","v":0},{"$f":"'[1]11 кл'!KFX15","v":0},{"$f":"'[1]11 кл'!KFY15","v":0},{"$f":"'[1]11 кл'!KFZ15","v":0},{"$f":"'[1]11 кл'!KGA15","v":0},{"$f":"'[1]11 кл'!KGB15","v":0},{"$f":"'[1]11 кл'!KGC15","v":0},{"$f":"'[1]11 кл'!KGD15","v":0},{"$f":"'[1]11 кл'!KGE15","v":0},{"$f":"'[1]11 кл'!KGF15","v":0},{"$f":"'[1]11 кл'!KGG15","v":0},{"$f":"'[1]11 кл'!KGH15","v":0},{"$f":"'[1]11 кл'!KGI15","v":0},{"$f":"'[1]11 кл'!KGJ15","v":0},{"$f":"'[1]11 кл'!KGK15","v":0},{"$f":"'[1]11 кл'!KGL15","v":0},{"$f":"'[1]11 кл'!KGM15","v":0},{"$f":"'[1]11 кл'!KGN15","v":0},{"$f":"'[1]11 кл'!KGO15","v":0},{"$f":"'[1]11 кл'!KGP15","v":0},{"$f":"'[1]11 кл'!KGQ15","v":0},{"$f":"'[1]11 кл'!KGR15","v":0},{"$f":"'[1]11 кл'!KGS15","v":0},{"$f":"'[1]11 кл'!KGT15","v":0},{"$f":"'[1]11 кл'!KGU15","v":0},{"$f":"'[1]11 кл'!KGV15","v":0},{"$f":"'[1]11 кл'!KGW15","v":0},{"$f":"'[1]11 кл'!KGX15","v":0},{"$f":"'[1]11 кл'!KGY15","v":0},{"$f":"'[1]11 кл'!KGZ15","v":0},{"$f":"'[1]11 кл'!KHA15","v":0},{"$f":"'[1]11 кл'!KHB15","v":0},{"$f":"'[1]11 кл'!KHC15","v":0},{"$f":"'[1]11 кл'!KHD15","v":0},{"$f":"'[1]11 кл'!KHE15","v":0},{"$f":"'[1]11 кл'!KHF15","v":0},{"$f":"'[1]11 кл'!KHG15","v":0},{"$f":"'[1]11 кл'!KHH15","v":0},{"$f":"'[1]11 кл'!KHI15","v":0},{"$f":"'[1]11 кл'!KHJ15","v":0},{"$f":"'[1]11 кл'!KHK15","v":0},{"$f":"'[1]11 кл'!KHL15","v":0},{"$f":"'[1]11 кл'!KHM15","v":0},{"$f":"'[1]11 кл'!KHN15","v":0},{"$f":"'[1]11 кл'!KHO15","v":0},{"$f":"'[1]11 кл'!KHP15","v":0},{"$f":"'[1]11 кл'!KHQ15","v":0},{"$f":"'[1]11 кл'!KHR15","v":0},{"$f":"'[1]11 кл'!KHS15","v":0},{"$f":"'[1]11 кл'!KHT15","v":0},{"$f":"'[1]11 кл'!KHU15","v":0},{"$f":"'[1]11 кл'!KHV15","v":0},{"$f":"'[1]11 кл'!KHW15","v":0},{"$f":"'[1]11 кл'!KHX15","v":0},{"$f":"'[1]11 кл'!KHY15","v":0},{"$f":"'[1]11 кл'!KHZ15","v":0},{"$f":"'[1]11 кл'!KIA15","v":0},{"$f":"'[1]11 кл'!KIB15","v":0},{"$f":"'[1]11 кл'!KIC15","v":0},{"$f":"'[1]11 кл'!KID15","v":0},{"$f":"'[1]11 кл'!KIE15","v":0},{"$f":"'[1]11 кл'!KIF15","v":0},{"$f":"'[1]11 кл'!KIG15","v":0},{"$f":"'[1]11 кл'!KIH15","v":0},{"$f":"'[1]11 кл'!KII15","v":0},{"$f":"'[1]11 кл'!KIJ15","v":0},{"$f":"'[1]11 кл'!KIK15","v":0},{"$f":"'[1]11 кл'!KIL15","v":0},{"$f":"'[1]11 кл'!KIM15","v":0},{"$f":"'[1]11 кл'!KIN15","v":0},{"$f":"'[1]11 кл'!KIO15","v":0},{"$f":"'[1]11 кл'!KIP15","v":0},{"$f":"'[1]11 кл'!KIQ15","v":0},{"$f":"'[1]11 кл'!KIR15","v":0},{"$f":"'[1]11 кл'!KIS15","v":0},{"$f":"'[1]11 кл'!KIT15","v":0},{"$f":"'[1]11 кл'!KIU15","v":0},{"$f":"'[1]11 кл'!KIV15","v":0},{"$f":"'[1]11 кл'!KIW15","v":0},{"$f":"'[1]11 кл'!KIX15","v":0},{"$f":"'[1]11 кл'!KIY15","v":0},{"$f":"'[1]11 кл'!KIZ15","v":0},{"$f":"'[1]11 кл'!KJA15","v":0},{"$f":"'[1]11 кл'!KJB15","v":0},{"$f":"'[1]11 кл'!KJC15","v":0},{"$f":"'[1]11 кл'!KJD15","v":0},{"$f":"'[1]11 кл'!KJE15","v":0},{"$f":"'[1]11 кл'!KJF15","v":0},{"$f":"'[1]11 кл'!KJG15","v":0},{"$f":"'[1]11 кл'!KJH15","v":0},{"$f":"'[1]11 кл'!KJI15","v":0},{"$f":"'[1]11 кл'!KJJ15","v":0},{"$f":"'[1]11 кл'!KJK15","v":0},{"$f":"'[1]11 кл'!KJL15","v":0},{"$f":"'[1]11 кл'!KJM15","v":0},{"$f":"'[1]11 кл'!KJN15","v":0},{"$f":"'[1]11 кл'!KJO15","v":0},{"$f":"'[1]11 кл'!KJP15","v":0},{"$f":"'[1]11 кл'!KJQ15","v":0},{"$f":"'[1]11 кл'!KJR15","v":0},{"$f":"'[1]11 кл'!KJS15","v":0},{"$f":"'[1]11 кл'!KJT15","v":0},{"$f":"'[1]11 кл'!KJU15","v":0},{"$f":"'[1]11 кл'!KJV15","v":0},{"$f":"'[1]11 кл'!KJW15","v":0},{"$f":"'[1]11 кл'!KJX15","v":0},{"$f":"'[1]11 кл'!KJY15","v":0},{"$f":"'[1]11 кл'!KJZ15","v":0},{"$f":"'[1]11 кл'!KKA15","v":0},{"$f":"'[1]11 кл'!KKB15","v":0},{"$f":"'[1]11 кл'!KKC15","v":0},{"$f":"'[1]11 кл'!KKD15","v":0},{"$f":"'[1]11 кл'!KKE15","v":0},{"$f":"'[1]11 кл'!KKF15","v":0},{"$f":"'[1]11 кл'!KKG15","v":0},{"$f":"'[1]11 кл'!KKH15","v":0},{"$f":"'[1]11 кл'!KKI15","v":0},{"$f":"'[1]11 кл'!KKJ15","v":0},{"$f":"'[1]11 кл'!KKK15","v":0},{"$f":"'[1]11 кл'!KKL15","v":0},{"$f":"'[1]11 кл'!KKM15","v":0},{"$f":"'[1]11 кл'!KKN15","v":0},{"$f":"'[1]11 кл'!KKO15","v":0},{"$f":"'[1]11 кл'!KKP15","v":0},{"$f":"'[1]11 кл'!KKQ15","v":0},{"$f":"'[1]11 кл'!KKR15","v":0},{"$f":"'[1]11 кл'!KKS15","v":0},{"$f":"'[1]11 кл'!KKT15","v":0},{"$f":"'[1]11 кл'!KKU15","v":0},{"$f":"'[1]11 кл'!KKV15","v":0},{"$f":"'[1]11 кл'!KKW15","v":0},{"$f":"'[1]11 кл'!KKX15","v":0},{"$f":"'[1]11 кл'!KKY15","v":0},{"$f":"'[1]11 кл'!KKZ15","v":0},{"$f":"'[1]11 кл'!KLA15","v":0},{"$f":"'[1]11 кл'!KLB15","v":0},{"$f":"'[1]11 кл'!KLC15","v":0},{"$f":"'[1]11 кл'!KLD15","v":0},{"$f":"'[1]11 кл'!KLE15","v":0},{"$f":"'[1]11 кл'!KLF15","v":0},{"$f":"'[1]11 кл'!KLG15","v":0},{"$f":"'[1]11 кл'!KLH15","v":0},{"$f":"'[1]11 кл'!KLI15","v":0},{"$f":"'[1]11 кл'!KLJ15","v":0},{"$f":"'[1]11 кл'!KLK15","v":0},{"$f":"'[1]11 кл'!KLL15","v":0},{"$f":"'[1]11 кл'!KLM15","v":0},{"$f":"'[1]11 кл'!KLN15","v":0},{"$f":"'[1]11 кл'!KLO15","v":0},{"$f":"'[1]11 кл'!KLP15","v":0},{"$f":"'[1]11 кл'!KLQ15","v":0},{"$f":"'[1]11 кл'!KLR15","v":0},{"$f":"'[1]11 кл'!KLS15","v":0},{"$f":"'[1]11 кл'!KLT15","v":0},{"$f":"'[1]11 кл'!KLU15","v":0},{"$f":"'[1]11 кл'!KLV15","v":0},{"$f":"'[1]11 кл'!KLW15","v":0},{"$f":"'[1]11 кл'!KLX15","v":0},{"$f":"'[1]11 кл'!KLY15","v":0},{"$f":"'[1]11 кл'!KLZ15","v":0},{"$f":"'[1]11 кл'!KMA15","v":0},{"$f":"'[1]11 кл'!KMB15","v":0},{"$f":"'[1]11 кл'!KMC15","v":0},{"$f":"'[1]11 кл'!KMD15","v":0},{"$f":"'[1]11 кл'!KME15","v":0},{"$f":"'[1]11 кл'!KMF15","v":0},{"$f":"'[1]11 кл'!KMG15","v":0},{"$f":"'[1]11 кл'!KMH15","v":0},{"$f":"'[1]11 кл'!KMI15","v":0},{"$f":"'[1]11 кл'!KMJ15","v":0},{"$f":"'[1]11 кл'!KMK15","v":0},{"$f":"'[1]11 кл'!KML15","v":0},{"$f":"'[1]11 кл'!KMM15","v":0},{"$f":"'[1]11 кл'!KMN15","v":0},{"$f":"'[1]11 кл'!KMO15","v":0},{"$f":"'[1]11 кл'!KMP15","v":0},{"$f":"'[1]11 кл'!KMQ15","v":0},{"$f":"'[1]11 кл'!KMR15","v":0},{"$f":"'[1]11 кл'!KMS15","v":0},{"$f":"'[1]11 кл'!KMT15","v":0},{"$f":"'[1]11 кл'!KMU15","v":0},{"$f":"'[1]11 кл'!KMV15","v":0},{"$f":"'[1]11 кл'!KMW15","v":0},{"$f":"'[1]11 кл'!KMX15","v":0},{"$f":"'[1]11 кл'!KMY15","v":0},{"$f":"'[1]11 кл'!KMZ15","v":0},{"$f":"'[1]11 кл'!KNA15","v":0},{"$f":"'[1]11 кл'!KNB15","v":0},{"$f":"'[1]11 кл'!KNC15","v":0},{"$f":"'[1]11 кл'!KND15","v":0},{"$f":"'[1]11 кл'!KNE15","v":0},{"$f":"'[1]11 кл'!KNF15","v":0},{"$f":"'[1]11 кл'!KNG15","v":0},{"$f":"'[1]11 кл'!KNH15","v":0},{"$f":"'[1]11 кл'!KNI15","v":0},{"$f":"'[1]11 кл'!KNJ15","v":0},{"$f":"'[1]11 кл'!KNK15","v":0},{"$f":"'[1]11 кл'!KNL15","v":0},{"$f":"'[1]11 кл'!KNM15","v":0},{"$f":"'[1]11 кл'!KNN15","v":0},{"$f":"'[1]11 кл'!KNO15","v":0},{"$f":"'[1]11 кл'!KNP15","v":0},{"$f":"'[1]11 кл'!KNQ15","v":0},{"$f":"'[1]11 кл'!KNR15","v":0},{"$f":"'[1]11 кл'!KNS15","v":0},{"$f":"'[1]11 кл'!KNT15","v":0},{"$f":"'[1]11 кл'!KNU15","v":0},{"$f":"'[1]11 кл'!KNV15","v":0},{"$f":"'[1]11 кл'!KNW15","v":0},{"$f":"'[1]11 кл'!KNX15","v":0},{"$f":"'[1]11 кл'!KNY15","v":0},{"$f":"'[1]11 кл'!KNZ15","v":0},{"$f":"'[1]11 кл'!KOA15","v":0},{"$f":"'[1]11 кл'!KOB15","v":0},{"$f":"'[1]11 кл'!KOC15","v":0},{"$f":"'[1]11 кл'!KOD15","v":0},{"$f":"'[1]11 кл'!KOE15","v":0},{"$f":"'[1]11 кл'!KOF15","v":0},{"$f":"'[1]11 кл'!KOG15","v":0},{"$f":"'[1]11 кл'!KOH15","v":0},{"$f":"'[1]11 кл'!KOI15","v":0},{"$f":"'[1]11 кл'!KOJ15","v":0},{"$f":"'[1]11 кл'!KOK15","v":0},{"$f":"'[1]11 кл'!KOL15","v":0},{"$f":"'[1]11 кл'!KOM15","v":0},{"$f":"'[1]11 кл'!KON15","v":0},{"$f":"'[1]11 кл'!KOO15","v":0},{"$f":"'[1]11 кл'!KOP15","v":0},{"$f":"'[1]11 кл'!KOQ15","v":0},{"$f":"'[1]11 кл'!KOR15","v":0},{"$f":"'[1]11 кл'!KOS15","v":0},{"$f":"'[1]11 кл'!KOT15","v":0},{"$f":"'[1]11 кл'!KOU15","v":0},{"$f":"'[1]11 кл'!KOV15","v":0},{"$f":"'[1]11 кл'!KOW15","v":0},{"$f":"'[1]11 кл'!KOX15","v":0},{"$f":"'[1]11 кл'!KOY15","v":0},{"$f":"'[1]11 кл'!KOZ15","v":0},{"$f":"'[1]11 кл'!KPA15","v":0},{"$f":"'[1]11 кл'!KPB15","v":0},{"$f":"'[1]11 кл'!KPC15","v":0},{"$f":"'[1]11 кл'!KPD15","v":0},{"$f":"'[1]11 кл'!KPE15","v":0},{"$f":"'[1]11 кл'!KPF15","v":0},{"$f":"'[1]11 кл'!KPG15","v":0},{"$f":"'[1]11 кл'!KPH15","v":0},{"$f":"'[1]11 кл'!KPI15","v":0},{"$f":"'[1]11 кл'!KPJ15","v":0},{"$f":"'[1]11 кл'!KPK15","v":0},{"$f":"'[1]11 кл'!KPL15","v":0},{"$f":"'[1]11 кл'!KPM15","v":0},{"$f":"'[1]11 кл'!KPN15","v":0},{"$f":"'[1]11 кл'!KPO15","v":0},{"$f":"'[1]11 кл'!KPP15","v":0},{"$f":"'[1]11 кл'!KPQ15","v":0},{"$f":"'[1]11 кл'!KPR15","v":0},{"$f":"'[1]11 кл'!KPS15","v":0},{"$f":"'[1]11 кл'!KPT15","v":0},{"$f":"'[1]11 кл'!KPU15","v":0},{"$f":"'[1]11 кл'!KPV15","v":0},{"$f":"'[1]11 кл'!KPW15","v":0},{"$f":"'[1]11 кл'!KPX15","v":0},{"$f":"'[1]11 кл'!KPY15","v":0},{"$f":"'[1]11 кл'!KPZ15","v":0},{"$f":"'[1]11 кл'!KQA15","v":0},{"$f":"'[1]11 кл'!KQB15","v":0},{"$f":"'[1]11 кл'!KQC15","v":0},{"$f":"'[1]11 кл'!KQD15","v":0},{"$f":"'[1]11 кл'!KQE15","v":0},{"$f":"'[1]11 кл'!KQF15","v":0},{"$f":"'[1]11 кл'!KQG15","v":0},{"$f":"'[1]11 кл'!KQH15","v":0},{"$f":"'[1]11 кл'!KQI15","v":0},{"$f":"'[1]11 кл'!KQJ15","v":0},{"$f":"'[1]11 кл'!KQK15","v":0},{"$f":"'[1]11 кл'!KQL15","v":0},{"$f":"'[1]11 кл'!KQM15","v":0},{"$f":"'[1]11 кл'!KQN15","v":0},{"$f":"'[1]11 кл'!KQO15","v":0},{"$f":"'[1]11 кл'!KQP15","v":0},{"$f":"'[1]11 кл'!KQQ15","v":0},{"$f":"'[1]11 кл'!KQR15","v":0},{"$f":"'[1]11 кл'!KQS15","v":0},{"$f":"'[1]11 кл'!KQT15","v":0},{"$f":"'[1]11 кл'!KQU15","v":0},{"$f":"'[1]11 кл'!KQV15","v":0},{"$f":"'[1]11 кл'!KQW15","v":0},{"$f":"'[1]11 кл'!KQX15","v":0},{"$f":"'[1]11 кл'!KQY15","v":0},{"$f":"'[1]11 кл'!KQZ15","v":0},{"$f":"'[1]11 кл'!KRA15","v":0},{"$f":"'[1]11 кл'!KRB15","v":0},{"$f":"'[1]11 кл'!KRC15","v":0},{"$f":"'[1]11 кл'!KRD15","v":0},{"$f":"'[1]11 кл'!KRE15","v":0},{"$f":"'[1]11 кл'!KRF15","v":0},{"$f":"'[1]11 кл'!KRG15","v":0},{"$f":"'[1]11 кл'!KRH15","v":0},{"$f":"'[1]11 кл'!KRI15","v":0},{"$f":"'[1]11 кл'!KRJ15","v":0},{"$f":"'[1]11 кл'!KRK15","v":0},{"$f":"'[1]11 кл'!KRL15","v":0},{"$f":"'[1]11 кл'!KRM15","v":0},{"$f":"'[1]11 кл'!KRN15","v":0},{"$f":"'[1]11 кл'!KRO15","v":0},{"$f":"'[1]11 кл'!KRP15","v":0},{"$f":"'[1]11 кл'!KRQ15","v":0},{"$f":"'[1]11 кл'!KRR15","v":0},{"$f":"'[1]11 кл'!KRS15","v":0},{"$f":"'[1]11 кл'!KRT15","v":0},{"$f":"'[1]11 кл'!KRU15","v":0},{"$f":"'[1]11 кл'!KRV15","v":0},{"$f":"'[1]11 кл'!KRW15","v":0},{"$f":"'[1]11 кл'!KRX15","v":0},{"$f":"'[1]11 кл'!KRY15","v":0},{"$f":"'[1]11 кл'!KRZ15","v":0},{"$f":"'[1]11 кл'!KSA15","v":0},{"$f":"'[1]11 кл'!KSB15","v":0},{"$f":"'[1]11 кл'!KSC15","v":0},{"$f":"'[1]11 кл'!KSD15","v":0},{"$f":"'[1]11 кл'!KSE15","v":0},{"$f":"'[1]11 кл'!KSF15","v":0},{"$f":"'[1]11 кл'!KSG15","v":0},{"$f":"'[1]11 кл'!KSH15","v":0},{"$f":"'[1]11 кл'!KSI15","v":0},{"$f":"'[1]11 кл'!KSJ15","v":0},{"$f":"'[1]11 кл'!KSK15","v":0},{"$f":"'[1]11 кл'!KSL15","v":0},{"$f":"'[1]11 кл'!KSM15","v":0},{"$f":"'[1]11 кл'!KSN15","v":0},{"$f":"'[1]11 кл'!KSO15","v":0},{"$f":"'[1]11 кл'!KSP15","v":0},{"$f":"'[1]11 кл'!KSQ15","v":0},{"$f":"'[1]11 кл'!KSR15","v":0},{"$f":"'[1]11 кл'!KSS15","v":0},{"$f":"'[1]11 кл'!KST15","v":0},{"$f":"'[1]11 кл'!KSU15","v":0},{"$f":"'[1]11 кл'!KSV15","v":0},{"$f":"'[1]11 кл'!KSW15","v":0},{"$f":"'[1]11 кл'!KSX15","v":0},{"$f":"'[1]11 кл'!KSY15","v":0},{"$f":"'[1]11 кл'!KSZ15","v":0},{"$f":"'[1]11 кл'!KTA15","v":0},{"$f":"'[1]11 кл'!KTB15","v":0},{"$f":"'[1]11 кл'!KTC15","v":0},{"$f":"'[1]11 кл'!KTD15","v":0},{"$f":"'[1]11 кл'!KTE15","v":0},{"$f":"'[1]11 кл'!KTF15","v":0},{"$f":"'[1]11 кл'!KTG15","v":0},{"$f":"'[1]11 кл'!KTH15","v":0},{"$f":"'[1]11 кл'!KTI15","v":0},{"$f":"'[1]11 кл'!KTJ15","v":0},{"$f":"'[1]11 кл'!KTK15","v":0},{"$f":"'[1]11 кл'!KTL15","v":0},{"$f":"'[1]11 кл'!KTM15","v":0},{"$f":"'[1]11 кл'!KTN15","v":0},{"$f":"'[1]11 кл'!KTO15","v":0},{"$f":"'[1]11 кл'!KTP15","v":0},{"$f":"'[1]11 кл'!KTQ15","v":0},{"$f":"'[1]11 кл'!KTR15","v":0},{"$f":"'[1]11 кл'!KTS15","v":0},{"$f":"'[1]11 кл'!KTT15","v":0},{"$f":"'[1]11 кл'!KTU15","v":0},{"$f":"'[1]11 кл'!KTV15","v":0},{"$f":"'[1]11 кл'!KTW15","v":0},{"$f":"'[1]11 кл'!KTX15","v":0},{"$f":"'[1]11 кл'!KTY15","v":0},{"$f":"'[1]11 кл'!KTZ15","v":0},{"$f":"'[1]11 кл'!KUA15","v":0},{"$f":"'[1]11 кл'!KUB15","v":0},{"$f":"'[1]11 кл'!KUC15","v":0},{"$f":"'[1]11 кл'!KUD15","v":0},{"$f":"'[1]11 кл'!KUE15","v":0},{"$f":"'[1]11 кл'!KUF15","v":0},{"$f":"'[1]11 кл'!KUG15","v":0},{"$f":"'[1]11 кл'!KUH15","v":0},{"$f":"'[1]11 кл'!KUI15","v":0},{"$f":"'[1]11 кл'!KUJ15","v":0},{"$f":"'[1]11 кл'!KUK15","v":0},{"$f":"'[1]11 кл'!KUL15","v":0},{"$f":"'[1]11 кл'!KUM15","v":0},{"$f":"'[1]11 кл'!KUN15","v":0},{"$f":"'[1]11 кл'!KUO15","v":0},{"$f":"'[1]11 кл'!KUP15","v":0},{"$f":"'[1]11 кл'!KUQ15","v":0},{"$f":"'[1]11 кл'!KUR15","v":0},{"$f":"'[1]11 кл'!KUS15","v":0},{"$f":"'[1]11 кл'!KUT15","v":0},{"$f":"'[1]11 кл'!KUU15","v":0},{"$f":"'[1]11 кл'!KUV15","v":0},{"$f":"'[1]11 кл'!KUW15","v":0},{"$f":"'[1]11 кл'!KUX15","v":0},{"$f":"'[1]11 кл'!KUY15","v":0},{"$f":"'[1]11 кл'!KUZ15","v":0},{"$f":"'[1]11 кл'!KVA15","v":0},{"$f":"'[1]11 кл'!KVB15","v":0},{"$f":"'[1]11 кл'!KVC15","v":0},{"$f":"'[1]11 кл'!KVD15","v":0},{"$f":"'[1]11 кл'!KVE15","v":0},{"$f":"'[1]11 кл'!KVF15","v":0},{"$f":"'[1]11 кл'!KVG15","v":0},{"$f":"'[1]11 кл'!KVH15","v":0},{"$f":"'[1]11 кл'!KVI15","v":0},{"$f":"'[1]11 кл'!KVJ15","v":0},{"$f":"'[1]11 кл'!KVK15","v":0},{"$f":"'[1]11 кл'!KVL15","v":0},{"$f":"'[1]11 кл'!KVM15","v":0},{"$f":"'[1]11 кл'!KVN15","v":0},{"$f":"'[1]11 кл'!KVO15","v":0},{"$f":"'[1]11 кл'!KVP15","v":0},{"$f":"'[1]11 кл'!KVQ15","v":0},{"$f":"'[1]11 кл'!KVR15","v":0},{"$f":"'[1]11 кл'!KVS15","v":0},{"$f":"'[1]11 кл'!KVT15","v":0},{"$f":"'[1]11 кл'!KVU15","v":0},{"$f":"'[1]11 кл'!KVV15","v":0},{"$f":"'[1]11 кл'!KVW15","v":0},{"$f":"'[1]11 кл'!KVX15","v":0},{"$f":"'[1]11 кл'!KVY15","v":0},{"$f":"'[1]11 кл'!KVZ15","v":0},{"$f":"'[1]11 кл'!KWA15","v":0},{"$f":"'[1]11 кл'!KWB15","v":0},{"$f":"'[1]11 кл'!KWC15","v":0},{"$f":"'[1]11 кл'!KWD15","v":0},{"$f":"'[1]11 кл'!KWE15","v":0},{"$f":"'[1]11 кл'!KWF15","v":0},{"$f":"'[1]11 кл'!KWG15","v":0},{"$f":"'[1]11 кл'!KWH15","v":0},{"$f":"'[1]11 кл'!KWI15","v":0},{"$f":"'[1]11 кл'!KWJ15","v":0},{"$f":"'[1]11 кл'!KWK15","v":0},{"$f":"'[1]11 кл'!KWL15","v":0},{"$f":"'[1]11 кл'!KWM15","v":0},{"$f":"'[1]11 кл'!KWN15","v":0},{"$f":"'[1]11 кл'!KWO15","v":0},{"$f":"'[1]11 кл'!KWP15","v":0},{"$f":"'[1]11 кл'!KWQ15","v":0},{"$f":"'[1]11 кл'!KWR15","v":0},{"$f":"'[1]11 кл'!KWS15","v":0},{"$f":"'[1]11 кл'!KWT15","v":0},{"$f":"'[1]11 кл'!KWU15","v":0},{"$f":"'[1]11 кл'!KWV15","v":0},{"$f":"'[1]11 кл'!KWW15","v":0},{"$f":"'[1]11 кл'!KWX15","v":0},{"$f":"'[1]11 кл'!KWY15","v":0},{"$f":"'[1]11 кл'!KWZ15","v":0},{"$f":"'[1]11 кл'!KXA15","v":0},{"$f":"'[1]11 кл'!KXB15","v":0},{"$f":"'[1]11 кл'!KXC15","v":0},{"$f":"'[1]11 кл'!KXD15","v":0},{"$f":"'[1]11 кл'!KXE15","v":0},{"$f":"'[1]11 кл'!KXF15","v":0},{"$f":"'[1]11 кл'!KXG15","v":0},{"$f":"'[1]11 кл'!KXH15","v":0},{"$f":"'[1]11 кл'!KXI15","v":0},{"$f":"'[1]11 кл'!KXJ15","v":0},{"$f":"'[1]11 кл'!KXK15","v":0},{"$f":"'[1]11 кл'!KXL15","v":0},{"$f":"'[1]11 кл'!KXM15","v":0},{"$f":"'[1]11 кл'!KXN15","v":0},{"$f":"'[1]11 кл'!KXO15","v":0},{"$f":"'[1]11 кл'!KXP15","v":0},{"$f":"'[1]11 кл'!KXQ15","v":0},{"$f":"'[1]11 кл'!KXR15","v":0},{"$f":"'[1]11 кл'!KXS15","v":0},{"$f":"'[1]11 кл'!KXT15","v":0},{"$f":"'[1]11 кл'!KXU15","v":0},{"$f":"'[1]11 кл'!KXV15","v":0},{"$f":"'[1]11 кл'!KXW15","v":0},{"$f":"'[1]11 кл'!KXX15","v":0},{"$f":"'[1]11 кл'!KXY15","v":0},{"$f":"'[1]11 кл'!KXZ15","v":0},{"$f":"'[1]11 кл'!KYA15","v":0},{"$f":"'[1]11 кл'!KYB15","v":0},{"$f":"'[1]11 кл'!KYC15","v":0},{"$f":"'[1]11 кл'!KYD15","v":0},{"$f":"'[1]11 кл'!KYE15","v":0},{"$f":"'[1]11 кл'!KYF15","v":0},{"$f":"'[1]11 кл'!KYG15","v":0},{"$f":"'[1]11 кл'!KYH15","v":0},{"$f":"'[1]11 кл'!KYI15","v":0},{"$f":"'[1]11 кл'!KYJ15","v":0},{"$f":"'[1]11 кл'!KYK15","v":0},{"$f":"'[1]11 кл'!KYL15","v":0},{"$f":"'[1]11 кл'!KYM15","v":0},{"$f":"'[1]11 кл'!KYN15","v":0},{"$f":"'[1]11 кл'!KYO15","v":0},{"$f":"'[1]11 кл'!KYP15","v":0},{"$f":"'[1]11 кл'!KYQ15","v":0},{"$f":"'[1]11 кл'!KYR15","v":0},{"$f":"'[1]11 кл'!KYS15","v":0},{"$f":"'[1]11 кл'!KYT15","v":0},{"$f":"'[1]11 кл'!KYU15","v":0},{"$f":"'[1]11 кл'!KYV15","v":0},{"$f":"'[1]11 кл'!KYW15","v":0},{"$f":"'[1]11 кл'!KYX15","v":0},{"$f":"'[1]11 кл'!KYY15","v":0},{"$f":"'[1]11 кл'!KYZ15","v":0},{"$f":"'[1]11 кл'!KZA15","v":0},{"$f":"'[1]11 кл'!KZB15","v":0},{"$f":"'[1]11 кл'!KZC15","v":0},{"$f":"'[1]11 кл'!KZD15","v":0},{"$f":"'[1]11 кл'!KZE15","v":0},{"$f":"'[1]11 кл'!KZF15","v":0},{"$f":"'[1]11 кл'!KZG15","v":0},{"$f":"'[1]11 кл'!KZH15","v":0},{"$f":"'[1]11 кл'!KZI15","v":0},{"$f":"'[1]11 кл'!KZJ15","v":0},{"$f":"'[1]11 кл'!KZK15","v":0},{"$f":"'[1]11 кл'!KZL15","v":0},{"$f":"'[1]11 кл'!KZM15","v":0},{"$f":"'[1]11 кл'!KZN15","v":0},{"$f":"'[1]11 кл'!KZO15","v":0},{"$f":"'[1]11 кл'!KZP15","v":0},{"$f":"'[1]11 кл'!KZQ15","v":0},{"$f":"'[1]11 кл'!KZR15","v":0},{"$f":"'[1]11 кл'!KZS15","v":0},{"$f":"'[1]11 кл'!KZT15","v":0},{"$f":"'[1]11 кл'!KZU15","v":0},{"$f":"'[1]11 кл'!KZV15","v":0},{"$f":"'[1]11 кл'!KZW15","v":0},{"$f":"'[1]11 кл'!KZX15","v":0},{"$f":"'[1]11 кл'!KZY15","v":0},{"$f":"'[1]11 кл'!KZZ15","v":0},{"$f":"'[1]11 кл'!LAA15","v":0},{"$f":"'[1]11 кл'!LAB15","v":0},{"$f":"'[1]11 кл'!LAC15","v":0},{"$f":"'[1]11 кл'!LAD15","v":0},{"$f":"'[1]11 кл'!LAE15","v":0},{"$f":"'[1]11 кл'!LAF15","v":0},{"$f":"'[1]11 кл'!LAG15","v":0},{"$f":"'[1]11 кл'!LAH15","v":0},{"$f":"'[1]11 кл'!LAI15","v":0},{"$f":"'[1]11 кл'!LAJ15","v":0},{"$f":"'[1]11 кл'!LAK15","v":0},{"$f":"'[1]11 кл'!LAL15","v":0},{"$f":"'[1]11 кл'!LAM15","v":0},{"$f":"'[1]11 кл'!LAN15","v":0},{"$f":"'[1]11 кл'!LAO15","v":0},{"$f":"'[1]11 кл'!LAP15","v":0},{"$f":"'[1]11 кл'!LAQ15","v":0},{"$f":"'[1]11 кл'!LAR15","v":0},{"$f":"'[1]11 кл'!LAS15","v":0},{"$f":"'[1]11 кл'!LAT15","v":0},{"$f":"'[1]11 кл'!LAU15","v":0},{"$f":"'[1]11 кл'!LAV15","v":0},{"$f":"'[1]11 кл'!LAW15","v":0},{"$f":"'[1]11 кл'!LAX15","v":0},{"$f":"'[1]11 кл'!LAY15","v":0},{"$f":"'[1]11 кл'!LAZ15","v":0},{"$f":"'[1]11 кл'!LBA15","v":0},{"$f":"'[1]11 кл'!LBB15","v":0},{"$f":"'[1]11 кл'!LBC15","v":0},{"$f":"'[1]11 кл'!LBD15","v":0},{"$f":"'[1]11 кл'!LBE15","v":0},{"$f":"'[1]11 кл'!LBF15","v":0},{"$f":"'[1]11 кл'!LBG15","v":0},{"$f":"'[1]11 кл'!LBH15","v":0},{"$f":"'[1]11 кл'!LBI15","v":0},{"$f":"'[1]11 кл'!LBJ15","v":0},{"$f":"'[1]11 кл'!LBK15","v":0},{"$f":"'[1]11 кл'!LBL15","v":0},{"$f":"'[1]11 кл'!LBM15","v":0},{"$f":"'[1]11 кл'!LBN15","v":0},{"$f":"'[1]11 кл'!LBO15","v":0},{"$f":"'[1]11 кл'!LBP15","v":0},{"$f":"'[1]11 кл'!LBQ15","v":0},{"$f":"'[1]11 кл'!LBR15","v":0},{"$f":"'[1]11 кл'!LBS15","v":0},{"$f":"'[1]11 кл'!LBT15","v":0},{"$f":"'[1]11 кл'!LBU15","v":0},{"$f":"'[1]11 кл'!LBV15","v":0},{"$f":"'[1]11 кл'!LBW15","v":0},{"$f":"'[1]11 кл'!LBX15","v":0},{"$f":"'[1]11 кл'!LBY15","v":0},{"$f":"'[1]11 кл'!LBZ15","v":0},{"$f":"'[1]11 кл'!LCA15","v":0},{"$f":"'[1]11 кл'!LCB15","v":0},{"$f":"'[1]11 кл'!LCC15","v":0},{"$f":"'[1]11 кл'!LCD15","v":0},{"$f":"'[1]11 кл'!LCE15","v":0},{"$f":"'[1]11 кл'!LCF15","v":0},{"$f":"'[1]11 кл'!LCG15","v":0},{"$f":"'[1]11 кл'!LCH15","v":0},{"$f":"'[1]11 кл'!LCI15","v":0},{"$f":"'[1]11 кл'!LCJ15","v":0},{"$f":"'[1]11 кл'!LCK15","v":0},{"$f":"'[1]11 кл'!LCL15","v":0},{"$f":"'[1]11 кл'!LCM15","v":0},{"$f":"'[1]11 кл'!LCN15","v":0},{"$f":"'[1]11 кл'!LCO15","v":0},{"$f":"'[1]11 кл'!LCP15","v":0},{"$f":"'[1]11 кл'!LCQ15","v":0},{"$f":"'[1]11 кл'!LCR15","v":0},{"$f":"'[1]11 кл'!LCS15","v":0},{"$f":"'[1]11 кл'!LCT15","v":0},{"$f":"'[1]11 кл'!LCU15","v":0},{"$f":"'[1]11 кл'!LCV15","v":0},{"$f":"'[1]11 кл'!LCW15","v":0},{"$f":"'[1]11 кл'!LCX15","v":0},{"$f":"'[1]11 кл'!LCY15","v":0},{"$f":"'[1]11 кл'!LCZ15","v":0},{"$f":"'[1]11 кл'!LDA15","v":0},{"$f":"'[1]11 кл'!LDB15","v":0},{"$f":"'[1]11 кл'!LDC15","v":0},{"$f":"'[1]11 кл'!LDD15","v":0},{"$f":"'[1]11 кл'!LDE15","v":0},{"$f":"'[1]11 кл'!LDF15","v":0},{"$f":"'[1]11 кл'!LDG15","v":0},{"$f":"'[1]11 кл'!LDH15","v":0},{"$f":"'[1]11 кл'!LDI15","v":0},{"$f":"'[1]11 кл'!LDJ15","v":0},{"$f":"'[1]11 кл'!LDK15","v":0},{"$f":"'[1]11 кл'!LDL15","v":0},{"$f":"'[1]11 кл'!LDM15","v":0},{"$f":"'[1]11 кл'!LDN15","v":0},{"$f":"'[1]11 кл'!LDO15","v":0},{"$f":"'[1]11 кл'!LDP15","v":0},{"$f":"'[1]11 кл'!LDQ15","v":0},{"$f":"'[1]11 кл'!LDR15","v":0},{"$f":"'[1]11 кл'!LDS15","v":0},{"$f":"'[1]11 кл'!LDT15","v":0},{"$f":"'[1]11 кл'!LDU15","v":0},{"$f":"'[1]11 кл'!LDV15","v":0},{"$f":"'[1]11 кл'!LDW15","v":0},{"$f":"'[1]11 кл'!LDX15","v":0},{"$f":"'[1]11 кл'!LDY15","v":0},{"$f":"'[1]11 кл'!LDZ15","v":0},{"$f":"'[1]11 кл'!LEA15","v":0},{"$f":"'[1]11 кл'!LEB15","v":0},{"$f":"'[1]11 кл'!LEC15","v":0},{"$f":"'[1]11 кл'!LED15","v":0},{"$f":"'[1]11 кл'!LEE15","v":0},{"$f":"'[1]11 кл'!LEF15","v":0},{"$f":"'[1]11 кл'!LEG15","v":0},{"$f":"'[1]11 кл'!LEH15","v":0},{"$f":"'[1]11 кл'!LEI15","v":0},{"$f":"'[1]11 кл'!LEJ15","v":0},{"$f":"'[1]11 кл'!LEK15","v":0},{"$f":"'[1]11 кл'!LEL15","v":0},{"$f":"'[1]11 кл'!LEM15","v":0},{"$f":"'[1]11 кл'!LEN15","v":0},{"$f":"'[1]11 кл'!LEO15","v":0},{"$f":"'[1]11 кл'!LEP15","v":0},{"$f":"'[1]11 кл'!LEQ15","v":0},{"$f":"'[1]11 кл'!LER15","v":0},{"$f":"'[1]11 кл'!LES15","v":0},{"$f":"'[1]11 кл'!LET15","v":0},{"$f":"'[1]11 кл'!LEU15","v":0},{"$f":"'[1]11 кл'!LEV15","v":0},{"$f":"'[1]11 кл'!LEW15","v":0},{"$f":"'[1]11 кл'!LEX15","v":0},{"$f":"'[1]11 кл'!LEY15","v":0},{"$f":"'[1]11 кл'!LEZ15","v":0},{"$f":"'[1]11 кл'!LFA15","v":0},{"$f":"'[1]11 кл'!LFB15","v":0},{"$f":"'[1]11 кл'!LFC15","v":0},{"$f":"'[1]11 кл'!LFD15","v":0},{"$f":"'[1]11 кл'!LFE15","v":0},{"$f":"'[1]11 кл'!LFF15","v":0},{"$f":"'[1]11 кл'!LFG15","v":0},{"$f":"'[1]11 кл'!LFH15","v":0},{"$f":"'[1]11 кл'!LFI15","v":0},{"$f":"'[1]11 кл'!LFJ15","v":0},{"$f":"'[1]11 кл'!LFK15","v":0},{"$f":"'[1]11 кл'!LFL15","v":0},{"$f":"'[1]11 кл'!LFM15","v":0},{"$f":"'[1]11 кл'!LFN15","v":0},{"$f":"'[1]11 кл'!LFO15","v":0},{"$f":"'[1]11 кл'!LFP15","v":0},{"$f":"'[1]11 кл'!LFQ15","v":0},{"$f":"'[1]11 кл'!LFR15","v":0},{"$f":"'[1]11 кл'!LFS15","v":0},{"$f":"'[1]11 кл'!LFT15","v":0},{"$f":"'[1]11 кл'!LFU15","v":0},{"$f":"'[1]11 кл'!LFV15","v":0},{"$f":"'[1]11 кл'!LFW15","v":0},{"$f":"'[1]11 кл'!LFX15","v":0},{"$f":"'[1]11 кл'!LFY15","v":0},{"$f":"'[1]11 кл'!LFZ15","v":0},{"$f":"'[1]11 кл'!LGA15","v":0},{"$f":"'[1]11 кл'!LGB15","v":0},{"$f":"'[1]11 кл'!LGC15","v":0},{"$f":"'[1]11 кл'!LGD15","v":0},{"$f":"'[1]11 кл'!LGE15","v":0},{"$f":"'[1]11 кл'!LGF15","v":0},{"$f":"'[1]11 кл'!LGG15","v":0},{"$f":"'[1]11 кл'!LGH15","v":0},{"$f":"'[1]11 кл'!LGI15","v":0},{"$f":"'[1]11 кл'!LGJ15","v":0},{"$f":"'[1]11 кл'!LGK15","v":0},{"$f":"'[1]11 кл'!LGL15","v":0},{"$f":"'[1]11 кл'!LGM15","v":0},{"$f":"'[1]11 кл'!LGN15","v":0},{"$f":"'[1]11 кл'!LGO15","v":0},{"$f":"'[1]11 кл'!LGP15","v":0},{"$f":"'[1]11 кл'!LGQ15","v":0},{"$f":"'[1]11 кл'!LGR15","v":0},{"$f":"'[1]11 кл'!LGS15","v":0},{"$f":"'[1]11 кл'!LGT15","v":0},{"$f":"'[1]11 кл'!LGU15","v":0},{"$f":"'[1]11 кл'!LGV15","v":0},{"$f":"'[1]11 кл'!LGW15","v":0},{"$f":"'[1]11 кл'!LGX15","v":0},{"$f":"'[1]11 кл'!LGY15","v":0},{"$f":"'[1]11 кл'!LGZ15","v":0},{"$f":"'[1]11 кл'!LHA15","v":0},{"$f":"'[1]11 кл'!LHB15","v":0},{"$f":"'[1]11 кл'!LHC15","v":0},{"$f":"'[1]11 кл'!LHD15","v":0},{"$f":"'[1]11 кл'!LHE15","v":0},{"$f":"'[1]11 кл'!LHF15","v":0},{"$f":"'[1]11 кл'!LHG15","v":0},{"$f":"'[1]11 кл'!LHH15","v":0},{"$f":"'[1]11 кл'!LHI15","v":0},{"$f":"'[1]11 кл'!LHJ15","v":0},{"$f":"'[1]11 кл'!LHK15","v":0},{"$f":"'[1]11 кл'!LHL15","v":0},{"$f":"'[1]11 кл'!LHM15","v":0},{"$f":"'[1]11 кл'!LHN15","v":0},{"$f":"'[1]11 кл'!LHO15","v":0},{"$f":"'[1]11 кл'!LHP15","v":0},{"$f":"'[1]11 кл'!LHQ15","v":0},{"$f":"'[1]11 кл'!LHR15","v":0},{"$f":"'[1]11 кл'!LHS15","v":0},{"$f":"'[1]11 кл'!LHT15","v":0},{"$f":"'[1]11 кл'!LHU15","v":0},{"$f":"'[1]11 кл'!LHV15","v":0},{"$f":"'[1]11 кл'!LHW15","v":0},{"$f":"'[1]11 кл'!LHX15","v":0},{"$f":"'[1]11 кл'!LHY15","v":0},{"$f":"'[1]11 кл'!LHZ15","v":0},{"$f":"'[1]11 кл'!LIA15","v":0},{"$f":"'[1]11 кл'!LIB15","v":0},{"$f":"'[1]11 кл'!LIC15","v":0},{"$f":"'[1]11 кл'!LID15","v":0},{"$f":"'[1]11 кл'!LIE15","v":0},{"$f":"'[1]11 кл'!LIF15","v":0},{"$f":"'[1]11 кл'!LIG15","v":0},{"$f":"'[1]11 кл'!LIH15","v":0},{"$f":"'[1]11 кл'!LII15","v":0},{"$f":"'[1]11 кл'!LIJ15","v":0},{"$f":"'[1]11 кл'!LIK15","v":0},{"$f":"'[1]11 кл'!LIL15","v":0},{"$f":"'[1]11 кл'!LIM15","v":0},{"$f":"'[1]11 кл'!LIN15","v":0},{"$f":"'[1]11 кл'!LIO15","v":0},{"$f":"'[1]11 кл'!LIP15","v":0},{"$f":"'[1]11 кл'!LIQ15","v":0},{"$f":"'[1]11 кл'!LIR15","v":0},{"$f":"'[1]11 кл'!LIS15","v":0},{"$f":"'[1]11 кл'!LIT15","v":0},{"$f":"'[1]11 кл'!LIU15","v":0},{"$f":"'[1]11 кл'!LIV15","v":0},{"$f":"'[1]11 кл'!LIW15","v":0},{"$f":"'[1]11 кл'!LIX15","v":0},{"$f":"'[1]11 кл'!LIY15","v":0},{"$f":"'[1]11 кл'!LIZ15","v":0},{"$f":"'[1]11 кл'!LJA15","v":0},{"$f":"'[1]11 кл'!LJB15","v":0},{"$f":"'[1]11 кл'!LJC15","v":0},{"$f":"'[1]11 кл'!LJD15","v":0},{"$f":"'[1]11 кл'!LJE15","v":0},{"$f":"'[1]11 кл'!LJF15","v":0},{"$f":"'[1]11 кл'!LJG15","v":0},{"$f":"'[1]11 кл'!LJH15","v":0},{"$f":"'[1]11 кл'!LJI15","v":0},{"$f":"'[1]11 кл'!LJJ15","v":0},{"$f":"'[1]11 кл'!LJK15","v":0},{"$f":"'[1]11 кл'!LJL15","v":0},{"$f":"'[1]11 кл'!LJM15","v":0},{"$f":"'[1]11 кл'!LJN15","v":0},{"$f":"'[1]11 кл'!LJO15","v":0},{"$f":"'[1]11 кл'!LJP15","v":0},{"$f":"'[1]11 кл'!LJQ15","v":0},{"$f":"'[1]11 кл'!LJR15","v":0},{"$f":"'[1]11 кл'!LJS15","v":0},{"$f":"'[1]11 кл'!LJT15","v":0},{"$f":"'[1]11 кл'!LJU15","v":0},{"$f":"'[1]11 кл'!LJV15","v":0},{"$f":"'[1]11 кл'!LJW15","v":0},{"$f":"'[1]11 кл'!LJX15","v":0},{"$f":"'[1]11 кл'!LJY15","v":0},{"$f":"'[1]11 кл'!LJZ15","v":0},{"$f":"'[1]11 кл'!LKA15","v":0},{"$f":"'[1]11 кл'!LKB15","v":0},{"$f":"'[1]11 кл'!LKC15","v":0},{"$f":"'[1]11 кл'!LKD15","v":0},{"$f":"'[1]11 кл'!LKE15","v":0},{"$f":"'[1]11 кл'!LKF15","v":0},{"$f":"'[1]11 кл'!LKG15","v":0},{"$f":"'[1]11 кл'!LKH15","v":0},{"$f":"'[1]11 кл'!LKI15","v":0},{"$f":"'[1]11 кл'!LKJ15","v":0},{"$f":"'[1]11 кл'!LKK15","v":0},{"$f":"'[1]11 кл'!LKL15","v":0},{"$f":"'[1]11 кл'!LKM15","v":0},{"$f":"'[1]11 кл'!LKN15","v":0},{"$f":"'[1]11 кл'!LKO15","v":0},{"$f":"'[1]11 кл'!LKP15","v":0},{"$f":"'[1]11 кл'!LKQ15","v":0},{"$f":"'[1]11 кл'!LKR15","v":0},{"$f":"'[1]11 кл'!LKS15","v":0},{"$f":"'[1]11 кл'!LKT15","v":0},{"$f":"'[1]11 кл'!LKU15","v":0},{"$f":"'[1]11 кл'!LKV15","v":0},{"$f":"'[1]11 кл'!LKW15","v":0},{"$f":"'[1]11 кл'!LKX15","v":0},{"$f":"'[1]11 кл'!LKY15","v":0},{"$f":"'[1]11 кл'!LKZ15","v":0},{"$f":"'[1]11 кл'!LLA15","v":0},{"$f":"'[1]11 кл'!LLB15","v":0},{"$f":"'[1]11 кл'!LLC15","v":0},{"$f":"'[1]11 кл'!LLD15","v":0},{"$f":"'[1]11 кл'!LLE15","v":0},{"$f":"'[1]11 кл'!LLF15","v":0},{"$f":"'[1]11 кл'!LLG15","v":0},{"$f":"'[1]11 кл'!LLH15","v":0},{"$f":"'[1]11 кл'!LLI15","v":0},{"$f":"'[1]11 кл'!LLJ15","v":0},{"$f":"'[1]11 кл'!LLK15","v":0},{"$f":"'[1]11 кл'!LLL15","v":0},{"$f":"'[1]11 кл'!LLM15","v":0},{"$f":"'[1]11 кл'!LLN15","v":0},{"$f":"'[1]11 кл'!LLO15","v":0},{"$f":"'[1]11 кл'!LLP15","v":0},{"$f":"'[1]11 кл'!LLQ15","v":0},{"$f":"'[1]11 кл'!LLR15","v":0},{"$f":"'[1]11 кл'!LLS15","v":0},{"$f":"'[1]11 кл'!LLT15","v":0},{"$f":"'[1]11 кл'!LLU15","v":0},{"$f":"'[1]11 кл'!LLV15","v":0},{"$f":"'[1]11 кл'!LLW15","v":0},{"$f":"'[1]11 кл'!LLX15","v":0},{"$f":"'[1]11 кл'!LLY15","v":0},{"$f":"'[1]11 кл'!LLZ15","v":0},{"$f":"'[1]11 кл'!LMA15","v":0},{"$f":"'[1]11 кл'!LMB15","v":0},{"$f":"'[1]11 кл'!LMC15","v":0},{"$f":"'[1]11 кл'!LMD15","v":0},{"$f":"'[1]11 кл'!LME15","v":0},{"$f":"'[1]11 кл'!LMF15","v":0},{"$f":"'[1]11 кл'!LMG15","v":0},{"$f":"'[1]11 кл'!LMH15","v":0},{"$f":"'[1]11 кл'!LMI15","v":0},{"$f":"'[1]11 кл'!LMJ15","v":0},{"$f":"'[1]11 кл'!LMK15","v":0},{"$f":"'[1]11 кл'!LML15","v":0},{"$f":"'[1]11 кл'!LMM15","v":0},{"$f":"'[1]11 кл'!LMN15","v":0},{"$f":"'[1]11 кл'!LMO15","v":0},{"$f":"'[1]11 кл'!LMP15","v":0},{"$f":"'[1]11 кл'!LMQ15","v":0},{"$f":"'[1]11 кл'!LMR15","v":0},{"$f":"'[1]11 кл'!LMS15","v":0},{"$f":"'[1]11 кл'!LMT15","v":0},{"$f":"'[1]11 кл'!LMU15","v":0},{"$f":"'[1]11 кл'!LMV15","v":0},{"$f":"'[1]11 кл'!LMW15","v":0},{"$f":"'[1]11 кл'!LMX15","v":0},{"$f":"'[1]11 кл'!LMY15","v":0},{"$f":"'[1]11 кл'!LMZ15","v":0},{"$f":"'[1]11 кл'!LNA15","v":0},{"$f":"'[1]11 кл'!LNB15","v":0},{"$f":"'[1]11 кл'!LNC15","v":0},{"$f":"'[1]11 кл'!LND15","v":0},{"$f":"'[1]11 кл'!LNE15","v":0},{"$f":"'[1]11 кл'!LNF15","v":0},{"$f":"'[1]11 кл'!LNG15","v":0},{"$f":"'[1]11 кл'!LNH15","v":0},{"$f":"'[1]11 кл'!LNI15","v":0},{"$f":"'[1]11 кл'!LNJ15","v":0},{"$f":"'[1]11 кл'!LNK15","v":0},{"$f":"'[1]11 кл'!LNL15","v":0},{"$f":"'[1]11 кл'!LNM15","v":0},{"$f":"'[1]11 кл'!LNN15","v":0},{"$f":"'[1]11 кл'!LNO15","v":0},{"$f":"'[1]11 кл'!LNP15","v":0},{"$f":"'[1]11 кл'!LNQ15","v":0},{"$f":"'[1]11 кл'!LNR15","v":0},{"$f":"'[1]11 кл'!LNS15","v":0},{"$f":"'[1]11 кл'!LNT15","v":0},{"$f":"'[1]11 кл'!LNU15","v":0},{"$f":"'[1]11 кл'!LNV15","v":0},{"$f":"'[1]11 кл'!LNW15","v":0},{"$f":"'[1]11 кл'!LNX15","v":0},{"$f":"'[1]11 кл'!LNY15","v":0},{"$f":"'[1]11 кл'!LNZ15","v":0},{"$f":"'[1]11 кл'!LOA15","v":0},{"$f":"'[1]11 кл'!LOB15","v":0},{"$f":"'[1]11 кл'!LOC15","v":0},{"$f":"'[1]11 кл'!LOD15","v":0},{"$f":"'[1]11 кл'!LOE15","v":0},{"$f":"'[1]11 кл'!LOF15","v":0},{"$f":"'[1]11 кл'!LOG15","v":0},{"$f":"'[1]11 кл'!LOH15","v":0},{"$f":"'[1]11 кл'!LOI15","v":0},{"$f":"'[1]11 кл'!LOJ15","v":0},{"$f":"'[1]11 кл'!LOK15","v":0},{"$f":"'[1]11 кл'!LOL15","v":0},{"$f":"'[1]11 кл'!LOM15","v":0},{"$f":"'[1]11 кл'!LON15","v":0},{"$f":"'[1]11 кл'!LOO15","v":0},{"$f":"'[1]11 кл'!LOP15","v":0},{"$f":"'[1]11 кл'!LOQ15","v":0},{"$f":"'[1]11 кл'!LOR15","v":0},{"$f":"'[1]11 кл'!LOS15","v":0},{"$f":"'[1]11 кл'!LOT15","v":0},{"$f":"'[1]11 кл'!LOU15","v":0},{"$f":"'[1]11 кл'!LOV15","v":0},{"$f":"'[1]11 кл'!LOW15","v":0},{"$f":"'[1]11 кл'!LOX15","v":0},{"$f":"'[1]11 кл'!LOY15","v":0},{"$f":"'[1]11 кл'!LOZ15","v":0},{"$f":"'[1]11 кл'!LPA15","v":0},{"$f":"'[1]11 кл'!LPB15","v":0},{"$f":"'[1]11 кл'!LPC15","v":0},{"$f":"'[1]11 кл'!LPD15","v":0},{"$f":"'[1]11 кл'!LPE15","v":0},{"$f":"'[1]11 кл'!LPF15","v":0},{"$f":"'[1]11 кл'!LPG15","v":0},{"$f":"'[1]11 кл'!LPH15","v":0},{"$f":"'[1]11 кл'!LPI15","v":0},{"$f":"'[1]11 кл'!LPJ15","v":0},{"$f":"'[1]11 кл'!LPK15","v":0},{"$f":"'[1]11 кл'!LPL15","v":0},{"$f":"'[1]11 кл'!LPM15","v":0},{"$f":"'[1]11 кл'!LPN15","v":0},{"$f":"'[1]11 кл'!LPO15","v":0},{"$f":"'[1]11 кл'!LPP15","v":0},{"$f":"'[1]11 кл'!LPQ15","v":0},{"$f":"'[1]11 кл'!LPR15","v":0},{"$f":"'[1]11 кл'!LPS15","v":0},{"$f":"'[1]11 кл'!LPT15","v":0},{"$f":"'[1]11 кл'!LPU15","v":0},{"$f":"'[1]11 кл'!LPV15","v":0},{"$f":"'[1]11 кл'!LPW15","v":0},{"$f":"'[1]11 кл'!LPX15","v":0},{"$f":"'[1]11 кл'!LPY15","v":0},{"$f":"'[1]11 кл'!LPZ15","v":0},{"$f":"'[1]11 кл'!LQA15","v":0},{"$f":"'[1]11 кл'!LQB15","v":0},{"$f":"'[1]11 кл'!LQC15","v":0},{"$f":"'[1]11 кл'!LQD15","v":0},{"$f":"'[1]11 кл'!LQE15","v":0},{"$f":"'[1]11 кл'!LQF15","v":0},{"$f":"'[1]11 кл'!LQG15","v":0},{"$f":"'[1]11 кл'!LQH15","v":0},{"$f":"'[1]11 кл'!LQI15","v":0},{"$f":"'[1]11 кл'!LQJ15","v":0},{"$f":"'[1]11 кл'!LQK15","v":0},{"$f":"'[1]11 кл'!LQL15","v":0},{"$f":"'[1]11 кл'!LQM15","v":0},{"$f":"'[1]11 кл'!LQN15","v":0},{"$f":"'[1]11 кл'!LQO15","v":0},{"$f":"'[1]11 кл'!LQP15","v":0},{"$f":"'[1]11 кл'!LQQ15","v":0},{"$f":"'[1]11 кл'!LQR15","v":0},{"$f":"'[1]11 кл'!LQS15","v":0},{"$f":"'[1]11 кл'!LQT15","v":0},{"$f":"'[1]11 кл'!LQU15","v":0},{"$f":"'[1]11 кл'!LQV15","v":0},{"$f":"'[1]11 кл'!LQW15","v":0},{"$f":"'[1]11 кл'!LQX15","v":0},{"$f":"'[1]11 кл'!LQY15","v":0},{"$f":"'[1]11 кл'!LQZ15","v":0},{"$f":"'[1]11 кл'!LRA15","v":0},{"$f":"'[1]11 кл'!LRB15","v":0},{"$f":"'[1]11 кл'!LRC15","v":0},{"$f":"'[1]11 кл'!LRD15","v":0},{"$f":"'[1]11 кл'!LRE15","v":0},{"$f":"'[1]11 кл'!LRF15","v":0},{"$f":"'[1]11 кл'!LRG15","v":0},{"$f":"'[1]11 кл'!LRH15","v":0},{"$f":"'[1]11 кл'!LRI15","v":0},{"$f":"'[1]11 кл'!LRJ15","v":0},{"$f":"'[1]11 кл'!LRK15","v":0},{"$f":"'[1]11 кл'!LRL15","v":0},{"$f":"'[1]11 кл'!LRM15","v":0},{"$f":"'[1]11 кл'!LRN15","v":0},{"$f":"'[1]11 кл'!LRO15","v":0},{"$f":"'[1]11 кл'!LRP15","v":0},{"$f":"'[1]11 кл'!LRQ15","v":0},{"$f":"'[1]11 кл'!LRR15","v":0},{"$f":"'[1]11 кл'!LRS15","v":0},{"$f":"'[1]11 кл'!LRT15","v":0},{"$f":"'[1]11 кл'!LRU15","v":0},{"$f":"'[1]11 кл'!LRV15","v":0},{"$f":"'[1]11 кл'!LRW15","v":0},{"$f":"'[1]11 кл'!LRX15","v":0},{"$f":"'[1]11 кл'!LRY15","v":0},{"$f":"'[1]11 кл'!LRZ15","v":0},{"$f":"'[1]11 кл'!LSA15","v":0},{"$f":"'[1]11 кл'!LSB15","v":0},{"$f":"'[1]11 кл'!LSC15","v":0},{"$f":"'[1]11 кл'!LSD15","v":0},{"$f":"'[1]11 кл'!LSE15","v":0},{"$f":"'[1]11 кл'!LSF15","v":0},{"$f":"'[1]11 кл'!LSG15","v":0},{"$f":"'[1]11 кл'!LSH15","v":0},{"$f":"'[1]11 кл'!LSI15","v":0},{"$f":"'[1]11 кл'!LSJ15","v":0},{"$f":"'[1]11 кл'!LSK15","v":0},{"$f":"'[1]11 кл'!LSL15","v":0},{"$f":"'[1]11 кл'!LSM15","v":0},{"$f":"'[1]11 кл'!LSN15","v":0},{"$f":"'[1]11 кл'!LSO15","v":0},{"$f":"'[1]11 кл'!LSP15","v":0},{"$f":"'[1]11 кл'!LSQ15","v":0},{"$f":"'[1]11 кл'!LSR15","v":0},{"$f":"'[1]11 кл'!LSS15","v":0},{"$f":"'[1]11 кл'!LST15","v":0},{"$f":"'[1]11 кл'!LSU15","v":0},{"$f":"'[1]11 кл'!LSV15","v":0},{"$f":"'[1]11 кл'!LSW15","v":0},{"$f":"'[1]11 кл'!LSX15","v":0},{"$f":"'[1]11 кл'!LSY15","v":0},{"$f":"'[1]11 кл'!LSZ15","v":0},{"$f":"'[1]11 кл'!LTA15","v":0},{"$f":"'[1]11 кл'!LTB15","v":0},{"$f":"'[1]11 кл'!LTC15","v":0},{"$f":"'[1]11 кл'!LTD15","v":0},{"$f":"'[1]11 кл'!LTE15","v":0},{"$f":"'[1]11 кл'!LTF15","v":0},{"$f":"'[1]11 кл'!LTG15","v":0},{"$f":"'[1]11 кл'!LTH15","v":0},{"$f":"'[1]11 кл'!LTI15","v":0},{"$f":"'[1]11 кл'!LTJ15","v":0},{"$f":"'[1]11 кл'!LTK15","v":0},{"$f":"'[1]11 кл'!LTL15","v":0},{"$f":"'[1]11 кл'!LTM15","v":0},{"$f":"'[1]11 кл'!LTN15","v":0},{"$f":"'[1]11 кл'!LTO15","v":0},{"$f":"'[1]11 кл'!LTP15","v":0},{"$f":"'[1]11 кл'!LTQ15","v":0},{"$f":"'[1]11 кл'!LTR15","v":0},{"$f":"'[1]11 кл'!LTS15","v":0},{"$f":"'[1]11 кл'!LTT15","v":0},{"$f":"'[1]11 кл'!LTU15","v":0},{"$f":"'[1]11 кл'!LTV15","v":0},{"$f":"'[1]11 кл'!LTW15","v":0},{"$f":"'[1]11 кл'!LTX15","v":0},{"$f":"'[1]11 кл'!LTY15","v":0},{"$f":"'[1]11 кл'!LTZ15","v":0},{"$f":"'[1]11 кл'!LUA15","v":0},{"$f":"'[1]11 кл'!LUB15","v":0},{"$f":"'[1]11 кл'!LUC15","v":0},{"$f":"'[1]11 кл'!LUD15","v":0},{"$f":"'[1]11 кл'!LUE15","v":0},{"$f":"'[1]11 кл'!LUF15","v":0},{"$f":"'[1]11 кл'!LUG15","v":0},{"$f":"'[1]11 кл'!LUH15","v":0},{"$f":"'[1]11 кл'!LUI15","v":0},{"$f":"'[1]11 кл'!LUJ15","v":0},{"$f":"'[1]11 кл'!LUK15","v":0},{"$f":"'[1]11 кл'!LUL15","v":0},{"$f":"'[1]11 кл'!LUM15","v":0},{"$f":"'[1]11 кл'!LUN15","v":0},{"$f":"'[1]11 кл'!LUO15","v":0},{"$f":"'[1]11 кл'!LUP15","v":0},{"$f":"'[1]11 кл'!LUQ15","v":0},{"$f":"'[1]11 кл'!LUR15","v":0},{"$f":"'[1]11 кл'!LUS15","v":0},{"$f":"'[1]11 кл'!LUT15","v":0},{"$f":"'[1]11 кл'!LUU15","v":0},{"$f":"'[1]11 кл'!LUV15","v":0},{"$f":"'[1]11 кл'!LUW15","v":0},{"$f":"'[1]11 кл'!LUX15","v":0},{"$f":"'[1]11 кл'!LUY15","v":0},{"$f":"'[1]11 кл'!LUZ15","v":0},{"$f":"'[1]11 кл'!LVA15","v":0},{"$f":"'[1]11 кл'!LVB15","v":0},{"$f":"'[1]11 кл'!LVC15","v":0},{"$f":"'[1]11 кл'!LVD15","v":0},{"$f":"'[1]11 кл'!LVE15","v":0},{"$f":"'[1]11 кл'!LVF15","v":0},{"$f":"'[1]11 кл'!LVG15","v":0},{"$f":"'[1]11 кл'!LVH15","v":0},{"$f":"'[1]11 кл'!LVI15","v":0},{"$f":"'[1]11 кл'!LVJ15","v":0},{"$f":"'[1]11 кл'!LVK15","v":0},{"$f":"'[1]11 кл'!LVL15","v":0},{"$f":"'[1]11 кл'!LVM15","v":0},{"$f":"'[1]11 кл'!LVN15","v":0},{"$f":"'[1]11 кл'!LVO15","v":0},{"$f":"'[1]11 кл'!LVP15","v":0},{"$f":"'[1]11 кл'!LVQ15","v":0},{"$f":"'[1]11 кл'!LVR15","v":0},{"$f":"'[1]11 кл'!LVS15","v":0},{"$f":"'[1]11 кл'!LVT15","v":0},{"$f":"'[1]11 кл'!LVU15","v":0},{"$f":"'[1]11 кл'!LVV15","v":0},{"$f":"'[1]11 кл'!LVW15","v":0},{"$f":"'[1]11 кл'!LVX15","v":0},{"$f":"'[1]11 кл'!LVY15","v":0},{"$f":"'[1]11 кл'!LVZ15","v":0},{"$f":"'[1]11 кл'!LWA15","v":0},{"$f":"'[1]11 кл'!LWB15","v":0},{"$f":"'[1]11 кл'!LWC15","v":0},{"$f":"'[1]11 кл'!LWD15","v":0},{"$f":"'[1]11 кл'!LWE15","v":0},{"$f":"'[1]11 кл'!LWF15","v":0},{"$f":"'[1]11 кл'!LWG15","v":0},{"$f":"'[1]11 кл'!LWH15","v":0},{"$f":"'[1]11 кл'!LWI15","v":0},{"$f":"'[1]11 кл'!LWJ15","v":0},{"$f":"'[1]11 кл'!LWK15","v":0},{"$f":"'[1]11 кл'!LWL15","v":0},{"$f":"'[1]11 кл'!LWM15","v":0},{"$f":"'[1]11 кл'!LWN15","v":0},{"$f":"'[1]11 кл'!LWO15","v":0},{"$f":"'[1]11 кл'!LWP15","v":0},{"$f":"'[1]11 кл'!LWQ15","v":0},{"$f":"'[1]11 кл'!LWR15","v":0},{"$f":"'[1]11 кл'!LWS15","v":0},{"$f":"'[1]11 кл'!LWT15","v":0},{"$f":"'[1]11 кл'!LWU15","v":0},{"$f":"'[1]11 кл'!LWV15","v":0},{"$f":"'[1]11 кл'!LWW15","v":0},{"$f":"'[1]11 кл'!LWX15","v":0},{"$f":"'[1]11 кл'!LWY15","v":0},{"$f":"'[1]11 кл'!LWZ15","v":0},{"$f":"'[1]11 кл'!LXA15","v":0},{"$f":"'[1]11 кл'!LXB15","v":0},{"$f":"'[1]11 кл'!LXC15","v":0},{"$f":"'[1]11 кл'!LXD15","v":0},{"$f":"'[1]11 кл'!LXE15","v":0},{"$f":"'[1]11 кл'!LXF15","v":0},{"$f":"'[1]11 кл'!LXG15","v":0},{"$f":"'[1]11 кл'!LXH15","v":0},{"$f":"'[1]11 кл'!LXI15","v":0},{"$f":"'[1]11 кл'!LXJ15","v":0},{"$f":"'[1]11 кл'!LXK15","v":0},{"$f":"'[1]11 кл'!LXL15","v":0},{"$f":"'[1]11 кл'!LXM15","v":0},{"$f":"'[1]11 кл'!LXN15","v":0},{"$f":"'[1]11 кл'!LXO15","v":0},{"$f":"'[1]11 кл'!LXP15","v":0},{"$f":"'[1]11 кл'!LXQ15","v":0},{"$f":"'[1]11 кл'!LXR15","v":0},{"$f":"'[1]11 кл'!LXS15","v":0},{"$f":"'[1]11 кл'!LXT15","v":0},{"$f":"'[1]11 кл'!LXU15","v":0},{"$f":"'[1]11 кл'!LXV15","v":0},{"$f":"'[1]11 кл'!LXW15","v":0},{"$f":"'[1]11 кл'!LXX15","v":0},{"$f":"'[1]11 кл'!LXY15","v":0},{"$f":"'[1]11 кл'!LXZ15","v":0},{"$f":"'[1]11 кл'!LYA15","v":0},{"$f":"'[1]11 кл'!LYB15","v":0},{"$f":"'[1]11 кл'!LYC15","v":0},{"$f":"'[1]11 кл'!LYD15","v":0},{"$f":"'[1]11 кл'!LYE15","v":0},{"$f":"'[1]11 кл'!LYF15","v":0},{"$f":"'[1]11 кл'!LYG15","v":0},{"$f":"'[1]11 кл'!LYH15","v":0},{"$f":"'[1]11 кл'!LYI15","v":0},{"$f":"'[1]11 кл'!LYJ15","v":0},{"$f":"'[1]11 кл'!LYK15","v":0},{"$f":"'[1]11 кл'!LYL15","v":0},{"$f":"'[1]11 кл'!LYM15","v":0},{"$f":"'[1]11 кл'!LYN15","v":0},{"$f":"'[1]11 кл'!LYO15","v":0},{"$f":"'[1]11 кл'!LYP15","v":0},{"$f":"'[1]11 кл'!LYQ15","v":0},{"$f":"'[1]11 кл'!LYR15","v":0},{"$f":"'[1]11 кл'!LYS15","v":0},{"$f":"'[1]11 кл'!LYT15","v":0},{"$f":"'[1]11 кл'!LYU15","v":0},{"$f":"'[1]11 кл'!LYV15","v":0},{"$f":"'[1]11 кл'!LYW15","v":0},{"$f":"'[1]11 кл'!LYX15","v":0},{"$f":"'[1]11 кл'!LYY15","v":0},{"$f":"'[1]11 кл'!LYZ15","v":0},{"$f":"'[1]11 кл'!LZA15","v":0},{"$f":"'[1]11 кл'!LZB15","v":0},{"$f":"'[1]11 кл'!LZC15","v":0},{"$f":"'[1]11 кл'!LZD15","v":0},{"$f":"'[1]11 кл'!LZE15","v":0},{"$f":"'[1]11 кл'!LZF15","v":0},{"$f":"'[1]11 кл'!LZG15","v":0},{"$f":"'[1]11 кл'!LZH15","v":0},{"$f":"'[1]11 кл'!LZI15","v":0},{"$f":"'[1]11 кл'!LZJ15","v":0},{"$f":"'[1]11 кл'!LZK15","v":0},{"$f":"'[1]11 кл'!LZL15","v":0},{"$f":"'[1]11 кл'!LZM15","v":0},{"$f":"'[1]11 кл'!LZN15","v":0},{"$f":"'[1]11 кл'!LZO15","v":0},{"$f":"'[1]11 кл'!LZP15","v":0},{"$f":"'[1]11 кл'!LZQ15","v":0},{"$f":"'[1]11 кл'!LZR15","v":0},{"$f":"'[1]11 кл'!LZS15","v":0},{"$f":"'[1]11 кл'!LZT15","v":0},{"$f":"'[1]11 кл'!LZU15","v":0},{"$f":"'[1]11 кл'!LZV15","v":0},{"$f":"'[1]11 кл'!LZW15","v":0},{"$f":"'[1]11 кл'!LZX15","v":0},{"$f":"'[1]11 кл'!LZY15","v":0},{"$f":"'[1]11 кл'!LZZ15","v":0},{"$f":"'[1]11 кл'!MAA15","v":0},{"$f":"'[1]11 кл'!MAB15","v":0},{"$f":"'[1]11 кл'!MAC15","v":0},{"$f":"'[1]11 кл'!MAD15","v":0},{"$f":"'[1]11 кл'!MAE15","v":0},{"$f":"'[1]11 кл'!MAF15","v":0},{"$f":"'[1]11 кл'!MAG15","v":0},{"$f":"'[1]11 кл'!MAH15","v":0},{"$f":"'[1]11 кл'!MAI15","v":0},{"$f":"'[1]11 кл'!MAJ15","v":0},{"$f":"'[1]11 кл'!MAK15","v":0},{"$f":"'[1]11 кл'!MAL15","v":0},{"$f":"'[1]11 кл'!MAM15","v":0},{"$f":"'[1]11 кл'!MAN15","v":0},{"$f":"'[1]11 кл'!MAO15","v":0},{"$f":"'[1]11 кл'!MAP15","v":0},{"$f":"'[1]11 кл'!MAQ15","v":0},{"$f":"'[1]11 кл'!MAR15","v":0},{"$f":"'[1]11 кл'!MAS15","v":0},{"$f":"'[1]11 кл'!MAT15","v":0},{"$f":"'[1]11 кл'!MAU15","v":0},{"$f":"'[1]11 кл'!MAV15","v":0},{"$f":"'[1]11 кл'!MAW15","v":0},{"$f":"'[1]11 кл'!MAX15","v":0},{"$f":"'[1]11 кл'!MAY15","v":0},{"$f":"'[1]11 кл'!MAZ15","v":0},{"$f":"'[1]11 кл'!MBA15","v":0},{"$f":"'[1]11 кл'!MBB15","v":0},{"$f":"'[1]11 кл'!MBC15","v":0},{"$f":"'[1]11 кл'!MBD15","v":0},{"$f":"'[1]11 кл'!MBE15","v":0},{"$f":"'[1]11 кл'!MBF15","v":0},{"$f":"'[1]11 кл'!MBG15","v":0},{"$f":"'[1]11 кл'!MBH15","v":0},{"$f":"'[1]11 кл'!MBI15","v":0},{"$f":"'[1]11 кл'!MBJ15","v":0},{"$f":"'[1]11 кл'!MBK15","v":0},{"$f":"'[1]11 кл'!MBL15","v":0},{"$f":"'[1]11 кл'!MBM15","v":0},{"$f":"'[1]11 кл'!MBN15","v":0},{"$f":"'[1]11 кл'!MBO15","v":0},{"$f":"'[1]11 кл'!MBP15","v":0},{"$f":"'[1]11 кл'!MBQ15","v":0},{"$f":"'[1]11 кл'!MBR15","v":0},{"$f":"'[1]11 кл'!MBS15","v":0},{"$f":"'[1]11 кл'!MBT15","v":0},{"$f":"'[1]11 кл'!MBU15","v":0},{"$f":"'[1]11 кл'!MBV15","v":0},{"$f":"'[1]11 кл'!MBW15","v":0},{"$f":"'[1]11 кл'!MBX15","v":0},{"$f":"'[1]11 кл'!MBY15","v":0},{"$f":"'[1]11 кл'!MBZ15","v":0},{"$f":"'[1]11 кл'!MCA15","v":0},{"$f":"'[1]11 кл'!MCB15","v":0},{"$f":"'[1]11 кл'!MCC15","v":0},{"$f":"'[1]11 кл'!MCD15","v":0},{"$f":"'[1]11 кл'!MCE15","v":0},{"$f":"'[1]11 кл'!MCF15","v":0},{"$f":"'[1]11 кл'!MCG15","v":0},{"$f":"'[1]11 кл'!MCH15","v":0},{"$f":"'[1]11 кл'!MCI15","v":0},{"$f":"'[1]11 кл'!MCJ15","v":0},{"$f":"'[1]11 кл'!MCK15","v":0},{"$f":"'[1]11 кл'!MCL15","v":0},{"$f":"'[1]11 кл'!MCM15","v":0},{"$f":"'[1]11 кл'!MCN15","v":0},{"$f":"'[1]11 кл'!MCO15","v":0},{"$f":"'[1]11 кл'!MCP15","v":0},{"$f":"'[1]11 кл'!MCQ15","v":0},{"$f":"'[1]11 кл'!MCR15","v":0},{"$f":"'[1]11 кл'!MCS15","v":0},{"$f":"'[1]11 кл'!MCT15","v":0},{"$f":"'[1]11 кл'!MCU15","v":0},{"$f":"'[1]11 кл'!MCV15","v":0},{"$f":"'[1]11 кл'!MCW15","v":0},{"$f":"'[1]11 кл'!MCX15","v":0},{"$f":"'[1]11 кл'!MCY15","v":0},{"$f":"'[1]11 кл'!MCZ15","v":0},{"$f":"'[1]11 кл'!MDA15","v":0},{"$f":"'[1]11 кл'!MDB15","v":0},{"$f":"'[1]11 кл'!MDC15","v":0},{"$f":"'[1]11 кл'!MDD15","v":0},{"$f":"'[1]11 кл'!MDE15","v":0},{"$f":"'[1]11 кл'!MDF15","v":0},{"$f":"'[1]11 кл'!MDG15","v":0},{"$f":"'[1]11 кл'!MDH15","v":0},{"$f":"'[1]11 кл'!MDI15","v":0},{"$f":"'[1]11 кл'!MDJ15","v":0},{"$f":"'[1]11 кл'!MDK15","v":0},{"$f":"'[1]11 кл'!MDL15","v":0},{"$f":"'[1]11 кл'!MDM15","v":0},{"$f":"'[1]11 кл'!MDN15","v":0},{"$f":"'[1]11 кл'!MDO15","v":0},{"$f":"'[1]11 кл'!MDP15","v":0},{"$f":"'[1]11 кл'!MDQ15","v":0},{"$f":"'[1]11 кл'!MDR15","v":0},{"$f":"'[1]11 кл'!MDS15","v":0},{"$f":"'[1]11 кл'!MDT15","v":0},{"$f":"'[1]11 кл'!MDU15","v":0},{"$f":"'[1]11 кл'!MDV15","v":0},{"$f":"'[1]11 кл'!MDW15","v":0},{"$f":"'[1]11 кл'!MDX15","v":0},{"$f":"'[1]11 кл'!MDY15","v":0},{"$f":"'[1]11 кл'!MDZ15","v":0},{"$f":"'[1]11 кл'!MEA15","v":0},{"$f":"'[1]11 кл'!MEB15","v":0},{"$f":"'[1]11 кл'!MEC15","v":0},{"$f":"'[1]11 кл'!MED15","v":0},{"$f":"'[1]11 кл'!MEE15","v":0},{"$f":"'[1]11 кл'!MEF15","v":0},{"$f":"'[1]11 кл'!MEG15","v":0},{"$f":"'[1]11 кл'!MEH15","v":0},{"$f":"'[1]11 кл'!MEI15","v":0},{"$f":"'[1]11 кл'!MEJ15","v":0},{"$f":"'[1]11 кл'!MEK15","v":0},{"$f":"'[1]11 кл'!MEL15","v":0},{"$f":"'[1]11 кл'!MEM15","v":0},{"$f":"'[1]11 кл'!MEN15","v":0},{"$f":"'[1]11 кл'!MEO15","v":0},{"$f":"'[1]11 кл'!MEP15","v":0},{"$f":"'[1]11 кл'!MEQ15","v":0},{"$f":"'[1]11 кл'!MER15","v":0},{"$f":"'[1]11 кл'!MES15","v":0},{"$f":"'[1]11 кл'!MET15","v":0},{"$f":"'[1]11 кл'!MEU15","v":0},{"$f":"'[1]11 кл'!MEV15","v":0},{"$f":"'[1]11 кл'!MEW15","v":0},{"$f":"'[1]11 кл'!MEX15","v":0},{"$f":"'[1]11 кл'!MEY15","v":0},{"$f":"'[1]11 кл'!MEZ15","v":0},{"$f":"'[1]11 кл'!MFA15","v":0},{"$f":"'[1]11 кл'!MFB15","v":0},{"$f":"'[1]11 кл'!MFC15","v":0},{"$f":"'[1]11 кл'!MFD15","v":0},{"$f":"'[1]11 кл'!MFE15","v":0},{"$f":"'[1]11 кл'!MFF15","v":0},{"$f":"'[1]11 кл'!MFG15","v":0},{"$f":"'[1]11 кл'!MFH15","v":0},{"$f":"'[1]11 кл'!MFI15","v":0},{"$f":"'[1]11 кл'!MFJ15","v":0},{"$f":"'[1]11 кл'!MFK15","v":0},{"$f":"'[1]11 кл'!MFL15","v":0},{"$f":"'[1]11 кл'!MFM15","v":0},{"$f":"'[1]11 кл'!MFN15","v":0},{"$f":"'[1]11 кл'!MFO15","v":0},{"$f":"'[1]11 кл'!MFP15","v":0},{"$f":"'[1]11 кл'!MFQ15","v":0},{"$f":"'[1]11 кл'!MFR15","v":0},{"$f":"'[1]11 кл'!MFS15","v":0},{"$f":"'[1]11 кл'!MFT15","v":0},{"$f":"'[1]11 кл'!MFU15","v":0},{"$f":"'[1]11 кл'!MFV15","v":0},{"$f":"'[1]11 кл'!MFW15","v":0},{"$f":"'[1]11 кл'!MFX15","v":0},{"$f":"'[1]11 кл'!MFY15","v":0},{"$f":"'[1]11 кл'!MFZ15","v":0},{"$f":"'[1]11 кл'!MGA15","v":0},{"$f":"'[1]11 кл'!MGB15","v":0},{"$f":"'[1]11 кл'!MGC15","v":0},{"$f":"'[1]11 кл'!MGD15","v":0},{"$f":"'[1]11 кл'!MGE15","v":0},{"$f":"'[1]11 кл'!MGF15","v":0},{"$f":"'[1]11 кл'!MGG15","v":0},{"$f":"'[1]11 кл'!MGH15","v":0},{"$f":"'[1]11 кл'!MGI15","v":0},{"$f":"'[1]11 кл'!MGJ15","v":0},{"$f":"'[1]11 кл'!MGK15","v":0},{"$f":"'[1]11 кл'!MGL15","v":0},{"$f":"'[1]11 кл'!MGM15","v":0},{"$f":"'[1]11 кл'!MGN15","v":0},{"$f":"'[1]11 кл'!MGO15","v":0},{"$f":"'[1]11 кл'!MGP15","v":0},{"$f":"'[1]11 кл'!MGQ15","v":0},{"$f":"'[1]11 кл'!MGR15","v":0},{"$f":"'[1]11 кл'!MGS15","v":0},{"$f":"'[1]11 кл'!MGT15","v":0},{"$f":"'[1]11 кл'!MGU15","v":0},{"$f":"'[1]11 кл'!MGV15","v":0},{"$f":"'[1]11 кл'!MGW15","v":0},{"$f":"'[1]11 кл'!MGX15","v":0},{"$f":"'[1]11 кл'!MGY15","v":0},{"$f":"'[1]11 кл'!MGZ15","v":0},{"$f":"'[1]11 кл'!MHA15","v":0},{"$f":"'[1]11 кл'!MHB15","v":0},{"$f":"'[1]11 кл'!MHC15","v":0},{"$f":"'[1]11 кл'!MHD15","v":0},{"$f":"'[1]11 кл'!MHE15","v":0},{"$f":"'[1]11 кл'!MHF15","v":0},{"$f":"'[1]11 кл'!MHG15","v":0},{"$f":"'[1]11 кл'!MHH15","v":0},{"$f":"'[1]11 кл'!MHI15","v":0},{"$f":"'[1]11 кл'!MHJ15","v":0},{"$f":"'[1]11 кл'!MHK15","v":0},{"$f":"'[1]11 кл'!MHL15","v":0},{"$f":"'[1]11 кл'!MHM15","v":0},{"$f":"'[1]11 кл'!MHN15","v":0},{"$f":"'[1]11 кл'!MHO15","v":0},{"$f":"'[1]11 кл'!MHP15","v":0},{"$f":"'[1]11 кл'!MHQ15","v":0},{"$f":"'[1]11 кл'!MHR15","v":0},{"$f":"'[1]11 кл'!MHS15","v":0},{"$f":"'[1]11 кл'!MHT15","v":0},{"$f":"'[1]11 кл'!MHU15","v":0},{"$f":"'[1]11 кл'!MHV15","v":0},{"$f":"'[1]11 кл'!MHW15","v":0},{"$f":"'[1]11 кл'!MHX15","v":0},{"$f":"'[1]11 кл'!MHY15","v":0},{"$f":"'[1]11 кл'!MHZ15","v":0},{"$f":"'[1]11 кл'!MIA15","v":0},{"$f":"'[1]11 кл'!MIB15","v":0},{"$f":"'[1]11 кл'!MIC15","v":0},{"$f":"'[1]11 кл'!MID15","v":0},{"$f":"'[1]11 кл'!MIE15","v":0},{"$f":"'[1]11 кл'!MIF15","v":0},{"$f":"'[1]11 кл'!MIG15","v":0},{"$f":"'[1]11 кл'!MIH15","v":0},{"$f":"'[1]11 кл'!MII15","v":0},{"$f":"'[1]11 кл'!MIJ15","v":0},{"$f":"'[1]11 кл'!MIK15","v":0},{"$f":"'[1]11 кл'!MIL15","v":0},{"$f":"'[1]11 кл'!MIM15","v":0},{"$f":"'[1]11 кл'!MIN15","v":0},{"$f":"'[1]11 кл'!MIO15","v":0},{"$f":"'[1]11 кл'!MIP15","v":0},{"$f":"'[1]11 кл'!MIQ15","v":0},{"$f":"'[1]11 кл'!MIR15","v":0},{"$f":"'[1]11 кл'!MIS15","v":0},{"$f":"'[1]11 кл'!MIT15","v":0},{"$f":"'[1]11 кл'!MIU15","v":0},{"$f":"'[1]11 кл'!MIV15","v":0},{"$f":"'[1]11 кл'!MIW15","v":0},{"$f":"'[1]11 кл'!MIX15","v":0},{"$f":"'[1]11 кл'!MIY15","v":0},{"$f":"'[1]11 кл'!MIZ15","v":0},{"$f":"'[1]11 кл'!MJA15","v":0},{"$f":"'[1]11 кл'!MJB15","v":0},{"$f":"'[1]11 кл'!MJC15","v":0},{"$f":"'[1]11 кл'!MJD15","v":0},{"$f":"'[1]11 кл'!MJE15","v":0},{"$f":"'[1]11 кл'!MJF15","v":0},{"$f":"'[1]11 кл'!MJG15","v":0},{"$f":"'[1]11 кл'!MJH15","v":0},{"$f":"'[1]11 кл'!MJI15","v":0},{"$f":"'[1]11 кл'!MJJ15","v":0},{"$f":"'[1]11 кл'!MJK15","v":0},{"$f":"'[1]11 кл'!MJL15","v":0},{"$f":"'[1]11 кл'!MJM15","v":0},{"$f":"'[1]11 кл'!MJN15","v":0},{"$f":"'[1]11 кл'!MJO15","v":0},{"$f":"'[1]11 кл'!MJP15","v":0},{"$f":"'[1]11 кл'!MJQ15","v":0},{"$f":"'[1]11 кл'!MJR15","v":0},{"$f":"'[1]11 кл'!MJS15","v":0},{"$f":"'[1]11 кл'!MJT15","v":0},{"$f":"'[1]11 кл'!MJU15","v":0},{"$f":"'[1]11 кл'!MJV15","v":0},{"$f":"'[1]11 кл'!MJW15","v":0},{"$f":"'[1]11 кл'!MJX15","v":0},{"$f":"'[1]11 кл'!MJY15","v":0},{"$f":"'[1]11 кл'!MJZ15","v":0},{"$f":"'[1]11 кл'!MKA15","v":0},{"$f":"'[1]11 кл'!MKB15","v":0},{"$f":"'[1]11 кл'!MKC15","v":0},{"$f":"'[1]11 кл'!MKD15","v":0},{"$f":"'[1]11 кл'!MKE15","v":0},{"$f":"'[1]11 кл'!MKF15","v":0},{"$f":"'[1]11 кл'!MKG15","v":0},{"$f":"'[1]11 кл'!MKH15","v":0},{"$f":"'[1]11 кл'!MKI15","v":0},{"$f":"'[1]11 кл'!MKJ15","v":0},{"$f":"'[1]11 кл'!MKK15","v":0},{"$f":"'[1]11 кл'!MKL15","v":0},{"$f":"'[1]11 кл'!MKM15","v":0},{"$f":"'[1]11 кл'!MKN15","v":0},{"$f":"'[1]11 кл'!MKO15","v":0},{"$f":"'[1]11 кл'!MKP15","v":0},{"$f":"'[1]11 кл'!MKQ15","v":0},{"$f":"'[1]11 кл'!MKR15","v":0},{"$f":"'[1]11 кл'!MKS15","v":0},{"$f":"'[1]11 кл'!MKT15","v":0},{"$f":"'[1]11 кл'!MKU15","v":0},{"$f":"'[1]11 кл'!MKV15","v":0},{"$f":"'[1]11 кл'!MKW15","v":0},{"$f":"'[1]11 кл'!MKX15","v":0},{"$f":"'[1]11 кл'!MKY15","v":0},{"$f":"'[1]11 кл'!MKZ15","v":0},{"$f":"'[1]11 кл'!MLA15","v":0},{"$f":"'[1]11 кл'!MLB15","v":0},{"$f":"'[1]11 кл'!MLC15","v":0},{"$f":"'[1]11 кл'!MLD15","v":0},{"$f":"'[1]11 кл'!MLE15","v":0},{"$f":"'[1]11 кл'!MLF15","v":0},{"$f":"'[1]11 кл'!MLG15","v":0},{"$f":"'[1]11 кл'!MLH15","v":0},{"$f":"'[1]11 кл'!MLI15","v":0},{"$f":"'[1]11 кл'!MLJ15","v":0},{"$f":"'[1]11 кл'!MLK15","v":0},{"$f":"'[1]11 кл'!MLL15","v":0},{"$f":"'[1]11 кл'!MLM15","v":0},{"$f":"'[1]11 кл'!MLN15","v":0},{"$f":"'[1]11 кл'!MLO15","v":0},{"$f":"'[1]11 кл'!MLP15","v":0},{"$f":"'[1]11 кл'!MLQ15","v":0},{"$f":"'[1]11 кл'!MLR15","v":0},{"$f":"'[1]11 кл'!MLS15","v":0},{"$f":"'[1]11 кл'!MLT15","v":0},{"$f":"'[1]11 кл'!MLU15","v":0},{"$f":"'[1]11 кл'!MLV15","v":0},{"$f":"'[1]11 кл'!MLW15","v":0},{"$f":"'[1]11 кл'!MLX15","v":0},{"$f":"'[1]11 кл'!MLY15","v":0},{"$f":"'[1]11 кл'!MLZ15","v":0},{"$f":"'[1]11 кл'!MMA15","v":0},{"$f":"'[1]11 кл'!MMB15","v":0},{"$f":"'[1]11 кл'!MMC15","v":0},{"$f":"'[1]11 кл'!MMD15","v":0},{"$f":"'[1]11 кл'!MME15","v":0},{"$f":"'[1]11 кл'!MMF15","v":0},{"$f":"'[1]11 кл'!MMG15","v":0},{"$f":"'[1]11 кл'!MMH15","v":0},{"$f":"'[1]11 кл'!MMI15","v":0},{"$f":"'[1]11 кл'!MMJ15","v":0},{"$f":"'[1]11 кл'!MMK15","v":0},{"$f":"'[1]11 кл'!MML15","v":0},{"$f":"'[1]11 кл'!MMM15","v":0},{"$f":"'[1]11 кл'!MMN15","v":0},{"$f":"'[1]11 кл'!MMO15","v":0},{"$f":"'[1]11 кл'!MMP15","v":0},{"$f":"'[1]11 кл'!MMQ15","v":0},{"$f":"'[1]11 кл'!MMR15","v":0},{"$f":"'[1]11 кл'!MMS15","v":0},{"$f":"'[1]11 кл'!MMT15","v":0},{"$f":"'[1]11 кл'!MMU15","v":0},{"$f":"'[1]11 кл'!MMV15","v":0},{"$f":"'[1]11 кл'!MMW15","v":0},{"$f":"'[1]11 кл'!MMX15","v":0},{"$f":"'[1]11 кл'!MMY15","v":0},{"$f":"'[1]11 кл'!MMZ15","v":0},{"$f":"'[1]11 кл'!MNA15","v":0},{"$f":"'[1]11 кл'!MNB15","v":0},{"$f":"'[1]11 кл'!MNC15","v":0},{"$f":"'[1]11 кл'!MND15","v":0},{"$f":"'[1]11 кл'!MNE15","v":0},{"$f":"'[1]11 кл'!MNF15","v":0},{"$f":"'[1]11 кл'!MNG15","v":0},{"$f":"'[1]11 кл'!MNH15","v":0},{"$f":"'[1]11 кл'!MNI15","v":0},{"$f":"'[1]11 кл'!MNJ15","v":0},{"$f":"'[1]11 кл'!MNK15","v":0},{"$f":"'[1]11 кл'!MNL15","v":0},{"$f":"'[1]11 кл'!MNM15","v":0},{"$f":"'[1]11 кл'!MNN15","v":0},{"$f":"'[1]11 кл'!MNO15","v":0},{"$f":"'[1]11 кл'!MNP15","v":0},{"$f":"'[1]11 кл'!MNQ15","v":0},{"$f":"'[1]11 кл'!MNR15","v":0},{"$f":"'[1]11 кл'!MNS15","v":0},{"$f":"'[1]11 кл'!MNT15","v":0},{"$f":"'[1]11 кл'!MNU15","v":0},{"$f":"'[1]11 кл'!MNV15","v":0},{"$f":"'[1]11 кл'!MNW15","v":0},{"$f":"'[1]11 кл'!MNX15","v":0},{"$f":"'[1]11 кл'!MNY15","v":0},{"$f":"'[1]11 кл'!MNZ15","v":0},{"$f":"'[1]11 кл'!MOA15","v":0},{"$f":"'[1]11 кл'!MOB15","v":0},{"$f":"'[1]11 кл'!MOC15","v":0},{"$f":"'[1]11 кл'!MOD15","v":0},{"$f":"'[1]11 кл'!MOE15","v":0},{"$f":"'[1]11 кл'!MOF15","v":0},{"$f":"'[1]11 кл'!MOG15","v":0},{"$f":"'[1]11 кл'!MOH15","v":0},{"$f":"'[1]11 кл'!MOI15","v":0},{"$f":"'[1]11 кл'!MOJ15","v":0},{"$f":"'[1]11 кл'!MOK15","v":0},{"$f":"'[1]11 кл'!MOL15","v":0},{"$f":"'[1]11 кл'!MOM15","v":0},{"$f":"'[1]11 кл'!MON15","v":0},{"$f":"'[1]11 кл'!MOO15","v":0},{"$f":"'[1]11 кл'!MOP15","v":0},{"$f":"'[1]11 кл'!MOQ15","v":0},{"$f":"'[1]11 кл'!MOR15","v":0},{"$f":"'[1]11 кл'!MOS15","v":0},{"$f":"'[1]11 кл'!MOT15","v":0},{"$f":"'[1]11 кл'!MOU15","v":0},{"$f":"'[1]11 кл'!MOV15","v":0},{"$f":"'[1]11 кл'!MOW15","v":0},{"$f":"'[1]11 кл'!MOX15","v":0},{"$f":"'[1]11 кл'!MOY15","v":0},{"$f":"'[1]11 кл'!MOZ15","v":0},{"$f":"'[1]11 кл'!MPA15","v":0},{"$f":"'[1]11 кл'!MPB15","v":0},{"$f":"'[1]11 кл'!MPC15","v":0},{"$f":"'[1]11 кл'!MPD15","v":0},{"$f":"'[1]11 кл'!MPE15","v":0},{"$f":"'[1]11 кл'!MPF15","v":0},{"$f":"'[1]11 кл'!MPG15","v":0},{"$f":"'[1]11 кл'!MPH15","v":0},{"$f":"'[1]11 кл'!MPI15","v":0},{"$f":"'[1]11 кл'!MPJ15","v":0},{"$f":"'[1]11 кл'!MPK15","v":0},{"$f":"'[1]11 кл'!MPL15","v":0},{"$f":"'[1]11 кл'!MPM15","v":0},{"$f":"'[1]11 кл'!MPN15","v":0},{"$f":"'[1]11 кл'!MPO15","v":0},{"$f":"'[1]11 кл'!MPP15","v":0},{"$f":"'[1]11 кл'!MPQ15","v":0},{"$f":"'[1]11 кл'!MPR15","v":0},{"$f":"'[1]11 кл'!MPS15","v":0},{"$f":"'[1]11 кл'!MPT15","v":0},{"$f":"'[1]11 кл'!MPU15","v":0},{"$f":"'[1]11 кл'!MPV15","v":0},{"$f":"'[1]11 кл'!MPW15","v":0},{"$f":"'[1]11 кл'!MPX15","v":0},{"$f":"'[1]11 кл'!MPY15","v":0},{"$f":"'[1]11 кл'!MPZ15","v":0},{"$f":"'[1]11 кл'!MQA15","v":0},{"$f":"'[1]11 кл'!MQB15","v":0},{"$f":"'[1]11 кл'!MQC15","v":0},{"$f":"'[1]11 кл'!MQD15","v":0},{"$f":"'[1]11 кл'!MQE15","v":0},{"$f":"'[1]11 кл'!MQF15","v":0},{"$f":"'[1]11 кл'!MQG15","v":0},{"$f":"'[1]11 кл'!MQH15","v":0},{"$f":"'[1]11 кл'!MQI15","v":0},{"$f":"'[1]11 кл'!MQJ15","v":0},{"$f":"'[1]11 кл'!MQK15","v":0},{"$f":"'[1]11 кл'!MQL15","v":0},{"$f":"'[1]11 кл'!MQM15","v":0},{"$f":"'[1]11 кл'!MQN15","v":0},{"$f":"'[1]11 кл'!MQO15","v":0},{"$f":"'[1]11 кл'!MQP15","v":0},{"$f":"'[1]11 кл'!MQQ15","v":0},{"$f":"'[1]11 кл'!MQR15","v":0},{"$f":"'[1]11 кл'!MQS15","v":0},{"$f":"'[1]11 кл'!MQT15","v":0},{"$f":"'[1]11 кл'!MQU15","v":0},{"$f":"'[1]11 кл'!MQV15","v":0},{"$f":"'[1]11 кл'!MQW15","v":0},{"$f":"'[1]11 кл'!MQX15","v":0},{"$f":"'[1]11 кл'!MQY15","v":0},{"$f":"'[1]11 кл'!MQZ15","v":0},{"$f":"'[1]11 кл'!MRA15","v":0},{"$f":"'[1]11 кл'!MRB15","v":0},{"$f":"'[1]11 кл'!MRC15","v":0},{"$f":"'[1]11 кл'!MRD15","v":0},{"$f":"'[1]11 кл'!MRE15","v":0},{"$f":"'[1]11 кл'!MRF15","v":0},{"$f":"'[1]11 кл'!MRG15","v":0},{"$f":"'[1]11 кл'!MRH15","v":0},{"$f":"'[1]11 кл'!MRI15","v":0},{"$f":"'[1]11 кл'!MRJ15","v":0},{"$f":"'[1]11 кл'!MRK15","v":0},{"$f":"'[1]11 кл'!MRL15","v":0},{"$f":"'[1]11 кл'!MRM15","v":0},{"$f":"'[1]11 кл'!MRN15","v":0},{"$f":"'[1]11 кл'!MRO15","v":0},{"$f":"'[1]11 кл'!MRP15","v":0},{"$f":"'[1]11 кл'!MRQ15","v":0},{"$f":"'[1]11 кл'!MRR15","v":0},{"$f":"'[1]11 кл'!MRS15","v":0},{"$f":"'[1]11 кл'!MRT15","v":0},{"$f":"'[1]11 кл'!MRU15","v":0},{"$f":"'[1]11 кл'!MRV15","v":0},{"$f":"'[1]11 кл'!MRW15","v":0},{"$f":"'[1]11 кл'!MRX15","v":0},{"$f":"'[1]11 кл'!MRY15","v":0},{"$f":"'[1]11 кл'!MRZ15","v":0},{"$f":"'[1]11 кл'!MSA15","v":0},{"$f":"'[1]11 кл'!MSB15","v":0},{"$f":"'[1]11 кл'!MSC15","v":0},{"$f":"'[1]11 кл'!MSD15","v":0},{"$f":"'[1]11 кл'!MSE15","v":0},{"$f":"'[1]11 кл'!MSF15","v":0},{"$f":"'[1]11 кл'!MSG15","v":0},{"$f":"'[1]11 кл'!MSH15","v":0},{"$f":"'[1]11 кл'!MSI15","v":0},{"$f":"'[1]11 кл'!MSJ15","v":0},{"$f":"'[1]11 кл'!MSK15","v":0},{"$f":"'[1]11 кл'!MSL15","v":0},{"$f":"'[1]11 кл'!MSM15","v":0},{"$f":"'[1]11 кл'!MSN15","v":0},{"$f":"'[1]11 кл'!MSO15","v":0},{"$f":"'[1]11 кл'!MSP15","v":0},{"$f":"'[1]11 кл'!MSQ15","v":0},{"$f":"'[1]11 кл'!MSR15","v":0},{"$f":"'[1]11 кл'!MSS15","v":0},{"$f":"'[1]11 кл'!MST15","v":0},{"$f":"'[1]11 кл'!MSU15","v":0},{"$f":"'[1]11 кл'!MSV15","v":0},{"$f":"'[1]11 кл'!MSW15","v":0},{"$f":"'[1]11 кл'!MSX15","v":0},{"$f":"'[1]11 кл'!MSY15","v":0},{"$f":"'[1]11 кл'!MSZ15","v":0},{"$f":"'[1]11 кл'!MTA15","v":0},{"$f":"'[1]11 кл'!MTB15","v":0},{"$f":"'[1]11 кл'!MTC15","v":0},{"$f":"'[1]11 кл'!MTD15","v":0},{"$f":"'[1]11 кл'!MTE15","v":0},{"$f":"'[1]11 кл'!MTF15","v":0},{"$f":"'[1]11 кл'!MTG15","v":0},{"$f":"'[1]11 кл'!MTH15","v":0},{"$f":"'[1]11 кл'!MTI15","v":0},{"$f":"'[1]11 кл'!MTJ15","v":0},{"$f":"'[1]11 кл'!MTK15","v":0},{"$f":"'[1]11 кл'!MTL15","v":0},{"$f":"'[1]11 кл'!MTM15","v":0},{"$f":"'[1]11 кл'!MTN15","v":0},{"$f":"'[1]11 кл'!MTO15","v":0},{"$f":"'[1]11 кл'!MTP15","v":0},{"$f":"'[1]11 кл'!MTQ15","v":0},{"$f":"'[1]11 кл'!MTR15","v":0},{"$f":"'[1]11 кл'!MTS15","v":0},{"$f":"'[1]11 кл'!MTT15","v":0},{"$f":"'[1]11 кл'!MTU15","v":0},{"$f":"'[1]11 кл'!MTV15","v":0},{"$f":"'[1]11 кл'!MTW15","v":0},{"$f":"'[1]11 кл'!MTX15","v":0},{"$f":"'[1]11 кл'!MTY15","v":0},{"$f":"'[1]11 кл'!MTZ15","v":0},{"$f":"'[1]11 кл'!MUA15","v":0},{"$f":"'[1]11 кл'!MUB15","v":0},{"$f":"'[1]11 кл'!MUC15","v":0},{"$f":"'[1]11 кл'!MUD15","v":0},{"$f":"'[1]11 кл'!MUE15","v":0},{"$f":"'[1]11 кл'!MUF15","v":0},{"$f":"'[1]11 кл'!MUG15","v":0},{"$f":"'[1]11 кл'!MUH15","v":0},{"$f":"'[1]11 кл'!MUI15","v":0},{"$f":"'[1]11 кл'!MUJ15","v":0},{"$f":"'[1]11 кл'!MUK15","v":0},{"$f":"'[1]11 кл'!MUL15","v":0},{"$f":"'[1]11 кл'!MUM15","v":0},{"$f":"'[1]11 кл'!MUN15","v":0},{"$f":"'[1]11 кл'!MUO15","v":0},{"$f":"'[1]11 кл'!MUP15","v":0},{"$f":"'[1]11 кл'!MUQ15","v":0},{"$f":"'[1]11 кл'!MUR15","v":0},{"$f":"'[1]11 кл'!MUS15","v":0},{"$f":"'[1]11 кл'!MUT15","v":0},{"$f":"'[1]11 кл'!MUU15","v":0},{"$f":"'[1]11 кл'!MUV15","v":0},{"$f":"'[1]11 кл'!MUW15","v":0},{"$f":"'[1]11 кл'!MUX15","v":0},{"$f":"'[1]11 кл'!MUY15","v":0},{"$f":"'[1]11 кл'!MUZ15","v":0},{"$f":"'[1]11 кл'!MVA15","v":0},{"$f":"'[1]11 кл'!MVB15","v":0},{"$f":"'[1]11 кл'!MVC15","v":0},{"$f":"'[1]11 кл'!MVD15","v":0},{"$f":"'[1]11 кл'!MVE15","v":0},{"$f":"'[1]11 кл'!MVF15","v":0},{"$f":"'[1]11 кл'!MVG15","v":0},{"$f":"'[1]11 кл'!MVH15","v":0},{"$f":"'[1]11 кл'!MVI15","v":0},{"$f":"'[1]11 кл'!MVJ15","v":0},{"$f":"'[1]11 кл'!MVK15","v":0},{"$f":"'[1]11 кл'!MVL15","v":0},{"$f":"'[1]11 кл'!MVM15","v":0},{"$f":"'[1]11 кл'!MVN15","v":0},{"$f":"'[1]11 кл'!MVO15","v":0},{"$f":"'[1]11 кл'!MVP15","v":0},{"$f":"'[1]11 кл'!MVQ15","v":0},{"$f":"'[1]11 кл'!MVR15","v":0},{"$f":"'[1]11 кл'!MVS15","v":0},{"$f":"'[1]11 кл'!MVT15","v":0},{"$f":"'[1]11 кл'!MVU15","v":0},{"$f":"'[1]11 кл'!MVV15","v":0},{"$f":"'[1]11 кл'!MVW15","v":0},{"$f":"'[1]11 кл'!MVX15","v":0},{"$f":"'[1]11 кл'!MVY15","v":0},{"$f":"'[1]11 кл'!MVZ15","v":0},{"$f":"'[1]11 кл'!MWA15","v":0},{"$f":"'[1]11 кл'!MWB15","v":0},{"$f":"'[1]11 кл'!MWC15","v":0},{"$f":"'[1]11 кл'!MWD15","v":0},{"$f":"'[1]11 кл'!MWE15","v":0},{"$f":"'[1]11 кл'!MWF15","v":0},{"$f":"'[1]11 кл'!MWG15","v":0},{"$f":"'[1]11 кл'!MWH15","v":0},{"$f":"'[1]11 кл'!MWI15","v":0},{"$f":"'[1]11 кл'!MWJ15","v":0},{"$f":"'[1]11 кл'!MWK15","v":0},{"$f":"'[1]11 кл'!MWL15","v":0},{"$f":"'[1]11 кл'!MWM15","v":0},{"$f":"'[1]11 кл'!MWN15","v":0},{"$f":"'[1]11 кл'!MWO15","v":0},{"$f":"'[1]11 кл'!MWP15","v":0},{"$f":"'[1]11 кл'!MWQ15","v":0},{"$f":"'[1]11 кл'!MWR15","v":0},{"$f":"'[1]11 кл'!MWS15","v":0},{"$f":"'[1]11 кл'!MWT15","v":0},{"$f":"'[1]11 кл'!MWU15","v":0},{"$f":"'[1]11 кл'!MWV15","v":0},{"$f":"'[1]11 кл'!MWW15","v":0},{"$f":"'[1]11 кл'!MWX15","v":0},{"$f":"'[1]11 кл'!MWY15","v":0},{"$f":"'[1]11 кл'!MWZ15","v":0},{"$f":"'[1]11 кл'!MXA15","v":0},{"$f":"'[1]11 кл'!MXB15","v":0},{"$f":"'[1]11 кл'!MXC15","v":0},{"$f":"'[1]11 кл'!MXD15","v":0},{"$f":"'[1]11 кл'!MXE15","v":0},{"$f":"'[1]11 кл'!MXF15","v":0},{"$f":"'[1]11 кл'!MXG15","v":0},{"$f":"'[1]11 кл'!MXH15","v":0},{"$f":"'[1]11 кл'!MXI15","v":0},{"$f":"'[1]11 кл'!MXJ15","v":0},{"$f":"'[1]11 кл'!MXK15","v":0},{"$f":"'[1]11 кл'!MXL15","v":0},{"$f":"'[1]11 кл'!MXM15","v":0},{"$f":"'[1]11 кл'!MXN15","v":0},{"$f":"'[1]11 кл'!MXO15","v":0},{"$f":"'[1]11 кл'!MXP15","v":0},{"$f":"'[1]11 кл'!MXQ15","v":0},{"$f":"'[1]11 кл'!MXR15","v":0},{"$f":"'[1]11 кл'!MXS15","v":0},{"$f":"'[1]11 кл'!MXT15","v":0},{"$f":"'[1]11 кл'!MXU15","v":0},{"$f":"'[1]11 кл'!MXV15","v":0},{"$f":"'[1]11 кл'!MXW15","v":0},{"$f":"'[1]11 кл'!MXX15","v":0},{"$f":"'[1]11 кл'!MXY15","v":0},{"$f":"'[1]11 кл'!MXZ15","v":0},{"$f":"'[1]11 кл'!MYA15","v":0},{"$f":"'[1]11 кл'!MYB15","v":0},{"$f":"'[1]11 кл'!MYC15","v":0},{"$f":"'[1]11 кл'!MYD15","v":0},{"$f":"'[1]11 кл'!MYE15","v":0},{"$f":"'[1]11 кл'!MYF15","v":0},{"$f":"'[1]11 кл'!MYG15","v":0},{"$f":"'[1]11 кл'!MYH15","v":0},{"$f":"'[1]11 кл'!MYI15","v":0},{"$f":"'[1]11 кл'!MYJ15","v":0},{"$f":"'[1]11 кл'!MYK15","v":0},{"$f":"'[1]11 кл'!MYL15","v":0},{"$f":"'[1]11 кл'!MYM15","v":0},{"$f":"'[1]11 кл'!MYN15","v":0},{"$f":"'[1]11 кл'!MYO15","v":0},{"$f":"'[1]11 кл'!MYP15","v":0},{"$f":"'[1]11 кл'!MYQ15","v":0},{"$f":"'[1]11 кл'!MYR15","v":0},{"$f":"'[1]11 кл'!MYS15","v":0},{"$f":"'[1]11 кл'!MYT15","v":0},{"$f":"'[1]11 кл'!MYU15","v":0},{"$f":"'[1]11 кл'!MYV15","v":0},{"$f":"'[1]11 кл'!MYW15","v":0},{"$f":"'[1]11 кл'!MYX15","v":0},{"$f":"'[1]11 кл'!MYY15","v":0},{"$f":"'[1]11 кл'!MYZ15","v":0},{"$f":"'[1]11 кл'!MZA15","v":0},{"$f":"'[1]11 кл'!MZB15","v":0},{"$f":"'[1]11 кл'!MZC15","v":0},{"$f":"'[1]11 кл'!MZD15","v":0},{"$f":"'[1]11 кл'!MZE15","v":0},{"$f":"'[1]11 кл'!MZF15","v":0},{"$f":"'[1]11 кл'!MZG15","v":0},{"$f":"'[1]11 кл'!MZH15","v":0},{"$f":"'[1]11 кл'!MZI15","v":0},{"$f":"'[1]11 кл'!MZJ15","v":0},{"$f":"'[1]11 кл'!MZK15","v":0},{"$f":"'[1]11 кл'!MZL15","v":0},{"$f":"'[1]11 кл'!MZM15","v":0},{"$f":"'[1]11 кл'!MZN15","v":0},{"$f":"'[1]11 кл'!MZO15","v":0},{"$f":"'[1]11 кл'!MZP15","v":0},{"$f":"'[1]11 кл'!MZQ15","v":0},{"$f":"'[1]11 кл'!MZR15","v":0},{"$f":"'[1]11 кл'!MZS15","v":0},{"$f":"'[1]11 кл'!MZT15","v":0},{"$f":"'[1]11 кл'!MZU15","v":0},{"$f":"'[1]11 кл'!MZV15","v":0},{"$f":"'[1]11 кл'!MZW15","v":0},{"$f":"'[1]11 кл'!MZX15","v":0},{"$f":"'[1]11 кл'!MZY15","v":0},{"$f":"'[1]11 кл'!MZZ15","v":0},{"$f":"'[1]11 кл'!NAA15","v":0},{"$f":"'[1]11 кл'!NAB15","v":0},{"$f":"'[1]11 кл'!NAC15","v":0},{"$f":"'[1]11 кл'!NAD15","v":0},{"$f":"'[1]11 кл'!NAE15","v":0},{"$f":"'[1]11 кл'!NAF15","v":0},{"$f":"'[1]11 кл'!NAG15","v":0},{"$f":"'[1]11 кл'!NAH15","v":0},{"$f":"'[1]11 кл'!NAI15","v":0},{"$f":"'[1]11 кл'!NAJ15","v":0},{"$f":"'[1]11 кл'!NAK15","v":0},{"$f":"'[1]11 кл'!NAL15","v":0},{"$f":"'[1]11 кл'!NAM15","v":0},{"$f":"'[1]11 кл'!NAN15","v":0},{"$f":"'[1]11 кл'!NAO15","v":0},{"$f":"'[1]11 кл'!NAP15","v":0},{"$f":"'[1]11 кл'!NAQ15","v":0},{"$f":"'[1]11 кл'!NAR15","v":0},{"$f":"'[1]11 кл'!NAS15","v":0},{"$f":"'[1]11 кл'!NAT15","v":0},{"$f":"'[1]11 кл'!NAU15","v":0},{"$f":"'[1]11 кл'!NAV15","v":0},{"$f":"'[1]11 кл'!NAW15","v":0},{"$f":"'[1]11 кл'!NAX15","v":0},{"$f":"'[1]11 кл'!NAY15","v":0},{"$f":"'[1]11 кл'!NAZ15","v":0},{"$f":"'[1]11 кл'!NBA15","v":0},{"$f":"'[1]11 кл'!NBB15","v":0},{"$f":"'[1]11 кл'!NBC15","v":0},{"$f":"'[1]11 кл'!NBD15","v":0},{"$f":"'[1]11 кл'!NBE15","v":0},{"$f":"'[1]11 кл'!NBF15","v":0},{"$f":"'[1]11 кл'!NBG15","v":0},{"$f":"'[1]11 кл'!NBH15","v":0},{"$f":"'[1]11 кл'!NBI15","v":0},{"$f":"'[1]11 кл'!NBJ15","v":0},{"$f":"'[1]11 кл'!NBK15","v":0},{"$f":"'[1]11 кл'!NBL15","v":0},{"$f":"'[1]11 кл'!NBM15","v":0},{"$f":"'[1]11 кл'!NBN15","v":0},{"$f":"'[1]11 кл'!NBO15","v":0},{"$f":"'[1]11 кл'!NBP15","v":0},{"$f":"'[1]11 кл'!NBQ15","v":0},{"$f":"'[1]11 кл'!NBR15","v":0},{"$f":"'[1]11 кл'!NBS15","v":0},{"$f":"'[1]11 кл'!NBT15","v":0},{"$f":"'[1]11 кл'!NBU15","v":0},{"$f":"'[1]11 кл'!NBV15","v":0},{"$f":"'[1]11 кл'!NBW15","v":0},{"$f":"'[1]11 кл'!NBX15","v":0},{"$f":"'[1]11 кл'!NBY15","v":0},{"$f":"'[1]11 кл'!NBZ15","v":0},{"$f":"'[1]11 кл'!NCA15","v":0},{"$f":"'[1]11 кл'!NCB15","v":0},{"$f":"'[1]11 кл'!NCC15","v":0},{"$f":"'[1]11 кл'!NCD15","v":0},{"$f":"'[1]11 кл'!NCE15","v":0},{"$f":"'[1]11 кл'!NCF15","v":0},{"$f":"'[1]11 кл'!NCG15","v":0},{"$f":"'[1]11 кл'!NCH15","v":0},{"$f":"'[1]11 кл'!NCI15","v":0},{"$f":"'[1]11 кл'!NCJ15","v":0},{"$f":"'[1]11 кл'!NCK15","v":0},{"$f":"'[1]11 кл'!NCL15","v":0},{"$f":"'[1]11 кл'!NCM15","v":0},{"$f":"'[1]11 кл'!NCN15","v":0},{"$f":"'[1]11 кл'!NCO15","v":0},{"$f":"'[1]11 кл'!NCP15","v":0},{"$f":"'[1]11 кл'!NCQ15","v":0},{"$f":"'[1]11 кл'!NCR15","v":0},{"$f":"'[1]11 кл'!NCS15","v":0},{"$f":"'[1]11 кл'!NCT15","v":0},{"$f":"'[1]11 кл'!NCU15","v":0},{"$f":"'[1]11 кл'!NCV15","v":0},{"$f":"'[1]11 кл'!NCW15","v":0},{"$f":"'[1]11 кл'!NCX15","v":0},{"$f":"'[1]11 кл'!NCY15","v":0},{"$f":"'[1]11 кл'!NCZ15","v":0},{"$f":"'[1]11 кл'!NDA15","v":0},{"$f":"'[1]11 кл'!NDB15","v":0},{"$f":"'[1]11 кл'!NDC15","v":0},{"$f":"'[1]11 кл'!NDD15","v":0},{"$f":"'[1]11 кл'!NDE15","v":0},{"$f":"'[1]11 кл'!NDF15","v":0},{"$f":"'[1]11 кл'!NDG15","v":0},{"$f":"'[1]11 кл'!NDH15","v":0},{"$f":"'[1]11 кл'!NDI15","v":0},{"$f":"'[1]11 кл'!NDJ15","v":0},{"$f":"'[1]11 кл'!NDK15","v":0},{"$f":"'[1]11 кл'!NDL15","v":0},{"$f":"'[1]11 кл'!NDM15","v":0},{"$f":"'[1]11 кл'!NDN15","v":0},{"$f":"'[1]11 кл'!NDO15","v":0},{"$f":"'[1]11 кл'!NDP15","v":0},{"$f":"'[1]11 кл'!NDQ15","v":0},{"$f":"'[1]11 кл'!NDR15","v":0},{"$f":"'[1]11 кл'!NDS15","v":0},{"$f":"'[1]11 кл'!NDT15","v":0},{"$f":"'[1]11 кл'!NDU15","v":0},{"$f":"'[1]11 кл'!NDV15","v":0},{"$f":"'[1]11 кл'!NDW15","v":0},{"$f":"'[1]11 кл'!NDX15","v":0},{"$f":"'[1]11 кл'!NDY15","v":0},{"$f":"'[1]11 кл'!NDZ15","v":0},{"$f":"'[1]11 кл'!NEA15","v":0},{"$f":"'[1]11 кл'!NEB15","v":0},{"$f":"'[1]11 кл'!NEC15","v":0},{"$f":"'[1]11 кл'!NED15","v":0},{"$f":"'[1]11 кл'!NEE15","v":0},{"$f":"'[1]11 кл'!NEF15","v":0},{"$f":"'[1]11 кл'!NEG15","v":0},{"$f":"'[1]11 кл'!NEH15","v":0},{"$f":"'[1]11 кл'!NEI15","v":0},{"$f":"'[1]11 кл'!NEJ15","v":0},{"$f":"'[1]11 кл'!NEK15","v":0},{"$f":"'[1]11 кл'!NEL15","v":0},{"$f":"'[1]11 кл'!NEM15","v":0},{"$f":"'[1]11 кл'!NEN15","v":0},{"$f":"'[1]11 кл'!NEO15","v":0},{"$f":"'[1]11 кл'!NEP15","v":0},{"$f":"'[1]11 кл'!NEQ15","v":0},{"$f":"'[1]11 кл'!NER15","v":0},{"$f":"'[1]11 кл'!NES15","v":0},{"$f":"'[1]11 кл'!NET15","v":0},{"$f":"'[1]11 кл'!NEU15","v":0},{"$f":"'[1]11 кл'!NEV15","v":0},{"$f":"'[1]11 кл'!NEW15","v":0},{"$f":"'[1]11 кл'!NEX15","v":0},{"$f":"'[1]11 кл'!NEY15","v":0},{"$f":"'[1]11 кл'!NEZ15","v":0},{"$f":"'[1]11 кл'!NFA15","v":0},{"$f":"'[1]11 кл'!NFB15","v":0},{"$f":"'[1]11 кл'!NFC15","v":0},{"$f":"'[1]11 кл'!NFD15","v":0},{"$f":"'[1]11 кл'!NFE15","v":0},{"$f":"'[1]11 кл'!NFF15","v":0},{"$f":"'[1]11 кл'!NFG15","v":0},{"$f":"'[1]11 кл'!NFH15","v":0},{"$f":"'[1]11 кл'!NFI15","v":0},{"$f":"'[1]11 кл'!NFJ15","v":0},{"$f":"'[1]11 кл'!NFK15","v":0},{"$f":"'[1]11 кл'!NFL15","v":0},{"$f":"'[1]11 кл'!NFM15","v":0},{"$f":"'[1]11 кл'!NFN15","v":0},{"$f":"'[1]11 кл'!NFO15","v":0},{"$f":"'[1]11 кл'!NFP15","v":0},{"$f":"'[1]11 кл'!NFQ15","v":0},{"$f":"'[1]11 кл'!NFR15","v":0},{"$f":"'[1]11 кл'!NFS15","v":0},{"$f":"'[1]11 кл'!NFT15","v":0},{"$f":"'[1]11 кл'!NFU15","v":0},{"$f":"'[1]11 кл'!NFV15","v":0},{"$f":"'[1]11 кл'!NFW15","v":0},{"$f":"'[1]11 кл'!NFX15","v":0},{"$f":"'[1]11 кл'!NFY15","v":0},{"$f":"'[1]11 кл'!NFZ15","v":0},{"$f":"'[1]11 кл'!NGA15","v":0},{"$f":"'[1]11 кл'!NGB15","v":0},{"$f":"'[1]11 кл'!NGC15","v":0},{"$f":"'[1]11 кл'!NGD15","v":0},{"$f":"'[1]11 кл'!NGE15","v":0},{"$f":"'[1]11 кл'!NGF15","v":0},{"$f":"'[1]11 кл'!NGG15","v":0},{"$f":"'[1]11 кл'!NGH15","v":0},{"$f":"'[1]11 кл'!NGI15","v":0},{"$f":"'[1]11 кл'!NGJ15","v":0},{"$f":"'[1]11 кл'!NGK15","v":0},{"$f":"'[1]11 кл'!NGL15","v":0},{"$f":"'[1]11 кл'!NGM15","v":0},{"$f":"'[1]11 кл'!NGN15","v":0},{"$f":"'[1]11 кл'!NGO15","v":0},{"$f":"'[1]11 кл'!NGP15","v":0},{"$f":"'[1]11 кл'!NGQ15","v":0},{"$f":"'[1]11 кл'!NGR15","v":0},{"$f":"'[1]11 кл'!NGS15","v":0},{"$f":"'[1]11 кл'!NGT15","v":0},{"$f":"'[1]11 кл'!NGU15","v":0},{"$f":"'[1]11 кл'!NGV15","v":0},{"$f":"'[1]11 кл'!NGW15","v":0},{"$f":"'[1]11 кл'!NGX15","v":0},{"$f":"'[1]11 кл'!NGY15","v":0},{"$f":"'[1]11 кл'!NGZ15","v":0},{"$f":"'[1]11 кл'!NHA15","v":0},{"$f":"'[1]11 кл'!NHB15","v":0},{"$f":"'[1]11 кл'!NHC15","v":0},{"$f":"'[1]11 кл'!NHD15","v":0},{"$f":"'[1]11 кл'!NHE15","v":0},{"$f":"'[1]11 кл'!NHF15","v":0},{"$f":"'[1]11 кл'!NHG15","v":0},{"$f":"'[1]11 кл'!NHH15","v":0},{"$f":"'[1]11 кл'!NHI15","v":0},{"$f":"'[1]11 кл'!NHJ15","v":0},{"$f":"'[1]11 кл'!NHK15","v":0},{"$f":"'[1]11 кл'!NHL15","v":0},{"$f":"'[1]11 кл'!NHM15","v":0},{"$f":"'[1]11 кл'!NHN15","v":0},{"$f":"'[1]11 кл'!NHO15","v":0},{"$f":"'[1]11 кл'!NHP15","v":0},{"$f":"'[1]11 кл'!NHQ15","v":0},{"$f":"'[1]11 кл'!NHR15","v":0},{"$f":"'[1]11 кл'!NHS15","v":0},{"$f":"'[1]11 кл'!NHT15","v":0},{"$f":"'[1]11 кл'!NHU15","v":0},{"$f":"'[1]11 кл'!NHV15","v":0},{"$f":"'[1]11 кл'!NHW15","v":0},{"$f":"'[1]11 кл'!NHX15","v":0},{"$f":"'[1]11 кл'!NHY15","v":0},{"$f":"'[1]11 кл'!NHZ15","v":0},{"$f":"'[1]11 кл'!NIA15","v":0},{"$f":"'[1]11 кл'!NIB15","v":0},{"$f":"'[1]11 кл'!NIC15","v":0},{"$f":"'[1]11 кл'!NID15","v":0},{"$f":"'[1]11 кл'!NIE15","v":0},{"$f":"'[1]11 кл'!NIF15","v":0},{"$f":"'[1]11 кл'!NIG15","v":0},{"$f":"'[1]11 кл'!NIH15","v":0},{"$f":"'[1]11 кл'!NII15","v":0},{"$f":"'[1]11 кл'!NIJ15","v":0},{"$f":"'[1]11 кл'!NIK15","v":0},{"$f":"'[1]11 кл'!NIL15","v":0},{"$f":"'[1]11 кл'!NIM15","v":0},{"$f":"'[1]11 кл'!NIN15","v":0},{"$f":"'[1]11 кл'!NIO15","v":0},{"$f":"'[1]11 кл'!NIP15","v":0},{"$f":"'[1]11 кл'!NIQ15","v":0},{"$f":"'[1]11 кл'!NIR15","v":0},{"$f":"'[1]11 кл'!NIS15","v":0},{"$f":"'[1]11 кл'!NIT15","v":0},{"$f":"'[1]11 кл'!NIU15","v":0},{"$f":"'[1]11 кл'!NIV15","v":0},{"$f":"'[1]11 кл'!NIW15","v":0},{"$f":"'[1]11 кл'!NIX15","v":0},{"$f":"'[1]11 кл'!NIY15","v":0},{"$f":"'[1]11 кл'!NIZ15","v":0},{"$f":"'[1]11 кл'!NJA15","v":0},{"$f":"'[1]11 кл'!NJB15","v":0},{"$f":"'[1]11 кл'!NJC15","v":0},{"$f":"'[1]11 кл'!NJD15","v":0},{"$f":"'[1]11 кл'!NJE15","v":0},{"$f":"'[1]11 кл'!NJF15","v":0},{"$f":"'[1]11 кл'!NJG15","v":0},{"$f":"'[1]11 кл'!NJH15","v":0},{"$f":"'[1]11 кл'!NJI15","v":0},{"$f":"'[1]11 кл'!NJJ15","v":0},{"$f":"'[1]11 кл'!NJK15","v":0},{"$f":"'[1]11 кл'!NJL15","v":0},{"$f":"'[1]11 кл'!NJM15","v":0},{"$f":"'[1]11 кл'!NJN15","v":0},{"$f":"'[1]11 кл'!NJO15","v":0},{"$f":"'[1]11 кл'!NJP15","v":0},{"$f":"'[1]11 кл'!NJQ15","v":0},{"$f":"'[1]11 кл'!NJR15","v":0},{"$f":"'[1]11 кл'!NJS15","v":0},{"$f":"'[1]11 кл'!NJT15","v":0},{"$f":"'[1]11 кл'!NJU15","v":0},{"$f":"'[1]11 кл'!NJV15","v":0},{"$f":"'[1]11 кл'!NJW15","v":0},{"$f":"'[1]11 кл'!NJX15","v":0},{"$f":"'[1]11 кл'!NJY15","v":0},{"$f":"'[1]11 кл'!NJZ15","v":0},{"$f":"'[1]11 кл'!NKA15","v":0},{"$f":"'[1]11 кл'!NKB15","v":0},{"$f":"'[1]11 кл'!NKC15","v":0},{"$f":"'[1]11 кл'!NKD15","v":0},{"$f":"'[1]11 кл'!NKE15","v":0},{"$f":"'[1]11 кл'!NKF15","v":0},{"$f":"'[1]11 кл'!NKG15","v":0},{"$f":"'[1]11 кл'!NKH15","v":0},{"$f":"'[1]11 кл'!NKI15","v":0},{"$f":"'[1]11 кл'!NKJ15","v":0},{"$f":"'[1]11 кл'!NKK15","v":0},{"$f":"'[1]11 кл'!NKL15","v":0},{"$f":"'[1]11 кл'!NKM15","v":0},{"$f":"'[1]11 кл'!NKN15","v":0},{"$f":"'[1]11 кл'!NKO15","v":0},{"$f":"'[1]11 кл'!NKP15","v":0},{"$f":"'[1]11 кл'!NKQ15","v":0},{"$f":"'[1]11 кл'!NKR15","v":0},{"$f":"'[1]11 кл'!NKS15","v":0},{"$f":"'[1]11 кл'!NKT15","v":0},{"$f":"'[1]11 кл'!NKU15","v":0},{"$f":"'[1]11 кл'!NKV15","v":0},{"$f":"'[1]11 кл'!NKW15","v":0},{"$f":"'[1]11 кл'!NKX15","v":0},{"$f":"'[1]11 кл'!NKY15","v":0},{"$f":"'[1]11 кл'!NKZ15","v":0},{"$f":"'[1]11 кл'!NLA15","v":0},{"$f":"'[1]11 кл'!NLB15","v":0},{"$f":"'[1]11 кл'!NLC15","v":0},{"$f":"'[1]11 кл'!NLD15","v":0},{"$f":"'[1]11 кл'!NLE15","v":0},{"$f":"'[1]11 кл'!NLF15","v":0},{"$f":"'[1]11 кл'!NLG15","v":0},{"$f":"'[1]11 кл'!NLH15","v":0},{"$f":"'[1]11 кл'!NLI15","v":0},{"$f":"'[1]11 кл'!NLJ15","v":0},{"$f":"'[1]11 кл'!NLK15","v":0},{"$f":"'[1]11 кл'!NLL15","v":0},{"$f":"'[1]11 кл'!NLM15","v":0},{"$f":"'[1]11 кл'!NLN15","v":0},{"$f":"'[1]11 кл'!NLO15","v":0},{"$f":"'[1]11 кл'!NLP15","v":0},{"$f":"'[1]11 кл'!NLQ15","v":0},{"$f":"'[1]11 кл'!NLR15","v":0},{"$f":"'[1]11 кл'!NLS15","v":0},{"$f":"'[1]11 кл'!NLT15","v":0},{"$f":"'[1]11 кл'!NLU15","v":0},{"$f":"'[1]11 кл'!NLV15","v":0},{"$f":"'[1]11 кл'!NLW15","v":0},{"$f":"'[1]11 кл'!NLX15","v":0},{"$f":"'[1]11 кл'!NLY15","v":0},{"$f":"'[1]11 кл'!NLZ15","v":0},{"$f":"'[1]11 кл'!NMA15","v":0},{"$f":"'[1]11 кл'!NMB15","v":0},{"$f":"'[1]11 кл'!NMC15","v":0},{"$f":"'[1]11 кл'!NMD15","v":0},{"$f":"'[1]11 кл'!NME15","v":0},{"$f":"'[1]11 кл'!NMF15","v":0},{"$f":"'[1]11 кл'!NMG15","v":0},{"$f":"'[1]11 кл'!NMH15","v":0},{"$f":"'[1]11 кл'!NMI15","v":0},{"$f":"'[1]11 кл'!NMJ15","v":0},{"$f":"'[1]11 кл'!NMK15","v":0},{"$f":"'[1]11 кл'!NML15","v":0},{"$f":"'[1]11 кл'!NMM15","v":0},{"$f":"'[1]11 кл'!NMN15","v":0},{"$f":"'[1]11 кл'!NMO15","v":0},{"$f":"'[1]11 кл'!NMP15","v":0},{"$f":"'[1]11 кл'!NMQ15","v":0},{"$f":"'[1]11 кл'!NMR15","v":0},{"$f":"'[1]11 кл'!NMS15","v":0},{"$f":"'[1]11 кл'!NMT15","v":0},{"$f":"'[1]11 кл'!NMU15","v":0},{"$f":"'[1]11 кл'!NMV15","v":0},{"$f":"'[1]11 кл'!NMW15","v":0},{"$f":"'[1]11 кл'!NMX15","v":0},{"$f":"'[1]11 кл'!NMY15","v":0},{"$f":"'[1]11 кл'!NMZ15","v":0},{"$f":"'[1]11 кл'!NNA15","v":0},{"$f":"'[1]11 кл'!NNB15","v":0},{"$f":"'[1]11 кл'!NNC15","v":0},{"$f":"'[1]11 кл'!NND15","v":0},{"$f":"'[1]11 кл'!NNE15","v":0},{"$f":"'[1]11 кл'!NNF15","v":0},{"$f":"'[1]11 кл'!NNG15","v":0},{"$f":"'[1]11 кл'!NNH15","v":0},{"$f":"'[1]11 кл'!NNI15","v":0},{"$f":"'[1]11 кл'!NNJ15","v":0},{"$f":"'[1]11 кл'!NNK15","v":0},{"$f":"'[1]11 кл'!NNL15","v":0},{"$f":"'[1]11 кл'!NNM15","v":0},{"$f":"'[1]11 кл'!NNN15","v":0},{"$f":"'[1]11 кл'!NNO15","v":0},{"$f":"'[1]11 кл'!NNP15","v":0},{"$f":"'[1]11 кл'!NNQ15","v":0},{"$f":"'[1]11 кл'!NNR15","v":0},{"$f":"'[1]11 кл'!NNS15","v":0},{"$f":"'[1]11 кл'!NNT15","v":0},{"$f":"'[1]11 кл'!NNU15","v":0},{"$f":"'[1]11 кл'!NNV15","v":0},{"$f":"'[1]11 кл'!NNW15","v":0},{"$f":"'[1]11 кл'!NNX15","v":0},{"$f":"'[1]11 кл'!NNY15","v":0},{"$f":"'[1]11 кл'!NNZ15","v":0},{"$f":"'[1]11 кл'!NOA15","v":0},{"$f":"'[1]11 кл'!NOB15","v":0},{"$f":"'[1]11 кл'!NOC15","v":0},{"$f":"'[1]11 кл'!NOD15","v":0},{"$f":"'[1]11 кл'!NOE15","v":0},{"$f":"'[1]11 кл'!NOF15","v":0},{"$f":"'[1]11 кл'!NOG15","v":0},{"$f":"'[1]11 кл'!NOH15","v":0},{"$f":"'[1]11 кл'!NOI15","v":0},{"$f":"'[1]11 кл'!NOJ15","v":0},{"$f":"'[1]11 кл'!NOK15","v":0},{"$f":"'[1]11 кл'!NOL15","v":0},{"$f":"'[1]11 кл'!NOM15","v":0},{"$f":"'[1]11 кл'!NON15","v":0},{"$f":"'[1]11 кл'!NOO15","v":0},{"$f":"'[1]11 кл'!NOP15","v":0},{"$f":"'[1]11 кл'!NOQ15","v":0},{"$f":"'[1]11 кл'!NOR15","v":0},{"$f":"'[1]11 кл'!NOS15","v":0},{"$f":"'[1]11 кл'!NOT15","v":0},{"$f":"'[1]11 кл'!NOU15","v":0},{"$f":"'[1]11 кл'!NOV15","v":0},{"$f":"'[1]11 кл'!NOW15","v":0},{"$f":"'[1]11 кл'!NOX15","v":0},{"$f":"'[1]11 кл'!NOY15","v":0},{"$f":"'[1]11 кл'!NOZ15","v":0},{"$f":"'[1]11 кл'!NPA15","v":0},{"$f":"'[1]11 кл'!NPB15","v":0},{"$f":"'[1]11 кл'!NPC15","v":0},{"$f":"'[1]11 кл'!NPD15","v":0},{"$f":"'[1]11 кл'!NPE15","v":0},{"$f":"'[1]11 кл'!NPF15","v":0},{"$f":"'[1]11 кл'!NPG15","v":0},{"$f":"'[1]11 кл'!NPH15","v":0},{"$f":"'[1]11 кл'!NPI15","v":0},{"$f":"'[1]11 кл'!NPJ15","v":0},{"$f":"'[1]11 кл'!NPK15","v":0},{"$f":"'[1]11 кл'!NPL15","v":0},{"$f":"'[1]11 кл'!NPM15","v":0},{"$f":"'[1]11 кл'!NPN15","v":0},{"$f":"'[1]11 кл'!NPO15","v":0},{"$f":"'[1]11 кл'!NPP15","v":0},{"$f":"'[1]11 кл'!NPQ15","v":0},{"$f":"'[1]11 кл'!NPR15","v":0},{"$f":"'[1]11 кл'!NPS15","v":0},{"$f":"'[1]11 кл'!NPT15","v":0},{"$f":"'[1]11 кл'!NPU15","v":0},{"$f":"'[1]11 кл'!NPV15","v":0},{"$f":"'[1]11 кл'!NPW15","v":0},{"$f":"'[1]11 кл'!NPX15","v":0},{"$f":"'[1]11 кл'!NPY15","v":0},{"$f":"'[1]11 кл'!NPZ15","v":0},{"$f":"'[1]11 кл'!NQA15","v":0},{"$f":"'[1]11 кл'!NQB15","v":0},{"$f":"'[1]11 кл'!NQC15","v":0},{"$f":"'[1]11 кл'!NQD15","v":0},{"$f":"'[1]11 кл'!NQE15","v":0},{"$f":"'[1]11 кл'!NQF15","v":0},{"$f":"'[1]11 кл'!NQG15","v":0},{"$f":"'[1]11 кл'!NQH15","v":0},{"$f":"'[1]11 кл'!NQI15","v":0},{"$f":"'[1]11 кл'!NQJ15","v":0},{"$f":"'[1]11 кл'!NQK15","v":0},{"$f":"'[1]11 кл'!NQL15","v":0},{"$f":"'[1]11 кл'!NQM15","v":0},{"$f":"'[1]11 кл'!NQN15","v":0},{"$f":"'[1]11 кл'!NQO15","v":0},{"$f":"'[1]11 кл'!NQP15","v":0},{"$f":"'[1]11 кл'!NQQ15","v":0},{"$f":"'[1]11 кл'!NQR15","v":0},{"$f":"'[1]11 кл'!NQS15","v":0},{"$f":"'[1]11 кл'!NQT15","v":0},{"$f":"'[1]11 кл'!NQU15","v":0},{"$f":"'[1]11 кл'!NQV15","v":0},{"$f":"'[1]11 кл'!NQW15","v":0},{"$f":"'[1]11 кл'!NQX15","v":0},{"$f":"'[1]11 кл'!NQY15","v":0},{"$f":"'[1]11 кл'!NQZ15","v":0},{"$f":"'[1]11 кл'!NRA15","v":0},{"$f":"'[1]11 кл'!NRB15","v":0},{"$f":"'[1]11 кл'!NRC15","v":0},{"$f":"'[1]11 кл'!NRD15","v":0},{"$f":"'[1]11 кл'!NRE15","v":0},{"$f":"'[1]11 кл'!NRF15","v":0},{"$f":"'[1]11 кл'!NRG15","v":0},{"$f":"'[1]11 кл'!NRH15","v":0},{"$f":"'[1]11 кл'!NRI15","v":0},{"$f":"'[1]11 кл'!NRJ15","v":0},{"$f":"'[1]11 кл'!NRK15","v":0},{"$f":"'[1]11 кл'!NRL15","v":0},{"$f":"'[1]11 кл'!NRM15","v":0},{"$f":"'[1]11 кл'!NRN15","v":0},{"$f":"'[1]11 кл'!NRO15","v":0},{"$f":"'[1]11 кл'!NRP15","v":0},{"$f":"'[1]11 кл'!NRQ15","v":0},{"$f":"'[1]11 кл'!NRR15","v":0},{"$f":"'[1]11 кл'!NRS15","v":0},{"$f":"'[1]11 кл'!NRT15","v":0},{"$f":"'[1]11 кл'!NRU15","v":0},{"$f":"'[1]11 кл'!NRV15","v":0},{"$f":"'[1]11 кл'!NRW15","v":0},{"$f":"'[1]11 кл'!NRX15","v":0},{"$f":"'[1]11 кл'!NRY15","v":0},{"$f":"'[1]11 кл'!NRZ15","v":0},{"$f":"'[1]11 кл'!NSA15","v":0},{"$f":"'[1]11 кл'!NSB15","v":0},{"$f":"'[1]11 кл'!NSC15","v":0},{"$f":"'[1]11 кл'!NSD15","v":0},{"$f":"'[1]11 кл'!NSE15","v":0},{"$f":"'[1]11 кл'!NSF15","v":0},{"$f":"'[1]11 кл'!NSG15","v":0},{"$f":"'[1]11 кл'!NSH15","v":0},{"$f":"'[1]11 кл'!NSI15","v":0},{"$f":"'[1]11 кл'!NSJ15","v":0},{"$f":"'[1]11 кл'!NSK15","v":0},{"$f":"'[1]11 кл'!NSL15","v":0},{"$f":"'[1]11 кл'!NSM15","v":0},{"$f":"'[1]11 кл'!NSN15","v":0},{"$f":"'[1]11 кл'!NSO15","v":0},{"$f":"'[1]11 кл'!NSP15","v":0},{"$f":"'[1]11 кл'!NSQ15","v":0},{"$f":"'[1]11 кл'!NSR15","v":0},{"$f":"'[1]11 кл'!NSS15","v":0},{"$f":"'[1]11 кл'!NST15","v":0},{"$f":"'[1]11 кл'!NSU15","v":0},{"$f":"'[1]11 кл'!NSV15","v":0},{"$f":"'[1]11 кл'!NSW15","v":0},{"$f":"'[1]11 кл'!NSX15","v":0},{"$f":"'[1]11 кл'!NSY15","v":0},{"$f":"'[1]11 кл'!NSZ15","v":0},{"$f":"'[1]11 кл'!NTA15","v":0},{"$f":"'[1]11 кл'!NTB15","v":0},{"$f":"'[1]11 кл'!NTC15","v":0},{"$f":"'[1]11 кл'!NTD15","v":0},{"$f":"'[1]11 кл'!NTE15","v":0},{"$f":"'[1]11 кл'!NTF15","v":0},{"$f":"'[1]11 кл'!NTG15","v":0},{"$f":"'[1]11 кл'!NTH15","v":0},{"$f":"'[1]11 кл'!NTI15","v":0},{"$f":"'[1]11 кл'!NTJ15","v":0},{"$f":"'[1]11 кл'!NTK15","v":0},{"$f":"'[1]11 кл'!NTL15","v":0},{"$f":"'[1]11 кл'!NTM15","v":0},{"$f":"'[1]11 кл'!NTN15","v":0},{"$f":"'[1]11 кл'!NTO15","v":0},{"$f":"'[1]11 кл'!NTP15","v":0},{"$f":"'[1]11 кл'!NTQ15","v":0},{"$f":"'[1]11 кл'!NTR15","v":0},{"$f":"'[1]11 кл'!NTS15","v":0},{"$f":"'[1]11 кл'!NTT15","v":0},{"$f":"'[1]11 кл'!NTU15","v":0},{"$f":"'[1]11 кл'!NTV15","v":0},{"$f":"'[1]11 кл'!NTW15","v":0},{"$f":"'[1]11 кл'!NTX15","v":0},{"$f":"'[1]11 кл'!NTY15","v":0},{"$f":"'[1]11 кл'!NTZ15","v":0},{"$f":"'[1]11 кл'!NUA15","v":0},{"$f":"'[1]11 кл'!NUB15","v":0},{"$f":"'[1]11 кл'!NUC15","v":0},{"$f":"'[1]11 кл'!NUD15","v":0},{"$f":"'[1]11 кл'!NUE15","v":0},{"$f":"'[1]11 кл'!NUF15","v":0},{"$f":"'[1]11 кл'!NUG15","v":0},{"$f":"'[1]11 кл'!NUH15","v":0},{"$f":"'[1]11 кл'!NUI15","v":0},{"$f":"'[1]11 кл'!NUJ15","v":0},{"$f":"'[1]11 кл'!NUK15","v":0},{"$f":"'[1]11 кл'!NUL15","v":0},{"$f":"'[1]11 кл'!NUM15","v":0},{"$f":"'[1]11 кл'!NUN15","v":0},{"$f":"'[1]11 кл'!NUO15","v":0},{"$f":"'[1]11 кл'!NUP15","v":0},{"$f":"'[1]11 кл'!NUQ15","v":0},{"$f":"'[1]11 кл'!NUR15","v":0},{"$f":"'[1]11 кл'!NUS15","v":0},{"$f":"'[1]11 кл'!NUT15","v":0},{"$f":"'[1]11 кл'!NUU15","v":0},{"$f":"'[1]11 кл'!NUV15","v":0},{"$f":"'[1]11 кл'!NUW15","v":0},{"$f":"'[1]11 кл'!NUX15","v":0},{"$f":"'[1]11 кл'!NUY15","v":0},{"$f":"'[1]11 кл'!NUZ15","v":0},{"$f":"'[1]11 кл'!NVA15","v":0},{"$f":"'[1]11 кл'!NVB15","v":0},{"$f":"'[1]11 кл'!NVC15","v":0},{"$f":"'[1]11 кл'!NVD15","v":0},{"$f":"'[1]11 кл'!NVE15","v":0},{"$f":"'[1]11 кл'!NVF15","v":0},{"$f":"'[1]11 кл'!NVG15","v":0},{"$f":"'[1]11 кл'!NVH15","v":0},{"$f":"'[1]11 кл'!NVI15","v":0},{"$f":"'[1]11 кл'!NVJ15","v":0},{"$f":"'[1]11 кл'!NVK15","v":0},{"$f":"'[1]11 кл'!NVL15","v":0},{"$f":"'[1]11 кл'!NVM15","v":0},{"$f":"'[1]11 кл'!NVN15","v":0},{"$f":"'[1]11 кл'!NVO15","v":0},{"$f":"'[1]11 кл'!NVP15","v":0},{"$f":"'[1]11 кл'!NVQ15","v":0},{"$f":"'[1]11 кл'!NVR15","v":0},{"$f":"'[1]11 кл'!NVS15","v":0},{"$f":"'[1]11 кл'!NVT15","v":0},{"$f":"'[1]11 кл'!NVU15","v":0},{"$f":"'[1]11 кл'!NVV15","v":0},{"$f":"'[1]11 кл'!NVW15","v":0},{"$f":"'[1]11 кл'!NVX15","v":0},{"$f":"'[1]11 кл'!NVY15","v":0},{"$f":"'[1]11 кл'!NVZ15","v":0},{"$f":"'[1]11 кл'!NWA15","v":0},{"$f":"'[1]11 кл'!NWB15","v":0},{"$f":"'[1]11 кл'!NWC15","v":0},{"$f":"'[1]11 кл'!NWD15","v":0},{"$f":"'[1]11 кл'!NWE15","v":0},{"$f":"'[1]11 кл'!NWF15","v":0},{"$f":"'[1]11 кл'!NWG15","v":0},{"$f":"'[1]11 кл'!NWH15","v":0},{"$f":"'[1]11 кл'!NWI15","v":0},{"$f":"'[1]11 кл'!NWJ15","v":0},{"$f":"'[1]11 кл'!NWK15","v":0},{"$f":"'[1]11 кл'!NWL15","v":0},{"$f":"'[1]11 кл'!NWM15","v":0},{"$f":"'[1]11 кл'!NWN15","v":0},{"$f":"'[1]11 кл'!NWO15","v":0},{"$f":"'[1]11 кл'!NWP15","v":0},{"$f":"'[1]11 кл'!NWQ15","v":0},{"$f":"'[1]11 кл'!NWR15","v":0},{"$f":"'[1]11 кл'!NWS15","v":0},{"$f":"'[1]11 кл'!NWT15","v":0},{"$f":"'[1]11 кл'!NWU15","v":0},{"$f":"'[1]11 кл'!NWV15","v":0},{"$f":"'[1]11 кл'!NWW15","v":0},{"$f":"'[1]11 кл'!NWX15","v":0},{"$f":"'[1]11 кл'!NWY15","v":0},{"$f":"'[1]11 кл'!NWZ15","v":0},{"$f":"'[1]11 кл'!NXA15","v":0},{"$f":"'[1]11 кл'!NXB15","v":0},{"$f":"'[1]11 кл'!NXC15","v":0},{"$f":"'[1]11 кл'!NXD15","v":0},{"$f":"'[1]11 кл'!NXE15","v":0},{"$f":"'[1]11 кл'!NXF15","v":0},{"$f":"'[1]11 кл'!NXG15","v":0},{"$f":"'[1]11 кл'!NXH15","v":0},{"$f":"'[1]11 кл'!NXI15","v":0},{"$f":"'[1]11 кл'!NXJ15","v":0},{"$f":"'[1]11 кл'!NXK15","v":0},{"$f":"'[1]11 кл'!NXL15","v":0},{"$f":"'[1]11 кл'!NXM15","v":0},{"$f":"'[1]11 кл'!NXN15","v":0},{"$f":"'[1]11 кл'!NXO15","v":0},{"$f":"'[1]11 кл'!NXP15","v":0},{"$f":"'[1]11 кл'!NXQ15","v":0},{"$f":"'[1]11 кл'!NXR15","v":0},{"$f":"'[1]11 кл'!NXS15","v":0},{"$f":"'[1]11 кл'!NXT15","v":0},{"$f":"'[1]11 кл'!NXU15","v":0},{"$f":"'[1]11 кл'!NXV15","v":0},{"$f":"'[1]11 кл'!NXW15","v":0},{"$f":"'[1]11 кл'!NXX15","v":0},{"$f":"'[1]11 кл'!NXY15","v":0},{"$f":"'[1]11 кл'!NXZ15","v":0},{"$f":"'[1]11 кл'!NYA15","v":0},{"$f":"'[1]11 кл'!NYB15","v":0},{"$f":"'[1]11 кл'!NYC15","v":0},{"$f":"'[1]11 кл'!NYD15","v":0},{"$f":"'[1]11 кл'!NYE15","v":0},{"$f":"'[1]11 кл'!NYF15","v":0},{"$f":"'[1]11 кл'!NYG15","v":0},{"$f":"'[1]11 кл'!NYH15","v":0},{"$f":"'[1]11 кл'!NYI15","v":0},{"$f":"'[1]11 кл'!NYJ15","v":0},{"$f":"'[1]11 кл'!NYK15","v":0},{"$f":"'[1]11 кл'!NYL15","v":0},{"$f":"'[1]11 кл'!NYM15","v":0},{"$f":"'[1]11 кл'!NYN15","v":0},{"$f":"'[1]11 кл'!NYO15","v":0},{"$f":"'[1]11 кл'!NYP15","v":0},{"$f":"'[1]11 кл'!NYQ15","v":0},{"$f":"'[1]11 кл'!NYR15","v":0},{"$f":"'[1]11 кл'!NYS15","v":0},{"$f":"'[1]11 кл'!NYT15","v":0},{"$f":"'[1]11 кл'!NYU15","v":0},{"$f":"'[1]11 кл'!NYV15","v":0},{"$f":"'[1]11 кл'!NYW15","v":0},{"$f":"'[1]11 кл'!NYX15","v":0},{"$f":"'[1]11 кл'!NYY15","v":0},{"$f":"'[1]11 кл'!NYZ15","v":0},{"$f":"'[1]11 кл'!NZA15","v":0},{"$f":"'[1]11 кл'!NZB15","v":0},{"$f":"'[1]11 кл'!NZC15","v":0},{"$f":"'[1]11 кл'!NZD15","v":0},{"$f":"'[1]11 кл'!NZE15","v":0},{"$f":"'[1]11 кл'!NZF15","v":0},{"$f":"'[1]11 кл'!NZG15","v":0},{"$f":"'[1]11 кл'!NZH15","v":0},{"$f":"'[1]11 кл'!NZI15","v":0},{"$f":"'[1]11 кл'!NZJ15","v":0},{"$f":"'[1]11 кл'!NZK15","v":0},{"$f":"'[1]11 кл'!NZL15","v":0},{"$f":"'[1]11 кл'!NZM15","v":0},{"$f":"'[1]11 кл'!NZN15","v":0},{"$f":"'[1]11 кл'!NZO15","v":0},{"$f":"'[1]11 кл'!NZP15","v":0},{"$f":"'[1]11 кл'!NZQ15","v":0},{"$f":"'[1]11 кл'!NZR15","v":0},{"$f":"'[1]11 кл'!NZS15","v":0},{"$f":"'[1]11 кл'!NZT15","v":0},{"$f":"'[1]11 кл'!NZU15","v":0},{"$f":"'[1]11 кл'!NZV15","v":0},{"$f":"'[1]11 кл'!NZW15","v":0},{"$f":"'[1]11 кл'!NZX15","v":0},{"$f":"'[1]11 кл'!NZY15","v":0},{"$f":"'[1]11 кл'!NZZ15","v":0},{"$f":"'[1]11 кл'!OAA15","v":0},{"$f":"'[1]11 кл'!OAB15","v":0},{"$f":"'[1]11 кл'!OAC15","v":0},{"$f":"'[1]11 кл'!OAD15","v":0},{"$f":"'[1]11 кл'!OAE15","v":0},{"$f":"'[1]11 кл'!OAF15","v":0},{"$f":"'[1]11 кл'!OAG15","v":0},{"$f":"'[1]11 кл'!OAH15","v":0},{"$f":"'[1]11 кл'!OAI15","v":0},{"$f":"'[1]11 кл'!OAJ15","v":0},{"$f":"'[1]11 кл'!OAK15","v":0},{"$f":"'[1]11 кл'!OAL15","v":0},{"$f":"'[1]11 кл'!OAM15","v":0},{"$f":"'[1]11 кл'!OAN15","v":0},{"$f":"'[1]11 кл'!OAO15","v":0},{"$f":"'[1]11 кл'!OAP15","v":0},{"$f":"'[1]11 кл'!OAQ15","v":0},{"$f":"'[1]11 кл'!OAR15","v":0},{"$f":"'[1]11 кл'!OAS15","v":0},{"$f":"'[1]11 кл'!OAT15","v":0},{"$f":"'[1]11 кл'!OAU15","v":0},{"$f":"'[1]11 кл'!OAV15","v":0},{"$f":"'[1]11 кл'!OAW15","v":0},{"$f":"'[1]11 кл'!OAX15","v":0},{"$f":"'[1]11 кл'!OAY15","v":0},{"$f":"'[1]11 кл'!OAZ15","v":0},{"$f":"'[1]11 кл'!OBA15","v":0},{"$f":"'[1]11 кл'!OBB15","v":0},{"$f":"'[1]11 кл'!OBC15","v":0},{"$f":"'[1]11 кл'!OBD15","v":0},{"$f":"'[1]11 кл'!OBE15","v":0},{"$f":"'[1]11 кл'!OBF15","v":0},{"$f":"'[1]11 кл'!OBG15","v":0},{"$f":"'[1]11 кл'!OBH15","v":0},{"$f":"'[1]11 кл'!OBI15","v":0},{"$f":"'[1]11 кл'!OBJ15","v":0},{"$f":"'[1]11 кл'!OBK15","v":0},{"$f":"'[1]11 кл'!OBL15","v":0},{"$f":"'[1]11 кл'!OBM15","v":0},{"$f":"'[1]11 кл'!OBN15","v":0},{"$f":"'[1]11 кл'!OBO15","v":0},{"$f":"'[1]11 кл'!OBP15","v":0},{"$f":"'[1]11 кл'!OBQ15","v":0},{"$f":"'[1]11 кл'!OBR15","v":0},{"$f":"'[1]11 кл'!OBS15","v":0},{"$f":"'[1]11 кл'!OBT15","v":0},{"$f":"'[1]11 кл'!OBU15","v":0},{"$f":"'[1]11 кл'!OBV15","v":0},{"$f":"'[1]11 кл'!OBW15","v":0},{"$f":"'[1]11 кл'!OBX15","v":0},{"$f":"'[1]11 кл'!OBY15","v":0},{"$f":"'[1]11 кл'!OBZ15","v":0},{"$f":"'[1]11 кл'!OCA15","v":0},{"$f":"'[1]11 кл'!OCB15","v":0},{"$f":"'[1]11 кл'!OCC15","v":0},{"$f":"'[1]11 кл'!OCD15","v":0},{"$f":"'[1]11 кл'!OCE15","v":0},{"$f":"'[1]11 кл'!OCF15","v":0},{"$f":"'[1]11 кл'!OCG15","v":0},{"$f":"'[1]11 кл'!OCH15","v":0},{"$f":"'[1]11 кл'!OCI15","v":0},{"$f":"'[1]11 кл'!OCJ15","v":0},{"$f":"'[1]11 кл'!OCK15","v":0},{"$f":"'[1]11 кл'!OCL15","v":0},{"$f":"'[1]11 кл'!OCM15","v":0},{"$f":"'[1]11 кл'!OCN15","v":0},{"$f":"'[1]11 кл'!OCO15","v":0},{"$f":"'[1]11 кл'!OCP15","v":0},{"$f":"'[1]11 кл'!OCQ15","v":0},{"$f":"'[1]11 кл'!OCR15","v":0},{"$f":"'[1]11 кл'!OCS15","v":0},{"$f":"'[1]11 кл'!OCT15","v":0},{"$f":"'[1]11 кл'!OCU15","v":0},{"$f":"'[1]11 кл'!OCV15","v":0},{"$f":"'[1]11 кл'!OCW15","v":0},{"$f":"'[1]11 кл'!OCX15","v":0},{"$f":"'[1]11 кл'!OCY15","v":0},{"$f":"'[1]11 кл'!OCZ15","v":0},{"$f":"'[1]11 кл'!ODA15","v":0},{"$f":"'[1]11 кл'!ODB15","v":0},{"$f":"'[1]11 кл'!ODC15","v":0},{"$f":"'[1]11 кл'!ODD15","v":0},{"$f":"'[1]11 кл'!ODE15","v":0},{"$f":"'[1]11 кл'!ODF15","v":0},{"$f":"'[1]11 кл'!ODG15","v":0},{"$f":"'[1]11 кл'!ODH15","v":0},{"$f":"'[1]11 кл'!ODI15","v":0},{"$f":"'[1]11 кл'!ODJ15","v":0},{"$f":"'[1]11 кл'!ODK15","v":0},{"$f":"'[1]11 кл'!ODL15","v":0},{"$f":"'[1]11 кл'!ODM15","v":0},{"$f":"'[1]11 кл'!ODN15","v":0},{"$f":"'[1]11 кл'!ODO15","v":0},{"$f":"'[1]11 кл'!ODP15","v":0},{"$f":"'[1]11 кл'!ODQ15","v":0},{"$f":"'[1]11 кл'!ODR15","v":0},{"$f":"'[1]11 кл'!ODS15","v":0},{"$f":"'[1]11 кл'!ODT15","v":0},{"$f":"'[1]11 кл'!ODU15","v":0},{"$f":"'[1]11 кл'!ODV15","v":0},{"$f":"'[1]11 кл'!ODW15","v":0},{"$f":"'[1]11 кл'!ODX15","v":0},{"$f":"'[1]11 кл'!ODY15","v":0},{"$f":"'[1]11 кл'!ODZ15","v":0},{"$f":"'[1]11 кл'!OEA15","v":0},{"$f":"'[1]11 кл'!OEB15","v":0},{"$f":"'[1]11 кл'!OEC15","v":0},{"$f":"'[1]11 кл'!OED15","v":0},{"$f":"'[1]11 кл'!OEE15","v":0},{"$f":"'[1]11 кл'!OEF15","v":0},{"$f":"'[1]11 кл'!OEG15","v":0},{"$f":"'[1]11 кл'!OEH15","v":0},{"$f":"'[1]11 кл'!OEI15","v":0},{"$f":"'[1]11 кл'!OEJ15","v":0},{"$f":"'[1]11 кл'!OEK15","v":0},{"$f":"'[1]11 кл'!OEL15","v":0},{"$f":"'[1]11 кл'!OEM15","v":0},{"$f":"'[1]11 кл'!OEN15","v":0},{"$f":"'[1]11 кл'!OEO15","v":0},{"$f":"'[1]11 кл'!OEP15","v":0},{"$f":"'[1]11 кл'!OEQ15","v":0},{"$f":"'[1]11 кл'!OER15","v":0},{"$f":"'[1]11 кл'!OES15","v":0},{"$f":"'[1]11 кл'!OET15","v":0},{"$f":"'[1]11 кл'!OEU15","v":0},{"$f":"'[1]11 кл'!OEV15","v":0},{"$f":"'[1]11 кл'!OEW15","v":0},{"$f":"'[1]11 кл'!OEX15","v":0},{"$f":"'[1]11 кл'!OEY15","v":0},{"$f":"'[1]11 кл'!OEZ15","v":0},{"$f":"'[1]11 кл'!OFA15","v":0},{"$f":"'[1]11 кл'!OFB15","v":0},{"$f":"'[1]11 кл'!OFC15","v":0},{"$f":"'[1]11 кл'!OFD15","v":0},{"$f":"'[1]11 кл'!OFE15","v":0},{"$f":"'[1]11 кл'!OFF15","v":0},{"$f":"'[1]11 кл'!OFG15","v":0},{"$f":"'[1]11 кл'!OFH15","v":0},{"$f":"'[1]11 кл'!OFI15","v":0},{"$f":"'[1]11 кл'!OFJ15","v":0},{"$f":"'[1]11 кл'!OFK15","v":0},{"$f":"'[1]11 кл'!OFL15","v":0},{"$f":"'[1]11 кл'!OFM15","v":0},{"$f":"'[1]11 кл'!OFN15","v":0},{"$f":"'[1]11 кл'!OFO15","v":0},{"$f":"'[1]11 кл'!OFP15","v":0},{"$f":"'[1]11 кл'!OFQ15","v":0},{"$f":"'[1]11 кл'!OFR15","v":0},{"$f":"'[1]11 кл'!OFS15","v":0},{"$f":"'[1]11 кл'!OFT15","v":0},{"$f":"'[1]11 кл'!OFU15","v":0},{"$f":"'[1]11 кл'!OFV15","v":0},{"$f":"'[1]11 кл'!OFW15","v":0},{"$f":"'[1]11 кл'!OFX15","v":0},{"$f":"'[1]11 кл'!OFY15","v":0},{"$f":"'[1]11 кл'!OFZ15","v":0},{"$f":"'[1]11 кл'!OGA15","v":0},{"$f":"'[1]11 кл'!OGB15","v":0},{"$f":"'[1]11 кл'!OGC15","v":0},{"$f":"'[1]11 кл'!OGD15","v":0},{"$f":"'[1]11 кл'!OGE15","v":0},{"$f":"'[1]11 кл'!OGF15","v":0},{"$f":"'[1]11 кл'!OGG15","v":0},{"$f":"'[1]11 кл'!OGH15","v":0},{"$f":"'[1]11 кл'!OGI15","v":0},{"$f":"'[1]11 кл'!OGJ15","v":0},{"$f":"'[1]11 кл'!OGK15","v":0},{"$f":"'[1]11 кл'!OGL15","v":0},{"$f":"'[1]11 кл'!OGM15","v":0},{"$f":"'[1]11 кл'!OGN15","v":0},{"$f":"'[1]11 кл'!OGO15","v":0},{"$f":"'[1]11 кл'!OGP15","v":0},{"$f":"'[1]11 кл'!OGQ15","v":0},{"$f":"'[1]11 кл'!OGR15","v":0},{"$f":"'[1]11 кл'!OGS15","v":0},{"$f":"'[1]11 кл'!OGT15","v":0},{"$f":"'[1]11 кл'!OGU15","v":0},{"$f":"'[1]11 кл'!OGV15","v":0},{"$f":"'[1]11 кл'!OGW15","v":0},{"$f":"'[1]11 кл'!OGX15","v":0},{"$f":"'[1]11 кл'!OGY15","v":0},{"$f":"'[1]11 кл'!OGZ15","v":0},{"$f":"'[1]11 кл'!OHA15","v":0},{"$f":"'[1]11 кл'!OHB15","v":0},{"$f":"'[1]11 кл'!OHC15","v":0},{"$f":"'[1]11 кл'!OHD15","v":0},{"$f":"'[1]11 кл'!OHE15","v":0},{"$f":"'[1]11 кл'!OHF15","v":0},{"$f":"'[1]11 кл'!OHG15","v":0},{"$f":"'[1]11 кл'!OHH15","v":0},{"$f":"'[1]11 кл'!OHI15","v":0},{"$f":"'[1]11 кл'!OHJ15","v":0},{"$f":"'[1]11 кл'!OHK15","v":0},{"$f":"'[1]11 кл'!OHL15","v":0},{"$f":"'[1]11 кл'!OHM15","v":0},{"$f":"'[1]11 кл'!OHN15","v":0},{"$f":"'[1]11 кл'!OHO15","v":0},{"$f":"'[1]11 кл'!OHP15","v":0},{"$f":"'[1]11 кл'!OHQ15","v":0},{"$f":"'[1]11 кл'!OHR15","v":0},{"$f":"'[1]11 кл'!OHS15","v":0},{"$f":"'[1]11 кл'!OHT15","v":0},{"$f":"'[1]11 кл'!OHU15","v":0},{"$f":"'[1]11 кл'!OHV15","v":0},{"$f":"'[1]11 кл'!OHW15","v":0},{"$f":"'[1]11 кл'!OHX15","v":0},{"$f":"'[1]11 кл'!OHY15","v":0},{"$f":"'[1]11 кл'!OHZ15","v":0},{"$f":"'[1]11 кл'!OIA15","v":0},{"$f":"'[1]11 кл'!OIB15","v":0},{"$f":"'[1]11 кл'!OIC15","v":0},{"$f":"'[1]11 кл'!OID15","v":0},{"$f":"'[1]11 кл'!OIE15","v":0},{"$f":"'[1]11 кл'!OIF15","v":0},{"$f":"'[1]11 кл'!OIG15","v":0},{"$f":"'[1]11 кл'!OIH15","v":0},{"$f":"'[1]11 кл'!OII15","v":0},{"$f":"'[1]11 кл'!OIJ15","v":0},{"$f":"'[1]11 кл'!OIK15","v":0},{"$f":"'[1]11 кл'!OIL15","v":0},{"$f":"'[1]11 кл'!OIM15","v":0},{"$f":"'[1]11 кл'!OIN15","v":0},{"$f":"'[1]11 кл'!OIO15","v":0},{"$f":"'[1]11 кл'!OIP15","v":0},{"$f":"'[1]11 кл'!OIQ15","v":0},{"$f":"'[1]11 кл'!OIR15","v":0},{"$f":"'[1]11 кл'!OIS15","v":0},{"$f":"'[1]11 кл'!OIT15","v":0},{"$f":"'[1]11 кл'!OIU15","v":0},{"$f":"'[1]11 кл'!OIV15","v":0},{"$f":"'[1]11 кл'!OIW15","v":0},{"$f":"'[1]11 кл'!OIX15","v":0},{"$f":"'[1]11 кл'!OIY15","v":0},{"$f":"'[1]11 кл'!OIZ15","v":0},{"$f":"'[1]11 кл'!OJA15","v":0},{"$f":"'[1]11 кл'!OJB15","v":0},{"$f":"'[1]11 кл'!OJC15","v":0},{"$f":"'[1]11 кл'!OJD15","v":0},{"$f":"'[1]11 кл'!OJE15","v":0},{"$f":"'[1]11 кл'!OJF15","v":0},{"$f":"'[1]11 кл'!OJG15","v":0},{"$f":"'[1]11 кл'!OJH15","v":0},{"$f":"'[1]11 кл'!OJI15","v":0},{"$f":"'[1]11 кл'!OJJ15","v":0},{"$f":"'[1]11 кл'!OJK15","v":0},{"$f":"'[1]11 кл'!OJL15","v":0},{"$f":"'[1]11 кл'!OJM15","v":0},{"$f":"'[1]11 кл'!OJN15","v":0},{"$f":"'[1]11 кл'!OJO15","v":0},{"$f":"'[1]11 кл'!OJP15","v":0},{"$f":"'[1]11 кл'!OJQ15","v":0},{"$f":"'[1]11 кл'!OJR15","v":0},{"$f":"'[1]11 кл'!OJS15","v":0},{"$f":"'[1]11 кл'!OJT15","v":0},{"$f":"'[1]11 кл'!OJU15","v":0},{"$f":"'[1]11 кл'!OJV15","v":0},{"$f":"'[1]11 кл'!OJW15","v":0},{"$f":"'[1]11 кл'!OJX15","v":0},{"$f":"'[1]11 кл'!OJY15","v":0},{"$f":"'[1]11 кл'!OJZ15","v":0},{"$f":"'[1]11 кл'!OKA15","v":0},{"$f":"'[1]11 кл'!OKB15","v":0},{"$f":"'[1]11 кл'!OKC15","v":0},{"$f":"'[1]11 кл'!OKD15","v":0},{"$f":"'[1]11 кл'!OKE15","v":0},{"$f":"'[1]11 кл'!OKF15","v":0},{"$f":"'[1]11 кл'!OKG15","v":0},{"$f":"'[1]11 кл'!OKH15","v":0},{"$f":"'[1]11 кл'!OKI15","v":0},{"$f":"'[1]11 кл'!OKJ15","v":0},{"$f":"'[1]11 кл'!OKK15","v":0},{"$f":"'[1]11 кл'!OKL15","v":0},{"$f":"'[1]11 кл'!OKM15","v":0},{"$f":"'[1]11 кл'!OKN15","v":0},{"$f":"'[1]11 кл'!OKO15","v":0},{"$f":"'[1]11 кл'!OKP15","v":0},{"$f":"'[1]11 кл'!OKQ15","v":0},{"$f":"'[1]11 кл'!OKR15","v":0},{"$f":"'[1]11 кл'!OKS15","v":0},{"$f":"'[1]11 кл'!OKT15","v":0},{"$f":"'[1]11 кл'!OKU15","v":0},{"$f":"'[1]11 кл'!OKV15","v":0},{"$f":"'[1]11 кл'!OKW15","v":0},{"$f":"'[1]11 кл'!OKX15","v":0},{"$f":"'[1]11 кл'!OKY15","v":0},{"$f":"'[1]11 кл'!OKZ15","v":0},{"$f":"'[1]11 кл'!OLA15","v":0},{"$f":"'[1]11 кл'!OLB15","v":0},{"$f":"'[1]11 кл'!OLC15","v":0},{"$f":"'[1]11 кл'!OLD15","v":0},{"$f":"'[1]11 кл'!OLE15","v":0},{"$f":"'[1]11 кл'!OLF15","v":0},{"$f":"'[1]11 кл'!OLG15","v":0},{"$f":"'[1]11 кл'!OLH15","v":0},{"$f":"'[1]11 кл'!OLI15","v":0},{"$f":"'[1]11 кл'!OLJ15","v":0},{"$f":"'[1]11 кл'!OLK15","v":0},{"$f":"'[1]11 кл'!OLL15","v":0},{"$f":"'[1]11 кл'!OLM15","v":0},{"$f":"'[1]11 кл'!OLN15","v":0},{"$f":"'[1]11 кл'!OLO15","v":0},{"$f":"'[1]11 кл'!OLP15","v":0},{"$f":"'[1]11 кл'!OLQ15","v":0},{"$f":"'[1]11 кл'!OLR15","v":0},{"$f":"'[1]11 кл'!OLS15","v":0},{"$f":"'[1]11 кл'!OLT15","v":0},{"$f":"'[1]11 кл'!OLU15","v":0},{"$f":"'[1]11 кл'!OLV15","v":0},{"$f":"'[1]11 кл'!OLW15","v":0},{"$f":"'[1]11 кл'!OLX15","v":0},{"$f":"'[1]11 кл'!OLY15","v":0},{"$f":"'[1]11 кл'!OLZ15","v":0},{"$f":"'[1]11 кл'!OMA15","v":0},{"$f":"'[1]11 кл'!OMB15","v":0},{"$f":"'[1]11 кл'!OMC15","v":0},{"$f":"'[1]11 кл'!OMD15","v":0},{"$f":"'[1]11 кл'!OME15","v":0},{"$f":"'[1]11 кл'!OMF15","v":0},{"$f":"'[1]11 кл'!OMG15","v":0},{"$f":"'[1]11 кл'!OMH15","v":0},{"$f":"'[1]11 кл'!OMI15","v":0},{"$f":"'[1]11 кл'!OMJ15","v":0},{"$f":"'[1]11 кл'!OMK15","v":0},{"$f":"'[1]11 кл'!OML15","v":0},{"$f":"'[1]11 кл'!OMM15","v":0},{"$f":"'[1]11 кл'!OMN15","v":0},{"$f":"'[1]11 кл'!OMO15","v":0},{"$f":"'[1]11 кл'!OMP15","v":0},{"$f":"'[1]11 кл'!OMQ15","v":0},{"$f":"'[1]11 кл'!OMR15","v":0},{"$f":"'[1]11 кл'!OMS15","v":0},{"$f":"'[1]11 кл'!OMT15","v":0},{"$f":"'[1]11 кл'!OMU15","v":0},{"$f":"'[1]11 кл'!OMV15","v":0},{"$f":"'[1]11 кл'!OMW15","v":0},{"$f":"'[1]11 кл'!OMX15","v":0},{"$f":"'[1]11 кл'!OMY15","v":0},{"$f":"'[1]11 кл'!OMZ15","v":0},{"$f":"'[1]11 кл'!ONA15","v":0},{"$f":"'[1]11 кл'!ONB15","v":0},{"$f":"'[1]11 кл'!ONC15","v":0},{"$f":"'[1]11 кл'!OND15","v":0},{"$f":"'[1]11 кл'!ONE15","v":0},{"$f":"'[1]11 кл'!ONF15","v":0},{"$f":"'[1]11 кл'!ONG15","v":0},{"$f":"'[1]11 кл'!ONH15","v":0},{"$f":"'[1]11 кл'!ONI15","v":0},{"$f":"'[1]11 кл'!ONJ15","v":0},{"$f":"'[1]11 кл'!ONK15","v":0},{"$f":"'[1]11 кл'!ONL15","v":0},{"$f":"'[1]11 кл'!ONM15","v":0},{"$f":"'[1]11 кл'!ONN15","v":0},{"$f":"'[1]11 кл'!ONO15","v":0},{"$f":"'[1]11 кл'!ONP15","v":0},{"$f":"'[1]11 кл'!ONQ15","v":0},{"$f":"'[1]11 кл'!ONR15","v":0},{"$f":"'[1]11 кл'!ONS15","v":0},{"$f":"'[1]11 кл'!ONT15","v":0},{"$f":"'[1]11 кл'!ONU15","v":0},{"$f":"'[1]11 кл'!ONV15","v":0},{"$f":"'[1]11 кл'!ONW15","v":0},{"$f":"'[1]11 кл'!ONX15","v":0},{"$f":"'[1]11 кл'!ONY15","v":0},{"$f":"'[1]11 кл'!ONZ15","v":0},{"$f":"'[1]11 кл'!OOA15","v":0},{"$f":"'[1]11 кл'!OOB15","v":0},{"$f":"'[1]11 кл'!OOC15","v":0},{"$f":"'[1]11 кл'!OOD15","v":0},{"$f":"'[1]11 кл'!OOE15","v":0},{"$f":"'[1]11 кл'!OOF15","v":0},{"$f":"'[1]11 кл'!OOG15","v":0},{"$f":"'[1]11 кл'!OOH15","v":0},{"$f":"'[1]11 кл'!OOI15","v":0},{"$f":"'[1]11 кл'!OOJ15","v":0},{"$f":"'[1]11 кл'!OOK15","v":0},{"$f":"'[1]11 кл'!OOL15","v":0},{"$f":"'[1]11 кл'!OOM15","v":0},{"$f":"'[1]11 кл'!OON15","v":0},{"$f":"'[1]11 кл'!OOO15","v":0},{"$f":"'[1]11 кл'!OOP15","v":0},{"$f":"'[1]11 кл'!OOQ15","v":0},{"$f":"'[1]11 кл'!OOR15","v":0},{"$f":"'[1]11 кл'!OOS15","v":0},{"$f":"'[1]11 кл'!OOT15","v":0},{"$f":"'[1]11 кл'!OOU15","v":0},{"$f":"'[1]11 кл'!OOV15","v":0},{"$f":"'[1]11 кл'!OOW15","v":0},{"$f":"'[1]11 кл'!OOX15","v":0},{"$f":"'[1]11 кл'!OOY15","v":0},{"$f":"'[1]11 кл'!OOZ15","v":0},{"$f":"'[1]11 кл'!OPA15","v":0},{"$f":"'[1]11 кл'!OPB15","v":0},{"$f":"'[1]11 кл'!OPC15","v":0},{"$f":"'[1]11 кл'!OPD15","v":0},{"$f":"'[1]11 кл'!OPE15","v":0},{"$f":"'[1]11 кл'!OPF15","v":0},{"$f":"'[1]11 кл'!OPG15","v":0},{"$f":"'[1]11 кл'!OPH15","v":0},{"$f":"'[1]11 кл'!OPI15","v":0},{"$f":"'[1]11 кл'!OPJ15","v":0},{"$f":"'[1]11 кл'!OPK15","v":0},{"$f":"'[1]11 кл'!OPL15","v":0},{"$f":"'[1]11 кл'!OPM15","v":0},{"$f":"'[1]11 кл'!OPN15","v":0},{"$f":"'[1]11 кл'!OPO15","v":0},{"$f":"'[1]11 кл'!OPP15","v":0},{"$f":"'[1]11 кл'!OPQ15","v":0},{"$f":"'[1]11 кл'!OPR15","v":0},{"$f":"'[1]11 кл'!OPS15","v":0},{"$f":"'[1]11 кл'!OPT15","v":0},{"$f":"'[1]11 кл'!OPU15","v":0},{"$f":"'[1]11 кл'!OPV15","v":0},{"$f":"'[1]11 кл'!OPW15","v":0},{"$f":"'[1]11 кл'!OPX15","v":0},{"$f":"'[1]11 кл'!OPY15","v":0},{"$f":"'[1]11 кл'!OPZ15","v":0},{"$f":"'[1]11 кл'!OQA15","v":0},{"$f":"'[1]11 кл'!OQB15","v":0},{"$f":"'[1]11 кл'!OQC15","v":0},{"$f":"'[1]11 кл'!OQD15","v":0},{"$f":"'[1]11 кл'!OQE15","v":0},{"$f":"'[1]11 кл'!OQF15","v":0},{"$f":"'[1]11 кл'!OQG15","v":0},{"$f":"'[1]11 кл'!OQH15","v":0},{"$f":"'[1]11 кл'!OQI15","v":0},{"$f":"'[1]11 кл'!OQJ15","v":0},{"$f":"'[1]11 кл'!OQK15","v":0},{"$f":"'[1]11 кл'!OQL15","v":0},{"$f":"'[1]11 кл'!OQM15","v":0},{"$f":"'[1]11 кл'!OQN15","v":0},{"$f":"'[1]11 кл'!OQO15","v":0},{"$f":"'[1]11 кл'!OQP15","v":0},{"$f":"'[1]11 кл'!OQQ15","v":0},{"$f":"'[1]11 кл'!OQR15","v":0},{"$f":"'[1]11 кл'!OQS15","v":0},{"$f":"'[1]11 кл'!OQT15","v":0},{"$f":"'[1]11 кл'!OQU15","v":0},{"$f":"'[1]11 кл'!OQV15","v":0},{"$f":"'[1]11 кл'!OQW15","v":0},{"$f":"'[1]11 кл'!OQX15","v":0},{"$f":"'[1]11 кл'!OQY15","v":0},{"$f":"'[1]11 кл'!OQZ15","v":0},{"$f":"'[1]11 кл'!ORA15","v":0},{"$f":"'[1]11 кл'!ORB15","v":0},{"$f":"'[1]11 кл'!ORC15","v":0},{"$f":"'[1]11 кл'!ORD15","v":0},{"$f":"'[1]11 кл'!ORE15","v":0},{"$f":"'[1]11 кл'!ORF15","v":0},{"$f":"'[1]11 кл'!ORG15","v":0},{"$f":"'[1]11 кл'!ORH15","v":0},{"$f":"'[1]11 кл'!ORI15","v":0},{"$f":"'[1]11 кл'!ORJ15","v":0},{"$f":"'[1]11 кл'!ORK15","v":0},{"$f":"'[1]11 кл'!ORL15","v":0},{"$f":"'[1]11 кл'!ORM15","v":0},{"$f":"'[1]11 кл'!ORN15","v":0},{"$f":"'[1]11 кл'!ORO15","v":0},{"$f":"'[1]11 кл'!ORP15","v":0},{"$f":"'[1]11 кл'!ORQ15","v":0},{"$f":"'[1]11 кл'!ORR15","v":0},{"$f":"'[1]11 кл'!ORS15","v":0},{"$f":"'[1]11 кл'!ORT15","v":0},{"$f":"'[1]11 кл'!ORU15","v":0},{"$f":"'[1]11 кл'!ORV15","v":0},{"$f":"'[1]11 кл'!ORW15","v":0},{"$f":"'[1]11 кл'!ORX15","v":0},{"$f":"'[1]11 кл'!ORY15","v":0},{"$f":"'[1]11 кл'!ORZ15","v":0},{"$f":"'[1]11 кл'!OSA15","v":0},{"$f":"'[1]11 кл'!OSB15","v":0},{"$f":"'[1]11 кл'!OSC15","v":0},{"$f":"'[1]11 кл'!OSD15","v":0},{"$f":"'[1]11 кл'!OSE15","v":0},{"$f":"'[1]11 кл'!OSF15","v":0},{"$f":"'[1]11 кл'!OSG15","v":0},{"$f":"'[1]11 кл'!OSH15","v":0},{"$f":"'[1]11 кл'!OSI15","v":0},{"$f":"'[1]11 кл'!OSJ15","v":0},{"$f":"'[1]11 кл'!OSK15","v":0},{"$f":"'[1]11 кл'!OSL15","v":0},{"$f":"'[1]11 кл'!OSM15","v":0},{"$f":"'[1]11 кл'!OSN15","v":0},{"$f":"'[1]11 кл'!OSO15","v":0},{"$f":"'[1]11 кл'!OSP15","v":0},{"$f":"'[1]11 кл'!OSQ15","v":0},{"$f":"'[1]11 кл'!OSR15","v":0},{"$f":"'[1]11 кл'!OSS15","v":0},{"$f":"'[1]11 кл'!OST15","v":0},{"$f":"'[1]11 кл'!OSU15","v":0},{"$f":"'[1]11 кл'!OSV15","v":0},{"$f":"'[1]11 кл'!OSW15","v":0},{"$f":"'[1]11 кл'!OSX15","v":0},{"$f":"'[1]11 кл'!OSY15","v":0},{"$f":"'[1]11 кл'!OSZ15","v":0},{"$f":"'[1]11 кл'!OTA15","v":0},{"$f":"'[1]11 кл'!OTB15","v":0},{"$f":"'[1]11 кл'!OTC15","v":0},{"$f":"'[1]11 кл'!OTD15","v":0},{"$f":"'[1]11 кл'!OTE15","v":0},{"$f":"'[1]11 кл'!OTF15","v":0},{"$f":"'[1]11 кл'!OTG15","v":0},{"$f":"'[1]11 кл'!OTH15","v":0},{"$f":"'[1]11 кл'!OTI15","v":0},{"$f":"'[1]11 кл'!OTJ15","v":0},{"$f":"'[1]11 кл'!OTK15","v":0},{"$f":"'[1]11 кл'!OTL15","v":0},{"$f":"'[1]11 кл'!OTM15","v":0},{"$f":"'[1]11 кл'!OTN15","v":0},{"$f":"'[1]11 кл'!OTO15","v":0},{"$f":"'[1]11 кл'!OTP15","v":0},{"$f":"'[1]11 кл'!OTQ15","v":0},{"$f":"'[1]11 кл'!OTR15","v":0},{"$f":"'[1]11 кл'!OTS15","v":0},{"$f":"'[1]11 кл'!OTT15","v":0},{"$f":"'[1]11 кл'!OTU15","v":0},{"$f":"'[1]11 кл'!OTV15","v":0},{"$f":"'[1]11 кл'!OTW15","v":0},{"$f":"'[1]11 кл'!OTX15","v":0},{"$f":"'[1]11 кл'!OTY15","v":0},{"$f":"'[1]11 кл'!OTZ15","v":0},{"$f":"'[1]11 кл'!OUA15","v":0},{"$f":"'[1]11 кл'!OUB15","v":0},{"$f":"'[1]11 кл'!OUC15","v":0},{"$f":"'[1]11 кл'!OUD15","v":0},{"$f":"'[1]11 кл'!OUE15","v":0},{"$f":"'[1]11 кл'!OUF15","v":0},{"$f":"'[1]11 кл'!OUG15","v":0},{"$f":"'[1]11 кл'!OUH15","v":0},{"$f":"'[1]11 кл'!OUI15","v":0},{"$f":"'[1]11 кл'!OUJ15","v":0},{"$f":"'[1]11 кл'!OUK15","v":0},{"$f":"'[1]11 кл'!OUL15","v":0},{"$f":"'[1]11 кл'!OUM15","v":0},{"$f":"'[1]11 кл'!OUN15","v":0},{"$f":"'[1]11 кл'!OUO15","v":0},{"$f":"'[1]11 кл'!OUP15","v":0},{"$f":"'[1]11 кл'!OUQ15","v":0},{"$f":"'[1]11 кл'!OUR15","v":0},{"$f":"'[1]11 кл'!OUS15","v":0},{"$f":"'[1]11 кл'!OUT15","v":0},{"$f":"'[1]11 кл'!OUU15","v":0},{"$f":"'[1]11 кл'!OUV15","v":0},{"$f":"'[1]11 кл'!OUW15","v":0},{"$f":"'[1]11 кл'!OUX15","v":0},{"$f":"'[1]11 кл'!OUY15","v":0},{"$f":"'[1]11 кл'!OUZ15","v":0},{"$f":"'[1]11 кл'!OVA15","v":0},{"$f":"'[1]11 кл'!OVB15","v":0},{"$f":"'[1]11 кл'!OVC15","v":0},{"$f":"'[1]11 кл'!OVD15","v":0},{"$f":"'[1]11 кл'!OVE15","v":0},{"$f":"'[1]11 кл'!OVF15","v":0},{"$f":"'[1]11 кл'!OVG15","v":0},{"$f":"'[1]11 кл'!OVH15","v":0},{"$f":"'[1]11 кл'!OVI15","v":0},{"$f":"'[1]11 кл'!OVJ15","v":0},{"$f":"'[1]11 кл'!OVK15","v":0},{"$f":"'[1]11 кл'!OVL15","v":0},{"$f":"'[1]11 кл'!OVM15","v":0},{"$f":"'[1]11 кл'!OVN15","v":0},{"$f":"'[1]11 кл'!OVO15","v":0},{"$f":"'[1]11 кл'!OVP15","v":0},{"$f":"'[1]11 кл'!OVQ15","v":0},{"$f":"'[1]11 кл'!OVR15","v":0},{"$f":"'[1]11 кл'!OVS15","v":0},{"$f":"'[1]11 кл'!OVT15","v":0},{"$f":"'[1]11 кл'!OVU15","v":0},{"$f":"'[1]11 кл'!OVV15","v":0},{"$f":"'[1]11 кл'!OVW15","v":0},{"$f":"'[1]11 кл'!OVX15","v":0},{"$f":"'[1]11 кл'!OVY15","v":0},{"$f":"'[1]11 кл'!OVZ15","v":0},{"$f":"'[1]11 кл'!OWA15","v":0},{"$f":"'[1]11 кл'!OWB15","v":0},{"$f":"'[1]11 кл'!OWC15","v":0},{"$f":"'[1]11 кл'!OWD15","v":0},{"$f":"'[1]11 кл'!OWE15","v":0},{"$f":"'[1]11 кл'!OWF15","v":0},{"$f":"'[1]11 кл'!OWG15","v":0},{"$f":"'[1]11 кл'!OWH15","v":0},{"$f":"'[1]11 кл'!OWI15","v":0},{"$f":"'[1]11 кл'!OWJ15","v":0},{"$f":"'[1]11 кл'!OWK15","v":0},{"$f":"'[1]11 кл'!OWL15","v":0},{"$f":"'[1]11 кл'!OWM15","v":0},{"$f":"'[1]11 кл'!OWN15","v":0},{"$f":"'[1]11 кл'!OWO15","v":0},{"$f":"'[1]11 кл'!OWP15","v":0},{"$f":"'[1]11 кл'!OWQ15","v":0},{"$f":"'[1]11 кл'!OWR15","v":0},{"$f":"'[1]11 кл'!OWS15","v":0},{"$f":"'[1]11 кл'!OWT15","v":0},{"$f":"'[1]11 кл'!OWU15","v":0},{"$f":"'[1]11 кл'!OWV15","v":0},{"$f":"'[1]11 кл'!OWW15","v":0},{"$f":"'[1]11 кл'!OWX15","v":0},{"$f":"'[1]11 кл'!OWY15","v":0},{"$f":"'[1]11 кл'!OWZ15","v":0},{"$f":"'[1]11 кл'!OXA15","v":0},{"$f":"'[1]11 кл'!OXB15","v":0},{"$f":"'[1]11 кл'!OXC15","v":0},{"$f":"'[1]11 кл'!OXD15","v":0},{"$f":"'[1]11 кл'!OXE15","v":0},{"$f":"'[1]11 кл'!OXF15","v":0},{"$f":"'[1]11 кл'!OXG15","v":0},{"$f":"'[1]11 кл'!OXH15","v":0},{"$f":"'[1]11 кл'!OXI15","v":0},{"$f":"'[1]11 кл'!OXJ15","v":0},{"$f":"'[1]11 кл'!OXK15","v":0},{"$f":"'[1]11 кл'!OXL15","v":0},{"$f":"'[1]11 кл'!OXM15","v":0},{"$f":"'[1]11 кл'!OXN15","v":0},{"$f":"'[1]11 кл'!OXO15","v":0},{"$f":"'[1]11 кл'!OXP15","v":0},{"$f":"'[1]11 кл'!OXQ15","v":0},{"$f":"'[1]11 кл'!OXR15","v":0},{"$f":"'[1]11 кл'!OXS15","v":0},{"$f":"'[1]11 кл'!OXT15","v":0},{"$f":"'[1]11 кл'!OXU15","v":0},{"$f":"'[1]11 кл'!OXV15","v":0},{"$f":"'[1]11 кл'!OXW15","v":0},{"$f":"'[1]11 кл'!OXX15","v":0},{"$f":"'[1]11 кл'!OXY15","v":0},{"$f":"'[1]11 кл'!OXZ15","v":0},{"$f":"'[1]11 кл'!OYA15","v":0},{"$f":"'[1]11 кл'!OYB15","v":0},{"$f":"'[1]11 кл'!OYC15","v":0},{"$f":"'[1]11 кл'!OYD15","v":0},{"$f":"'[1]11 кл'!OYE15","v":0},{"$f":"'[1]11 кл'!OYF15","v":0},{"$f":"'[1]11 кл'!OYG15","v":0},{"$f":"'[1]11 кл'!OYH15","v":0},{"$f":"'[1]11 кл'!OYI15","v":0},{"$f":"'[1]11 кл'!OYJ15","v":0},{"$f":"'[1]11 кл'!OYK15","v":0},{"$f":"'[1]11 кл'!OYL15","v":0},{"$f":"'[1]11 кл'!OYM15","v":0},{"$f":"'[1]11 кл'!OYN15","v":0},{"$f":"'[1]11 кл'!OYO15","v":0},{"$f":"'[1]11 кл'!OYP15","v":0},{"$f":"'[1]11 кл'!OYQ15","v":0},{"$f":"'[1]11 кл'!OYR15","v":0},{"$f":"'[1]11 кл'!OYS15","v":0},{"$f":"'[1]11 кл'!OYT15","v":0},{"$f":"'[1]11 кл'!OYU15","v":0},{"$f":"'[1]11 кл'!OYV15","v":0},{"$f":"'[1]11 кл'!OYW15","v":0},{"$f":"'[1]11 кл'!OYX15","v":0},{"$f":"'[1]11 кл'!OYY15","v":0},{"$f":"'[1]11 кл'!OYZ15","v":0},{"$f":"'[1]11 кл'!OZA15","v":0},{"$f":"'[1]11 кл'!OZB15","v":0},{"$f":"'[1]11 кл'!OZC15","v":0},{"$f":"'[1]11 кл'!OZD15","v":0},{"$f":"'[1]11 кл'!OZE15","v":0},{"$f":"'[1]11 кл'!OZF15","v":0},{"$f":"'[1]11 кл'!OZG15","v":0},{"$f":"'[1]11 кл'!OZH15","v":0},{"$f":"'[1]11 кл'!OZI15","v":0},{"$f":"'[1]11 кл'!OZJ15","v":0},{"$f":"'[1]11 кл'!OZK15","v":0},{"$f":"'[1]11 кл'!OZL15","v":0},{"$f":"'[1]11 кл'!OZM15","v":0},{"$f":"'[1]11 кл'!OZN15","v":0},{"$f":"'[1]11 кл'!OZO15","v":0},{"$f":"'[1]11 кл'!OZP15","v":0},{"$f":"'[1]11 кл'!OZQ15","v":0},{"$f":"'[1]11 кл'!OZR15","v":0},{"$f":"'[1]11 кл'!OZS15","v":0},{"$f":"'[1]11 кл'!OZT15","v":0},{"$f":"'[1]11 кл'!OZU15","v":0},{"$f":"'[1]11 кл'!OZV15","v":0},{"$f":"'[1]11 кл'!OZW15","v":0},{"$f":"'[1]11 кл'!OZX15","v":0},{"$f":"'[1]11 кл'!OZY15","v":0},{"$f":"'[1]11 кл'!OZZ15","v":0},{"$f":"'[1]11 кл'!PAA15","v":0},{"$f":"'[1]11 кл'!PAB15","v":0},{"$f":"'[1]11 кл'!PAC15","v":0},{"$f":"'[1]11 кл'!PAD15","v":0},{"$f":"'[1]11 кл'!PAE15","v":0},{"$f":"'[1]11 кл'!PAF15","v":0},{"$f":"'[1]11 кл'!PAG15","v":0},{"$f":"'[1]11 кл'!PAH15","v":0},{"$f":"'[1]11 кл'!PAI15","v":0},{"$f":"'[1]11 кл'!PAJ15","v":0},{"$f":"'[1]11 кл'!PAK15","v":0},{"$f":"'[1]11 кл'!PAL15","v":0},{"$f":"'[1]11 кл'!PAM15","v":0},{"$f":"'[1]11 кл'!PAN15","v":0},{"$f":"'[1]11 кл'!PAO15","v":0},{"$f":"'[1]11 кл'!PAP15","v":0},{"$f":"'[1]11 кл'!PAQ15","v":0},{"$f":"'[1]11 кл'!PAR15","v":0},{"$f":"'[1]11 кл'!PAS15","v":0},{"$f":"'[1]11 кл'!PAT15","v":0},{"$f":"'[1]11 кл'!PAU15","v":0},{"$f":"'[1]11 кл'!PAV15","v":0},{"$f":"'[1]11 кл'!PAW15","v":0},{"$f":"'[1]11 кл'!PAX15","v":0},{"$f":"'[1]11 кл'!PAY15","v":0},{"$f":"'[1]11 кл'!PAZ15","v":0},{"$f":"'[1]11 кл'!PBA15","v":0},{"$f":"'[1]11 кл'!PBB15","v":0},{"$f":"'[1]11 кл'!PBC15","v":0},{"$f":"'[1]11 кл'!PBD15","v":0},{"$f":"'[1]11 кл'!PBE15","v":0},{"$f":"'[1]11 кл'!PBF15","v":0},{"$f":"'[1]11 кл'!PBG15","v":0},{"$f":"'[1]11 кл'!PBH15","v":0},{"$f":"'[1]11 кл'!PBI15","v":0},{"$f":"'[1]11 кл'!PBJ15","v":0},{"$f":"'[1]11 кл'!PBK15","v":0},{"$f":"'[1]11 кл'!PBL15","v":0},{"$f":"'[1]11 кл'!PBM15","v":0},{"$f":"'[1]11 кл'!PBN15","v":0},{"$f":"'[1]11 кл'!PBO15","v":0},{"$f":"'[1]11 кл'!PBP15","v":0},{"$f":"'[1]11 кл'!PBQ15","v":0},{"$f":"'[1]11 кл'!PBR15","v":0},{"$f":"'[1]11 кл'!PBS15","v":0},{"$f":"'[1]11 кл'!PBT15","v":0},{"$f":"'[1]11 кл'!PBU15","v":0},{"$f":"'[1]11 кл'!PBV15","v":0},{"$f":"'[1]11 кл'!PBW15","v":0},{"$f":"'[1]11 кл'!PBX15","v":0},{"$f":"'[1]11 кл'!PBY15","v":0},{"$f":"'[1]11 кл'!PBZ15","v":0},{"$f":"'[1]11 кл'!PCA15","v":0},{"$f":"'[1]11 кл'!PCB15","v":0},{"$f":"'[1]11 кл'!PCC15","v":0},{"$f":"'[1]11 кл'!PCD15","v":0},{"$f":"'[1]11 кл'!PCE15","v":0},{"$f":"'[1]11 кл'!PCF15","v":0},{"$f":"'[1]11 кл'!PCG15","v":0},{"$f":"'[1]11 кл'!PCH15","v":0},{"$f":"'[1]11 кл'!PCI15","v":0},{"$f":"'[1]11 кл'!PCJ15","v":0},{"$f":"'[1]11 кл'!PCK15","v":0},{"$f":"'[1]11 кл'!PCL15","v":0},{"$f":"'[1]11 кл'!PCM15","v":0},{"$f":"'[1]11 кл'!PCN15","v":0},{"$f":"'[1]11 кл'!PCO15","v":0},{"$f":"'[1]11 кл'!PCP15","v":0},{"$f":"'[1]11 кл'!PCQ15","v":0},{"$f":"'[1]11 кл'!PCR15","v":0},{"$f":"'[1]11 кл'!PCS15","v":0},{"$f":"'[1]11 кл'!PCT15","v":0},{"$f":"'[1]11 кл'!PCU15","v":0},{"$f":"'[1]11 кл'!PCV15","v":0},{"$f":"'[1]11 кл'!PCW15","v":0},{"$f":"'[1]11 кл'!PCX15","v":0},{"$f":"'[1]11 кл'!PCY15","v":0},{"$f":"'[1]11 кл'!PCZ15","v":0},{"$f":"'[1]11 кл'!PDA15","v":0},{"$f":"'[1]11 кл'!PDB15","v":0},{"$f":"'[1]11 кл'!PDC15","v":0},{"$f":"'[1]11 кл'!PDD15","v":0},{"$f":"'[1]11 кл'!PDE15","v":0},{"$f":"'[1]11 кл'!PDF15","v":0},{"$f":"'[1]11 кл'!PDG15","v":0},{"$f":"'[1]11 кл'!PDH15","v":0},{"$f":"'[1]11 кл'!PDI15","v":0},{"$f":"'[1]11 кл'!PDJ15","v":0},{"$f":"'[1]11 кл'!PDK15","v":0},{"$f":"'[1]11 кл'!PDL15","v":0},{"$f":"'[1]11 кл'!PDM15","v":0},{"$f":"'[1]11 кл'!PDN15","v":0},{"$f":"'[1]11 кл'!PDO15","v":0},{"$f":"'[1]11 кл'!PDP15","v":0},{"$f":"'[1]11 кл'!PDQ15","v":0},{"$f":"'[1]11 кл'!PDR15","v":0},{"$f":"'[1]11 кл'!PDS15","v":0},{"$f":"'[1]11 кл'!PDT15","v":0},{"$f":"'[1]11 кл'!PDU15","v":0},{"$f":"'[1]11 кл'!PDV15","v":0},{"$f":"'[1]11 кл'!PDW15","v":0},{"$f":"'[1]11 кл'!PDX15","v":0},{"$f":"'[1]11 кл'!PDY15","v":0},{"$f":"'[1]11 кл'!PDZ15","v":0},{"$f":"'[1]11 кл'!PEA15","v":0},{"$f":"'[1]11 кл'!PEB15","v":0},{"$f":"'[1]11 кл'!PEC15","v":0},{"$f":"'[1]11 кл'!PED15","v":0},{"$f":"'[1]11 кл'!PEE15","v":0},{"$f":"'[1]11 кл'!PEF15","v":0},{"$f":"'[1]11 кл'!PEG15","v":0},{"$f":"'[1]11 кл'!PEH15","v":0},{"$f":"'[1]11 кл'!PEI15","v":0},{"$f":"'[1]11 кл'!PEJ15","v":0},{"$f":"'[1]11 кл'!PEK15","v":0},{"$f":"'[1]11 кл'!PEL15","v":0},{"$f":"'[1]11 кл'!PEM15","v":0},{"$f":"'[1]11 кл'!PEN15","v":0},{"$f":"'[1]11 кл'!PEO15","v":0},{"$f":"'[1]11 кл'!PEP15","v":0},{"$f":"'[1]11 кл'!PEQ15","v":0},{"$f":"'[1]11 кл'!PER15","v":0},{"$f":"'[1]11 кл'!PES15","v":0},{"$f":"'[1]11 кл'!PET15","v":0},{"$f":"'[1]11 кл'!PEU15","v":0},{"$f":"'[1]11 кл'!PEV15","v":0},{"$f":"'[1]11 кл'!PEW15","v":0},{"$f":"'[1]11 кл'!PEX15","v":0},{"$f":"'[1]11 кл'!PEY15","v":0},{"$f":"'[1]11 кл'!PEZ15","v":0},{"$f":"'[1]11 кл'!PFA15","v":0},{"$f":"'[1]11 кл'!PFB15","v":0},{"$f":"'[1]11 кл'!PFC15","v":0},{"$f":"'[1]11 кл'!PFD15","v":0},{"$f":"'[1]11 кл'!PFE15","v":0},{"$f":"'[1]11 кл'!PFF15","v":0},{"$f":"'[1]11 кл'!PFG15","v":0},{"$f":"'[1]11 кл'!PFH15","v":0},{"$f":"'[1]11 кл'!PFI15","v":0},{"$f":"'[1]11 кл'!PFJ15","v":0},{"$f":"'[1]11 кл'!PFK15","v":0},{"$f":"'[1]11 кл'!PFL15","v":0},{"$f":"'[1]11 кл'!PFM15","v":0},{"$f":"'[1]11 кл'!PFN15","v":0},{"$f":"'[1]11 кл'!PFO15","v":0},{"$f":"'[1]11 кл'!PFP15","v":0},{"$f":"'[1]11 кл'!PFQ15","v":0},{"$f":"'[1]11 кл'!PFR15","v":0},{"$f":"'[1]11 кл'!PFS15","v":0},{"$f":"'[1]11 кл'!PFT15","v":0},{"$f":"'[1]11 кл'!PFU15","v":0},{"$f":"'[1]11 кл'!PFV15","v":0},{"$f":"'[1]11 кл'!PFW15","v":0},{"$f":"'[1]11 кл'!PFX15","v":0},{"$f":"'[1]11 кл'!PFY15","v":0},{"$f":"'[1]11 кл'!PFZ15","v":0},{"$f":"'[1]11 кл'!PGA15","v":0},{"$f":"'[1]11 кл'!PGB15","v":0},{"$f":"'[1]11 кл'!PGC15","v":0},{"$f":"'[1]11 кл'!PGD15","v":0},{"$f":"'[1]11 кл'!PGE15","v":0},{"$f":"'[1]11 кл'!PGF15","v":0},{"$f":"'[1]11 кл'!PGG15","v":0},{"$f":"'[1]11 кл'!PGH15","v":0},{"$f":"'[1]11 кл'!PGI15","v":0},{"$f":"'[1]11 кл'!PGJ15","v":0},{"$f":"'[1]11 кл'!PGK15","v":0},{"$f":"'[1]11 кл'!PGL15","v":0},{"$f":"'[1]11 кл'!PGM15","v":0},{"$f":"'[1]11 кл'!PGN15","v":0},{"$f":"'[1]11 кл'!PGO15","v":0},{"$f":"'[1]11 кл'!PGP15","v":0},{"$f":"'[1]11 кл'!PGQ15","v":0},{"$f":"'[1]11 кл'!PGR15","v":0},{"$f":"'[1]11 кл'!PGS15","v":0},{"$f":"'[1]11 кл'!PGT15","v":0},{"$f":"'[1]11 кл'!PGU15","v":0},{"$f":"'[1]11 кл'!PGV15","v":0},{"$f":"'[1]11 кл'!PGW15","v":0},{"$f":"'[1]11 кл'!PGX15","v":0},{"$f":"'[1]11 кл'!PGY15","v":0},{"$f":"'[1]11 кл'!PGZ15","v":0},{"$f":"'[1]11 кл'!PHA15","v":0},{"$f":"'[1]11 кл'!PHB15","v":0},{"$f":"'[1]11 кл'!PHC15","v":0},{"$f":"'[1]11 кл'!PHD15","v":0},{"$f":"'[1]11 кл'!PHE15","v":0},{"$f":"'[1]11 кл'!PHF15","v":0},{"$f":"'[1]11 кл'!PHG15","v":0},{"$f":"'[1]11 кл'!PHH15","v":0},{"$f":"'[1]11 кл'!PHI15","v":0},{"$f":"'[1]11 кл'!PHJ15","v":0},{"$f":"'[1]11 кл'!PHK15","v":0},{"$f":"'[1]11 кл'!PHL15","v":0},{"$f":"'[1]11 кл'!PHM15","v":0},{"$f":"'[1]11 кл'!PHN15","v":0},{"$f":"'[1]11 кл'!PHO15","v":0},{"$f":"'[1]11 кл'!PHP15","v":0},{"$f":"'[1]11 кл'!PHQ15","v":0},{"$f":"'[1]11 кл'!PHR15","v":0},{"$f":"'[1]11 кл'!PHS15","v":0},{"$f":"'[1]11 кл'!PHT15","v":0},{"$f":"'[1]11 кл'!PHU15","v":0},{"$f":"'[1]11 кл'!PHV15","v":0},{"$f":"'[1]11 кл'!PHW15","v":0},{"$f":"'[1]11 кл'!PHX15","v":0},{"$f":"'[1]11 кл'!PHY15","v":0},{"$f":"'[1]11 кл'!PHZ15","v":0},{"$f":"'[1]11 кл'!PIA15","v":0},{"$f":"'[1]11 кл'!PIB15","v":0},{"$f":"'[1]11 кл'!PIC15","v":0},{"$f":"'[1]11 кл'!PID15","v":0},{"$f":"'[1]11 кл'!PIE15","v":0},{"$f":"'[1]11 кл'!PIF15","v":0},{"$f":"'[1]11 кл'!PIG15","v":0},{"$f":"'[1]11 кл'!PIH15","v":0},{"$f":"'[1]11 кл'!PII15","v":0},{"$f":"'[1]11 кл'!PIJ15","v":0},{"$f":"'[1]11 кл'!PIK15","v":0},{"$f":"'[1]11 кл'!PIL15","v":0},{"$f":"'[1]11 кл'!PIM15","v":0},{"$f":"'[1]11 кл'!PIN15","v":0},{"$f":"'[1]11 кл'!PIO15","v":0},{"$f":"'[1]11 кл'!PIP15","v":0},{"$f":"'[1]11 кл'!PIQ15","v":0},{"$f":"'[1]11 кл'!PIR15","v":0},{"$f":"'[1]11 кл'!PIS15","v":0},{"$f":"'[1]11 кл'!PIT15","v":0},{"$f":"'[1]11 кл'!PIU15","v":0},{"$f":"'[1]11 кл'!PIV15","v":0},{"$f":"'[1]11 кл'!PIW15","v":0},{"$f":"'[1]11 кл'!PIX15","v":0},{"$f":"'[1]11 кл'!PIY15","v":0},{"$f":"'[1]11 кл'!PIZ15","v":0},{"$f":"'[1]11 кл'!PJA15","v":0},{"$f":"'[1]11 кл'!PJB15","v":0},{"$f":"'[1]11 кл'!PJC15","v":0},{"$f":"'[1]11 кл'!PJD15","v":0},{"$f":"'[1]11 кл'!PJE15","v":0},{"$f":"'[1]11 кл'!PJF15","v":0},{"$f":"'[1]11 кл'!PJG15","v":0},{"$f":"'[1]11 кл'!PJH15","v":0},{"$f":"'[1]11 кл'!PJI15","v":0},{"$f":"'[1]11 кл'!PJJ15","v":0},{"$f":"'[1]11 кл'!PJK15","v":0},{"$f":"'[1]11 кл'!PJL15","v":0},{"$f":"'[1]11 кл'!PJM15","v":0},{"$f":"'[1]11 кл'!PJN15","v":0},{"$f":"'[1]11 кл'!PJO15","v":0},{"$f":"'[1]11 кл'!PJP15","v":0},{"$f":"'[1]11 кл'!PJQ15","v":0},{"$f":"'[1]11 кл'!PJR15","v":0},{"$f":"'[1]11 кл'!PJS15","v":0},{"$f":"'[1]11 кл'!PJT15","v":0},{"$f":"'[1]11 кл'!PJU15","v":0},{"$f":"'[1]11 кл'!PJV15","v":0},{"$f":"'[1]11 кл'!PJW15","v":0},{"$f":"'[1]11 кл'!PJX15","v":0},{"$f":"'[1]11 кл'!PJY15","v":0},{"$f":"'[1]11 кл'!PJZ15","v":0},{"$f":"'[1]11 кл'!PKA15","v":0},{"$f":"'[1]11 кл'!PKB15","v":0},{"$f":"'[1]11 кл'!PKC15","v":0},{"$f":"'[1]11 кл'!PKD15","v":0},{"$f":"'[1]11 кл'!PKE15","v":0},{"$f":"'[1]11 кл'!PKF15","v":0},{"$f":"'[1]11 кл'!PKG15","v":0},{"$f":"'[1]11 кл'!PKH15","v":0},{"$f":"'[1]11 кл'!PKI15","v":0},{"$f":"'[1]11 кл'!PKJ15","v":0},{"$f":"'[1]11 кл'!PKK15","v":0},{"$f":"'[1]11 кл'!PKL15","v":0},{"$f":"'[1]11 кл'!PKM15","v":0},{"$f":"'[1]11 кл'!PKN15","v":0},{"$f":"'[1]11 кл'!PKO15","v":0},{"$f":"'[1]11 кл'!PKP15","v":0},{"$f":"'[1]11 кл'!PKQ15","v":0},{"$f":"'[1]11 кл'!PKR15","v":0},{"$f":"'[1]11 кл'!PKS15","v":0},{"$f":"'[1]11 кл'!PKT15","v":0},{"$f":"'[1]11 кл'!PKU15","v":0},{"$f":"'[1]11 кл'!PKV15","v":0},{"$f":"'[1]11 кл'!PKW15","v":0},{"$f":"'[1]11 кл'!PKX15","v":0},{"$f":"'[1]11 кл'!PKY15","v":0},{"$f":"'[1]11 кл'!PKZ15","v":0},{"$f":"'[1]11 кл'!PLA15","v":0},{"$f":"'[1]11 кл'!PLB15","v":0},{"$f":"'[1]11 кл'!PLC15","v":0},{"$f":"'[1]11 кл'!PLD15","v":0},{"$f":"'[1]11 кл'!PLE15","v":0},{"$f":"'[1]11 кл'!PLF15","v":0},{"$f":"'[1]11 кл'!PLG15","v":0},{"$f":"'[1]11 кл'!PLH15","v":0},{"$f":"'[1]11 кл'!PLI15","v":0},{"$f":"'[1]11 кл'!PLJ15","v":0},{"$f":"'[1]11 кл'!PLK15","v":0},{"$f":"'[1]11 кл'!PLL15","v":0},{"$f":"'[1]11 кл'!PLM15","v":0},{"$f":"'[1]11 кл'!PLN15","v":0},{"$f":"'[1]11 кл'!PLO15","v":0},{"$f":"'[1]11 кл'!PLP15","v":0},{"$f":"'[1]11 кл'!PLQ15","v":0},{"$f":"'[1]11 кл'!PLR15","v":0},{"$f":"'[1]11 кл'!PLS15","v":0},{"$f":"'[1]11 кл'!PLT15","v":0},{"$f":"'[1]11 кл'!PLU15","v":0},{"$f":"'[1]11 кл'!PLV15","v":0},{"$f":"'[1]11 кл'!PLW15","v":0},{"$f":"'[1]11 кл'!PLX15","v":0},{"$f":"'[1]11 кл'!PLY15","v":0},{"$f":"'[1]11 кл'!PLZ15","v":0},{"$f":"'[1]11 кл'!PMA15","v":0},{"$f":"'[1]11 кл'!PMB15","v":0},{"$f":"'[1]11 кл'!PMC15","v":0},{"$f":"'[1]11 кл'!PMD15","v":0},{"$f":"'[1]11 кл'!PME15","v":0},{"$f":"'[1]11 кл'!PMF15","v":0},{"$f":"'[1]11 кл'!PMG15","v":0},{"$f":"'[1]11 кл'!PMH15","v":0},{"$f":"'[1]11 кл'!PMI15","v":0},{"$f":"'[1]11 кл'!PMJ15","v":0},{"$f":"'[1]11 кл'!PMK15","v":0},{"$f":"'[1]11 кл'!PML15","v":0},{"$f":"'[1]11 кл'!PMM15","v":0},{"$f":"'[1]11 кл'!PMN15","v":0},{"$f":"'[1]11 кл'!PMO15","v":0},{"$f":"'[1]11 кл'!PMP15","v":0},{"$f":"'[1]11 кл'!PMQ15","v":0},{"$f":"'[1]11 кл'!PMR15","v":0},{"$f":"'[1]11 кл'!PMS15","v":0},{"$f":"'[1]11 кл'!PMT15","v":0},{"$f":"'[1]11 кл'!PMU15","v":0},{"$f":"'[1]11 кл'!PMV15","v":0},{"$f":"'[1]11 кл'!PMW15","v":0},{"$f":"'[1]11 кл'!PMX15","v":0},{"$f":"'[1]11 кл'!PMY15","v":0},{"$f":"'[1]11 кл'!PMZ15","v":0},{"$f":"'[1]11 кл'!PNA15","v":0},{"$f":"'[1]11 кл'!PNB15","v":0},{"$f":"'[1]11 кл'!PNC15","v":0},{"$f":"'[1]11 кл'!PND15","v":0},{"$f":"'[1]11 кл'!PNE15","v":0},{"$f":"'[1]11 кл'!PNF15","v":0},{"$f":"'[1]11 кл'!PNG15","v":0},{"$f":"'[1]11 кл'!PNH15","v":0},{"$f":"'[1]11 кл'!PNI15","v":0},{"$f":"'[1]11 кл'!PNJ15","v":0},{"$f":"'[1]11 кл'!PNK15","v":0},{"$f":"'[1]11 кл'!PNL15","v":0},{"$f":"'[1]11 кл'!PNM15","v":0},{"$f":"'[1]11 кл'!PNN15","v":0},{"$f":"'[1]11 кл'!PNO15","v":0},{"$f":"'[1]11 кл'!PNP15","v":0},{"$f":"'[1]11 кл'!PNQ15","v":0},{"$f":"'[1]11 кл'!PNR15","v":0},{"$f":"'[1]11 кл'!PNS15","v":0},{"$f":"'[1]11 кл'!PNT15","v":0},{"$f":"'[1]11 кл'!PNU15","v":0},{"$f":"'[1]11 кл'!PNV15","v":0},{"$f":"'[1]11 кл'!PNW15","v":0},{"$f":"'[1]11 кл'!PNX15","v":0},{"$f":"'[1]11 кл'!PNY15","v":0},{"$f":"'[1]11 кл'!PNZ15","v":0},{"$f":"'[1]11 кл'!POA15","v":0},{"$f":"'[1]11 кл'!POB15","v":0},{"$f":"'[1]11 кл'!POC15","v":0},{"$f":"'[1]11 кл'!POD15","v":0},{"$f":"'[1]11 кл'!POE15","v":0},{"$f":"'[1]11 кл'!POF15","v":0},{"$f":"'[1]11 кл'!POG15","v":0},{"$f":"'[1]11 кл'!POH15","v":0},{"$f":"'[1]11 кл'!POI15","v":0},{"$f":"'[1]11 кл'!POJ15","v":0},{"$f":"'[1]11 кл'!POK15","v":0},{"$f":"'[1]11 кл'!POL15","v":0},{"$f":"'[1]11 кл'!POM15","v":0},{"$f":"'[1]11 кл'!PON15","v":0},{"$f":"'[1]11 кл'!POO15","v":0},{"$f":"'[1]11 кл'!POP15","v":0},{"$f":"'[1]11 кл'!POQ15","v":0},{"$f":"'[1]11 кл'!POR15","v":0},{"$f":"'[1]11 кл'!POS15","v":0},{"$f":"'[1]11 кл'!POT15","v":0},{"$f":"'[1]11 кл'!POU15","v":0},{"$f":"'[1]11 кл'!POV15","v":0},{"$f":"'[1]11 кл'!POW15","v":0},{"$f":"'[1]11 кл'!POX15","v":0},{"$f":"'[1]11 кл'!POY15","v":0},{"$f":"'[1]11 кл'!POZ15","v":0},{"$f":"'[1]11 кл'!PPA15","v":0},{"$f":"'[1]11 кл'!PPB15","v":0},{"$f":"'[1]11 кл'!PPC15","v":0},{"$f":"'[1]11 кл'!PPD15","v":0},{"$f":"'[1]11 кл'!PPE15","v":0},{"$f":"'[1]11 кл'!PPF15","v":0},{"$f":"'[1]11 кл'!PPG15","v":0},{"$f":"'[1]11 кл'!PPH15","v":0},{"$f":"'[1]11 кл'!PPI15","v":0},{"$f":"'[1]11 кл'!PPJ15","v":0},{"$f":"'[1]11 кл'!PPK15","v":0},{"$f":"'[1]11 кл'!PPL15","v":0},{"$f":"'[1]11 кл'!PPM15","v":0},{"$f":"'[1]11 кл'!PPN15","v":0},{"$f":"'[1]11 кл'!PPO15","v":0},{"$f":"'[1]11 кл'!PPP15","v":0},{"$f":"'[1]11 кл'!PPQ15","v":0},{"$f":"'[1]11 кл'!PPR15","v":0},{"$f":"'[1]11 кл'!PPS15","v":0},{"$f":"'[1]11 кл'!PPT15","v":0},{"$f":"'[1]11 кл'!PPU15","v":0},{"$f":"'[1]11 кл'!PPV15","v":0},{"$f":"'[1]11 кл'!PPW15","v":0},{"$f":"'[1]11 кл'!PPX15","v":0},{"$f":"'[1]11 кл'!PPY15","v":0},{"$f":"'[1]11 кл'!PPZ15","v":0},{"$f":"'[1]11 кл'!PQA15","v":0},{"$f":"'[1]11 кл'!PQB15","v":0},{"$f":"'[1]11 кл'!PQC15","v":0},{"$f":"'[1]11 кл'!PQD15","v":0},{"$f":"'[1]11 кл'!PQE15","v":0},{"$f":"'[1]11 кл'!PQF15","v":0},{"$f":"'[1]11 кл'!PQG15","v":0},{"$f":"'[1]11 кл'!PQH15","v":0},{"$f":"'[1]11 кл'!PQI15","v":0},{"$f":"'[1]11 кл'!PQJ15","v":0},{"$f":"'[1]11 кл'!PQK15","v":0},{"$f":"'[1]11 кл'!PQL15","v":0},{"$f":"'[1]11 кл'!PQM15","v":0},{"$f":"'[1]11 кл'!PQN15","v":0},{"$f":"'[1]11 кл'!PQO15","v":0},{"$f":"'[1]11 кл'!PQP15","v":0},{"$f":"'[1]11 кл'!PQQ15","v":0},{"$f":"'[1]11 кл'!PQR15","v":0},{"$f":"'[1]11 кл'!PQS15","v":0},{"$f":"'[1]11 кл'!PQT15","v":0},{"$f":"'[1]11 кл'!PQU15","v":0},{"$f":"'[1]11 кл'!PQV15","v":0},{"$f":"'[1]11 кл'!PQW15","v":0},{"$f":"'[1]11 кл'!PQX15","v":0},{"$f":"'[1]11 кл'!PQY15","v":0},{"$f":"'[1]11 кл'!PQZ15","v":0},{"$f":"'[1]11 кл'!PRA15","v":0},{"$f":"'[1]11 кл'!PRB15","v":0},{"$f":"'[1]11 кл'!PRC15","v":0},{"$f":"'[1]11 кл'!PRD15","v":0},{"$f":"'[1]11 кл'!PRE15","v":0},{"$f":"'[1]11 кл'!PRF15","v":0},{"$f":"'[1]11 кл'!PRG15","v":0},{"$f":"'[1]11 кл'!PRH15","v":0},{"$f":"'[1]11 кл'!PRI15","v":0},{"$f":"'[1]11 кл'!PRJ15","v":0},{"$f":"'[1]11 кл'!PRK15","v":0},{"$f":"'[1]11 кл'!PRL15","v":0},{"$f":"'[1]11 кл'!PRM15","v":0},{"$f":"'[1]11 кл'!PRN15","v":0},{"$f":"'[1]11 кл'!PRO15","v":0},{"$f":"'[1]11 кл'!PRP15","v":0},{"$f":"'[1]11 кл'!PRQ15","v":0},{"$f":"'[1]11 кл'!PRR15","v":0},{"$f":"'[1]11 кл'!PRS15","v":0},{"$f":"'[1]11 кл'!PRT15","v":0},{"$f":"'[1]11 кл'!PRU15","v":0},{"$f":"'[1]11 кл'!PRV15","v":0},{"$f":"'[1]11 кл'!PRW15","v":0},{"$f":"'[1]11 кл'!PRX15","v":0},{"$f":"'[1]11 кл'!PRY15","v":0},{"$f":"'[1]11 кл'!PRZ15","v":0},{"$f":"'[1]11 кл'!PSA15","v":0},{"$f":"'[1]11 кл'!PSB15","v":0},{"$f":"'[1]11 кл'!PSC15","v":0},{"$f":"'[1]11 кл'!PSD15","v":0},{"$f":"'[1]11 кл'!PSE15","v":0},{"$f":"'[1]11 кл'!PSF15","v":0},{"$f":"'[1]11 кл'!PSG15","v":0},{"$f":"'[1]11 кл'!PSH15","v":0},{"$f":"'[1]11 кл'!PSI15","v":0},{"$f":"'[1]11 кл'!PSJ15","v":0},{"$f":"'[1]11 кл'!PSK15","v":0},{"$f":"'[1]11 кл'!PSL15","v":0},{"$f":"'[1]11 кл'!PSM15","v":0},{"$f":"'[1]11 кл'!PSN15","v":0},{"$f":"'[1]11 кл'!PSO15","v":0},{"$f":"'[1]11 кл'!PSP15","v":0},{"$f":"'[1]11 кл'!PSQ15","v":0},{"$f":"'[1]11 кл'!PSR15","v":0},{"$f":"'[1]11 кл'!PSS15","v":0},{"$f":"'[1]11 кл'!PST15","v":0},{"$f":"'[1]11 кл'!PSU15","v":0},{"$f":"'[1]11 кл'!PSV15","v":0},{"$f":"'[1]11 кл'!PSW15","v":0},{"$f":"'[1]11 кл'!PSX15","v":0},{"$f":"'[1]11 кл'!PSY15","v":0},{"$f":"'[1]11 кл'!PSZ15","v":0},{"$f":"'[1]11 кл'!PTA15","v":0},{"$f":"'[1]11 кл'!PTB15","v":0},{"$f":"'[1]11 кл'!PTC15","v":0},{"$f":"'[1]11 кл'!PTD15","v":0},{"$f":"'[1]11 кл'!PTE15","v":0},{"$f":"'[1]11 кл'!PTF15","v":0},{"$f":"'[1]11 кл'!PTG15","v":0},{"$f":"'[1]11 кл'!PTH15","v":0},{"$f":"'[1]11 кл'!PTI15","v":0},{"$f":"'[1]11 кл'!PTJ15","v":0},{"$f":"'[1]11 кл'!PTK15","v":0},{"$f":"'[1]11 кл'!PTL15","v":0},{"$f":"'[1]11 кл'!PTM15","v":0},{"$f":"'[1]11 кл'!PTN15","v":0},{"$f":"'[1]11 кл'!PTO15","v":0},{"$f":"'[1]11 кл'!PTP15","v":0},{"$f":"'[1]11 кл'!PTQ15","v":0},{"$f":"'[1]11 кл'!PTR15","v":0},{"$f":"'[1]11 кл'!PTS15","v":0},{"$f":"'[1]11 кл'!PTT15","v":0},{"$f":"'[1]11 кл'!PTU15","v":0},{"$f":"'[1]11 кл'!PTV15","v":0},{"$f":"'[1]11 кл'!PTW15","v":0},{"$f":"'[1]11 кл'!PTX15","v":0},{"$f":"'[1]11 кл'!PTY15","v":0},{"$f":"'[1]11 кл'!PTZ15","v":0},{"$f":"'[1]11 кл'!PUA15","v":0},{"$f":"'[1]11 кл'!PUB15","v":0},{"$f":"'[1]11 кл'!PUC15","v":0},{"$f":"'[1]11 кл'!PUD15","v":0},{"$f":"'[1]11 кл'!PUE15","v":0},{"$f":"'[1]11 кл'!PUF15","v":0},{"$f":"'[1]11 кл'!PUG15","v":0},{"$f":"'[1]11 кл'!PUH15","v":0},{"$f":"'[1]11 кл'!PUI15","v":0},{"$f":"'[1]11 кл'!PUJ15","v":0},{"$f":"'[1]11 кл'!PUK15","v":0},{"$f":"'[1]11 кл'!PUL15","v":0},{"$f":"'[1]11 кл'!PUM15","v":0},{"$f":"'[1]11 кл'!PUN15","v":0},{"$f":"'[1]11 кл'!PUO15","v":0},{"$f":"'[1]11 кл'!PUP15","v":0},{"$f":"'[1]11 кл'!PUQ15","v":0},{"$f":"'[1]11 кл'!PUR15","v":0},{"$f":"'[1]11 кл'!PUS15","v":0},{"$f":"'[1]11 кл'!PUT15","v":0},{"$f":"'[1]11 кл'!PUU15","v":0},{"$f":"'[1]11 кл'!PUV15","v":0},{"$f":"'[1]11 кл'!PUW15","v":0},{"$f":"'[1]11 кл'!PUX15","v":0},{"$f":"'[1]11 кл'!PUY15","v":0},{"$f":"'[1]11 кл'!PUZ15","v":0},{"$f":"'[1]11 кл'!PVA15","v":0},{"$f":"'[1]11 кл'!PVB15","v":0},{"$f":"'[1]11 кл'!PVC15","v":0},{"$f":"'[1]11 кл'!PVD15","v":0},{"$f":"'[1]11 кл'!PVE15","v":0},{"$f":"'[1]11 кл'!PVF15","v":0},{"$f":"'[1]11 кл'!PVG15","v":0},{"$f":"'[1]11 кл'!PVH15","v":0},{"$f":"'[1]11 кл'!PVI15","v":0},{"$f":"'[1]11 кл'!PVJ15","v":0},{"$f":"'[1]11 кл'!PVK15","v":0},{"$f":"'[1]11 кл'!PVL15","v":0},{"$f":"'[1]11 кл'!PVM15","v":0},{"$f":"'[1]11 кл'!PVN15","v":0},{"$f":"'[1]11 кл'!PVO15","v":0},{"$f":"'[1]11 кл'!PVP15","v":0},{"$f":"'[1]11 кл'!PVQ15","v":0},{"$f":"'[1]11 кл'!PVR15","v":0},{"$f":"'[1]11 кл'!PVS15","v":0},{"$f":"'[1]11 кл'!PVT15","v":0},{"$f":"'[1]11 кл'!PVU15","v":0},{"$f":"'[1]11 кл'!PVV15","v":0},{"$f":"'[1]11 кл'!PVW15","v":0},{"$f":"'[1]11 кл'!PVX15","v":0},{"$f":"'[1]11 кл'!PVY15","v":0},{"$f":"'[1]11 кл'!PVZ15","v":0},{"$f":"'[1]11 кл'!PWA15","v":0},{"$f":"'[1]11 кл'!PWB15","v":0},{"$f":"'[1]11 кл'!PWC15","v":0},{"$f":"'[1]11 кл'!PWD15","v":0},{"$f":"'[1]11 кл'!PWE15","v":0},{"$f":"'[1]11 кл'!PWF15","v":0},{"$f":"'[1]11 кл'!PWG15","v":0},{"$f":"'[1]11 кл'!PWH15","v":0},{"$f":"'[1]11 кл'!PWI15","v":0},{"$f":"'[1]11 кл'!PWJ15","v":0},{"$f":"'[1]11 кл'!PWK15","v":0},{"$f":"'[1]11 кл'!PWL15","v":0},{"$f":"'[1]11 кл'!PWM15","v":0},{"$f":"'[1]11 кл'!PWN15","v":0},{"$f":"'[1]11 кл'!PWO15","v":0},{"$f":"'[1]11 кл'!PWP15","v":0},{"$f":"'[1]11 кл'!PWQ15","v":0},{"$f":"'[1]11 кл'!PWR15","v":0},{"$f":"'[1]11 кл'!PWS15","v":0},{"$f":"'[1]11 кл'!PWT15","v":0},{"$f":"'[1]11 кл'!PWU15","v":0},{"$f":"'[1]11 кл'!PWV15","v":0},{"$f":"'[1]11 кл'!PWW15","v":0},{"$f":"'[1]11 кл'!PWX15","v":0},{"$f":"'[1]11 кл'!PWY15","v":0},{"$f":"'[1]11 кл'!PWZ15","v":0},{"$f":"'[1]11 кл'!PXA15","v":0},{"$f":"'[1]11 кл'!PXB15","v":0},{"$f":"'[1]11 кл'!PXC15","v":0},{"$f":"'[1]11 кл'!PXD15","v":0},{"$f":"'[1]11 кл'!PXE15","v":0},{"$f":"'[1]11 кл'!PXF15","v":0},{"$f":"'[1]11 кл'!PXG15","v":0},{"$f":"'[1]11 кл'!PXH15","v":0},{"$f":"'[1]11 кл'!PXI15","v":0},{"$f":"'[1]11 кл'!PXJ15","v":0},{"$f":"'[1]11 кл'!PXK15","v":0},{"$f":"'[1]11 кл'!PXL15","v":0},{"$f":"'[1]11 кл'!PXM15","v":0},{"$f":"'[1]11 кл'!PXN15","v":0},{"$f":"'[1]11 кл'!PXO15","v":0},{"$f":"'[1]11 кл'!PXP15","v":0},{"$f":"'[1]11 кл'!PXQ15","v":0},{"$f":"'[1]11 кл'!PXR15","v":0},{"$f":"'[1]11 кл'!PXS15","v":0},{"$f":"'[1]11 кл'!PXT15","v":0},{"$f":"'[1]11 кл'!PXU15","v":0},{"$f":"'[1]11 кл'!PXV15","v":0},{"$f":"'[1]11 кл'!PXW15","v":0},{"$f":"'[1]11 кл'!PXX15","v":0},{"$f":"'[1]11 кл'!PXY15","v":0},{"$f":"'[1]11 кл'!PXZ15","v":0},{"$f":"'[1]11 кл'!PYA15","v":0},{"$f":"'[1]11 кл'!PYB15","v":0},{"$f":"'[1]11 кл'!PYC15","v":0},{"$f":"'[1]11 кл'!PYD15","v":0},{"$f":"'[1]11 кл'!PYE15","v":0},{"$f":"'[1]11 кл'!PYF15","v":0},{"$f":"'[1]11 кл'!PYG15","v":0},{"$f":"'[1]11 кл'!PYH15","v":0},{"$f":"'[1]11 кл'!PYI15","v":0},{"$f":"'[1]11 кл'!PYJ15","v":0},{"$f":"'[1]11 кл'!PYK15","v":0},{"$f":"'[1]11 кл'!PYL15","v":0},{"$f":"'[1]11 кл'!PYM15","v":0},{"$f":"'[1]11 кл'!PYN15","v":0},{"$f":"'[1]11 кл'!PYO15","v":0},{"$f":"'[1]11 кл'!PYP15","v":0},{"$f":"'[1]11 кл'!PYQ15","v":0},{"$f":"'[1]11 кл'!PYR15","v":0},{"$f":"'[1]11 кл'!PYS15","v":0},{"$f":"'[1]11 кл'!PYT15","v":0},{"$f":"'[1]11 кл'!PYU15","v":0},{"$f":"'[1]11 кл'!PYV15","v":0},{"$f":"'[1]11 кл'!PYW15","v":0},{"$f":"'[1]11 кл'!PYX15","v":0},{"$f":"'[1]11 кл'!PYY15","v":0},{"$f":"'[1]11 кл'!PYZ15","v":0},{"$f":"'[1]11 кл'!PZA15","v":0},{"$f":"'[1]11 кл'!PZB15","v":0},{"$f":"'[1]11 кл'!PZC15","v":0},{"$f":"'[1]11 кл'!PZD15","v":0},{"$f":"'[1]11 кл'!PZE15","v":0},{"$f":"'[1]11 кл'!PZF15","v":0},{"$f":"'[1]11 кл'!PZG15","v":0},{"$f":"'[1]11 кл'!PZH15","v":0},{"$f":"'[1]11 кл'!PZI15","v":0},{"$f":"'[1]11 кл'!PZJ15","v":0},{"$f":"'[1]11 кл'!PZK15","v":0},{"$f":"'[1]11 кл'!PZL15","v":0},{"$f":"'[1]11 кл'!PZM15","v":0},{"$f":"'[1]11 кл'!PZN15","v":0},{"$f":"'[1]11 кл'!PZO15","v":0},{"$f":"'[1]11 кл'!PZP15","v":0},{"$f":"'[1]11 кл'!PZQ15","v":0},{"$f":"'[1]11 кл'!PZR15","v":0},{"$f":"'[1]11 кл'!PZS15","v":0},{"$f":"'[1]11 кл'!PZT15","v":0},{"$f":"'[1]11 кл'!PZU15","v":0},{"$f":"'[1]11 кл'!PZV15","v":0},{"$f":"'[1]11 кл'!PZW15","v":0},{"$f":"'[1]11 кл'!PZX15","v":0},{"$f":"'[1]11 кл'!PZY15","v":0},{"$f":"'[1]11 кл'!PZZ15","v":0},{"$f":"'[1]11 кл'!QAA15","v":0},{"$f":"'[1]11 кл'!QAB15","v":0},{"$f":"'[1]11 кл'!QAC15","v":0},{"$f":"'[1]11 кл'!QAD15","v":0},{"$f":"'[1]11 кл'!QAE15","v":0},{"$f":"'[1]11 кл'!QAF15","v":0},{"$f":"'[1]11 кл'!QAG15","v":0},{"$f":"'[1]11 кл'!QAH15","v":0},{"$f":"'[1]11 кл'!QAI15","v":0},{"$f":"'[1]11 кл'!QAJ15","v":0},{"$f":"'[1]11 кл'!QAK15","v":0},{"$f":"'[1]11 кл'!QAL15","v":0},{"$f":"'[1]11 кл'!QAM15","v":0},{"$f":"'[1]11 кл'!QAN15","v":0},{"$f":"'[1]11 кл'!QAO15","v":0},{"$f":"'[1]11 кл'!QAP15","v":0},{"$f":"'[1]11 кл'!QAQ15","v":0},{"$f":"'[1]11 кл'!QAR15","v":0},{"$f":"'[1]11 кл'!QAS15","v":0},{"$f":"'[1]11 кл'!QAT15","v":0},{"$f":"'[1]11 кл'!QAU15","v":0},{"$f":"'[1]11 кл'!QAV15","v":0},{"$f":"'[1]11 кл'!QAW15","v":0},{"$f":"'[1]11 кл'!QAX15","v":0},{"$f":"'[1]11 кл'!QAY15","v":0},{"$f":"'[1]11 кл'!QAZ15","v":0},{"$f":"'[1]11 кл'!QBA15","v":0},{"$f":"'[1]11 кл'!QBB15","v":0},{"$f":"'[1]11 кл'!QBC15","v":0},{"$f":"'[1]11 кл'!QBD15","v":0},{"$f":"'[1]11 кл'!QBE15","v":0},{"$f":"'[1]11 кл'!QBF15","v":0},{"$f":"'[1]11 кл'!QBG15","v":0},{"$f":"'[1]11 кл'!QBH15","v":0},{"$f":"'[1]11 кл'!QBI15","v":0},{"$f":"'[1]11 кл'!QBJ15","v":0},{"$f":"'[1]11 кл'!QBK15","v":0},{"$f":"'[1]11 кл'!QBL15","v":0},{"$f":"'[1]11 кл'!QBM15","v":0},{"$f":"'[1]11 кл'!QBN15","v":0},{"$f":"'[1]11 кл'!QBO15","v":0},{"$f":"'[1]11 кл'!QBP15","v":0},{"$f":"'[1]11 кл'!QBQ15","v":0},{"$f":"'[1]11 кл'!QBR15","v":0},{"$f":"'[1]11 кл'!QBS15","v":0},{"$f":"'[1]11 кл'!QBT15","v":0},{"$f":"'[1]11 кл'!QBU15","v":0},{"$f":"'[1]11 кл'!QBV15","v":0},{"$f":"'[1]11 кл'!QBW15","v":0},{"$f":"'[1]11 кл'!QBX15","v":0},{"$f":"'[1]11 кл'!QBY15","v":0},{"$f":"'[1]11 кл'!QBZ15","v":0},{"$f":"'[1]11 кл'!QCA15","v":0},{"$f":"'[1]11 кл'!QCB15","v":0},{"$f":"'[1]11 кл'!QCC15","v":0},{"$f":"'[1]11 кл'!QCD15","v":0},{"$f":"'[1]11 кл'!QCE15","v":0},{"$f":"'[1]11 кл'!QCF15","v":0},{"$f":"'[1]11 кл'!QCG15","v":0},{"$f":"'[1]11 кл'!QCH15","v":0},{"$f":"'[1]11 кл'!QCI15","v":0},{"$f":"'[1]11 кл'!QCJ15","v":0},{"$f":"'[1]11 кл'!QCK15","v":0},{"$f":"'[1]11 кл'!QCL15","v":0},{"$f":"'[1]11 кл'!QCM15","v":0},{"$f":"'[1]11 кл'!QCN15","v":0},{"$f":"'[1]11 кл'!QCO15","v":0},{"$f":"'[1]11 кл'!QCP15","v":0},{"$f":"'[1]11 кл'!QCQ15","v":0},{"$f":"'[1]11 кл'!QCR15","v":0},{"$f":"'[1]11 кл'!QCS15","v":0},{"$f":"'[1]11 кл'!QCT15","v":0},{"$f":"'[1]11 кл'!QCU15","v":0},{"$f":"'[1]11 кл'!QCV15","v":0},{"$f":"'[1]11 кл'!QCW15","v":0},{"$f":"'[1]11 кл'!QCX15","v":0},{"$f":"'[1]11 кл'!QCY15","v":0},{"$f":"'[1]11 кл'!QCZ15","v":0},{"$f":"'[1]11 кл'!QDA15","v":0},{"$f":"'[1]11 кл'!QDB15","v":0},{"$f":"'[1]11 кл'!QDC15","v":0},{"$f":"'[1]11 кл'!QDD15","v":0},{"$f":"'[1]11 кл'!QDE15","v":0},{"$f":"'[1]11 кл'!QDF15","v":0},{"$f":"'[1]11 кл'!QDG15","v":0},{"$f":"'[1]11 кл'!QDH15","v":0},{"$f":"'[1]11 кл'!QDI15","v":0},{"$f":"'[1]11 кл'!QDJ15","v":0},{"$f":"'[1]11 кл'!QDK15","v":0},{"$f":"'[1]11 кл'!QDL15","v":0},{"$f":"'[1]11 кл'!QDM15","v":0},{"$f":"'[1]11 кл'!QDN15","v":0},{"$f":"'[1]11 кл'!QDO15","v":0},{"$f":"'[1]11 кл'!QDP15","v":0},{"$f":"'[1]11 кл'!QDQ15","v":0},{"$f":"'[1]11 кл'!QDR15","v":0},{"$f":"'[1]11 кл'!QDS15","v":0},{"$f":"'[1]11 кл'!QDT15","v":0},{"$f":"'[1]11 кл'!QDU15","v":0},{"$f":"'[1]11 кл'!QDV15","v":0},{"$f":"'[1]11 кл'!QDW15","v":0},{"$f":"'[1]11 кл'!QDX15","v":0},{"$f":"'[1]11 кл'!QDY15","v":0},{"$f":"'[1]11 кл'!QDZ15","v":0},{"$f":"'[1]11 кл'!QEA15","v":0},{"$f":"'[1]11 кл'!QEB15","v":0},{"$f":"'[1]11 кл'!QEC15","v":0},{"$f":"'[1]11 кл'!QED15","v":0},{"$f":"'[1]11 кл'!QEE15","v":0},{"$f":"'[1]11 кл'!QEF15","v":0},{"$f":"'[1]11 кл'!QEG15","v":0},{"$f":"'[1]11 кл'!QEH15","v":0},{"$f":"'[1]11 кл'!QEI15","v":0},{"$f":"'[1]11 кл'!QEJ15","v":0},{"$f":"'[1]11 кл'!QEK15","v":0},{"$f":"'[1]11 кл'!QEL15","v":0},{"$f":"'[1]11 кл'!QEM15","v":0},{"$f":"'[1]11 кл'!QEN15","v":0},{"$f":"'[1]11 кл'!QEO15","v":0},{"$f":"'[1]11 кл'!QEP15","v":0},{"$f":"'[1]11 кл'!QEQ15","v":0},{"$f":"'[1]11 кл'!QER15","v":0},{"$f":"'[1]11 кл'!QES15","v":0},{"$f":"'[1]11 кл'!QET15","v":0},{"$f":"'[1]11 кл'!QEU15","v":0},{"$f":"'[1]11 кл'!QEV15","v":0},{"$f":"'[1]11 кл'!QEW15","v":0},{"$f":"'[1]11 кл'!QEX15","v":0},{"$f":"'[1]11 кл'!QEY15","v":0},{"$f":"'[1]11 кл'!QEZ15","v":0},{"$f":"'[1]11 кл'!QFA15","v":0},{"$f":"'[1]11 кл'!QFB15","v":0},{"$f":"'[1]11 кл'!QFC15","v":0},{"$f":"'[1]11 кл'!QFD15","v":0},{"$f":"'[1]11 кл'!QFE15","v":0},{"$f":"'[1]11 кл'!QFF15","v":0},{"$f":"'[1]11 кл'!QFG15","v":0},{"$f":"'[1]11 кл'!QFH15","v":0},{"$f":"'[1]11 кл'!QFI15","v":0},{"$f":"'[1]11 кл'!QFJ15","v":0},{"$f":"'[1]11 кл'!QFK15","v":0},{"$f":"'[1]11 кл'!QFL15","v":0},{"$f":"'[1]11 кл'!QFM15","v":0},{"$f":"'[1]11 кл'!QFN15","v":0},{"$f":"'[1]11 кл'!QFO15","v":0},{"$f":"'[1]11 кл'!QFP15","v":0},{"$f":"'[1]11 кл'!QFQ15","v":0},{"$f":"'[1]11 кл'!QFR15","v":0},{"$f":"'[1]11 кл'!QFS15","v":0},{"$f":"'[1]11 кл'!QFT15","v":0},{"$f":"'[1]11 кл'!QFU15","v":0},{"$f":"'[1]11 кл'!QFV15","v":0},{"$f":"'[1]11 кл'!QFW15","v":0},{"$f":"'[1]11 кл'!QFX15","v":0},{"$f":"'[1]11 кл'!QFY15","v":0},{"$f":"'[1]11 кл'!QFZ15","v":0},{"$f":"'[1]11 кл'!QGA15","v":0},{"$f":"'[1]11 кл'!QGB15","v":0},{"$f":"'[1]11 кл'!QGC15","v":0},{"$f":"'[1]11 кл'!QGD15","v":0},{"$f":"'[1]11 кл'!QGE15","v":0},{"$f":"'[1]11 кл'!QGF15","v":0},{"$f":"'[1]11 кл'!QGG15","v":0},{"$f":"'[1]11 кл'!QGH15","v":0},{"$f":"'[1]11 кл'!QGI15","v":0},{"$f":"'[1]11 кл'!QGJ15","v":0},{"$f":"'[1]11 кл'!QGK15","v":0},{"$f":"'[1]11 кл'!QGL15","v":0},{"$f":"'[1]11 кл'!QGM15","v":0},{"$f":"'[1]11 кл'!QGN15","v":0},{"$f":"'[1]11 кл'!QGO15","v":0},{"$f":"'[1]11 кл'!QGP15","v":0},{"$f":"'[1]11 кл'!QGQ15","v":0},{"$f":"'[1]11 кл'!QGR15","v":0},{"$f":"'[1]11 кл'!QGS15","v":0},{"$f":"'[1]11 кл'!QGT15","v":0},{"$f":"'[1]11 кл'!QGU15","v":0},{"$f":"'[1]11 кл'!QGV15","v":0},{"$f":"'[1]11 кл'!QGW15","v":0},{"$f":"'[1]11 кл'!QGX15","v":0},{"$f":"'[1]11 кл'!QGY15","v":0},{"$f":"'[1]11 кл'!QGZ15","v":0},{"$f":"'[1]11 кл'!QHA15","v":0},{"$f":"'[1]11 кл'!QHB15","v":0},{"$f":"'[1]11 кл'!QHC15","v":0},{"$f":"'[1]11 кл'!QHD15","v":0},{"$f":"'[1]11 кл'!QHE15","v":0},{"$f":"'[1]11 кл'!QHF15","v":0},{"$f":"'[1]11 кл'!QHG15","v":0},{"$f":"'[1]11 кл'!QHH15","v":0},{"$f":"'[1]11 кл'!QHI15","v":0},{"$f":"'[1]11 кл'!QHJ15","v":0},{"$f":"'[1]11 кл'!QHK15","v":0},{"$f":"'[1]11 кл'!QHL15","v":0},{"$f":"'[1]11 кл'!QHM15","v":0},{"$f":"'[1]11 кл'!QHN15","v":0},{"$f":"'[1]11 кл'!QHO15","v":0},{"$f":"'[1]11 кл'!QHP15","v":0},{"$f":"'[1]11 кл'!QHQ15","v":0},{"$f":"'[1]11 кл'!QHR15","v":0},{"$f":"'[1]11 кл'!QHS15","v":0},{"$f":"'[1]11 кл'!QHT15","v":0},{"$f":"'[1]11 кл'!QHU15","v":0},{"$f":"'[1]11 кл'!QHV15","v":0},{"$f":"'[1]11 кл'!QHW15","v":0},{"$f":"'[1]11 кл'!QHX15","v":0},{"$f":"'[1]11 кл'!QHY15","v":0},{"$f":"'[1]11 кл'!QHZ15","v":0},{"$f":"'[1]11 кл'!QIA15","v":0},{"$f":"'[1]11 кл'!QIB15","v":0},{"$f":"'[1]11 кл'!QIC15","v":0},{"$f":"'[1]11 кл'!QID15","v":0},{"$f":"'[1]11 кл'!QIE15","v":0},{"$f":"'[1]11 кл'!QIF15","v":0},{"$f":"'[1]11 кл'!QIG15","v":0},{"$f":"'[1]11 кл'!QIH15","v":0},{"$f":"'[1]11 кл'!QII15","v":0},{"$f":"'[1]11 кл'!QIJ15","v":0},{"$f":"'[1]11 кл'!QIK15","v":0},{"$f":"'[1]11 кл'!QIL15","v":0},{"$f":"'[1]11 кл'!QIM15","v":0},{"$f":"'[1]11 кл'!QIN15","v":0},{"$f":"'[1]11 кл'!QIO15","v":0},{"$f":"'[1]11 кл'!QIP15","v":0},{"$f":"'[1]11 кл'!QIQ15","v":0},{"$f":"'[1]11 кл'!QIR15","v":0},{"$f":"'[1]11 кл'!QIS15","v":0},{"$f":"'[1]11 кл'!QIT15","v":0},{"$f":"'[1]11 кл'!QIU15","v":0},{"$f":"'[1]11 кл'!QIV15","v":0},{"$f":"'[1]11 кл'!QIW15","v":0},{"$f":"'[1]11 кл'!QIX15","v":0},{"$f":"'[1]11 кл'!QIY15","v":0},{"$f":"'[1]11 кл'!QIZ15","v":0},{"$f":"'[1]11 кл'!QJA15","v":0},{"$f":"'[1]11 кл'!QJB15","v":0},{"$f":"'[1]11 кл'!QJC15","v":0},{"$f":"'[1]11 кл'!QJD15","v":0},{"$f":"'[1]11 кл'!QJE15","v":0},{"$f":"'[1]11 кл'!QJF15","v":0},{"$f":"'[1]11 кл'!QJG15","v":0},{"$f":"'[1]11 кл'!QJH15","v":0},{"$f":"'[1]11 кл'!QJI15","v":0},{"$f":"'[1]11 кл'!QJJ15","v":0},{"$f":"'[1]11 кл'!QJK15","v":0},{"$f":"'[1]11 кл'!QJL15","v":0},{"$f":"'[1]11 кл'!QJM15","v":0},{"$f":"'[1]11 кл'!QJN15","v":0},{"$f":"'[1]11 кл'!QJO15","v":0},{"$f":"'[1]11 кл'!QJP15","v":0},{"$f":"'[1]11 кл'!QJQ15","v":0},{"$f":"'[1]11 кл'!QJR15","v":0},{"$f":"'[1]11 кл'!QJS15","v":0},{"$f":"'[1]11 кл'!QJT15","v":0},{"$f":"'[1]11 кл'!QJU15","v":0},{"$f":"'[1]11 кл'!QJV15","v":0},{"$f":"'[1]11 кл'!QJW15","v":0},{"$f":"'[1]11 кл'!QJX15","v":0},{"$f":"'[1]11 кл'!QJY15","v":0},{"$f":"'[1]11 кл'!QJZ15","v":0},{"$f":"'[1]11 кл'!QKA15","v":0},{"$f":"'[1]11 кл'!QKB15","v":0},{"$f":"'[1]11 кл'!QKC15","v":0},{"$f":"'[1]11 кл'!QKD15","v":0},{"$f":"'[1]11 кл'!QKE15","v":0},{"$f":"'[1]11 кл'!QKF15","v":0},{"$f":"'[1]11 кл'!QKG15","v":0},{"$f":"'[1]11 кл'!QKH15","v":0},{"$f":"'[1]11 кл'!QKI15","v":0},{"$f":"'[1]11 кл'!QKJ15","v":0},{"$f":"'[1]11 кл'!QKK15","v":0},{"$f":"'[1]11 кл'!QKL15","v":0},{"$f":"'[1]11 кл'!QKM15","v":0},{"$f":"'[1]11 кл'!QKN15","v":0},{"$f":"'[1]11 кл'!QKO15","v":0},{"$f":"'[1]11 кл'!QKP15","v":0},{"$f":"'[1]11 кл'!QKQ15","v":0},{"$f":"'[1]11 кл'!QKR15","v":0},{"$f":"'[1]11 кл'!QKS15","v":0},{"$f":"'[1]11 кл'!QKT15","v":0},{"$f":"'[1]11 кл'!QKU15","v":0},{"$f":"'[1]11 кл'!QKV15","v":0},{"$f":"'[1]11 кл'!QKW15","v":0},{"$f":"'[1]11 кл'!QKX15","v":0},{"$f":"'[1]11 кл'!QKY15","v":0},{"$f":"'[1]11 кл'!QKZ15","v":0},{"$f":"'[1]11 кл'!QLA15","v":0},{"$f":"'[1]11 кл'!QLB15","v":0},{"$f":"'[1]11 кл'!QLC15","v":0},{"$f":"'[1]11 кл'!QLD15","v":0},{"$f":"'[1]11 кл'!QLE15","v":0},{"$f":"'[1]11 кл'!QLF15","v":0},{"$f":"'[1]11 кл'!QLG15","v":0},{"$f":"'[1]11 кл'!QLH15","v":0},{"$f":"'[1]11 кл'!QLI15","v":0},{"$f":"'[1]11 кл'!QLJ15","v":0},{"$f":"'[1]11 кл'!QLK15","v":0},{"$f":"'[1]11 кл'!QLL15","v":0},{"$f":"'[1]11 кл'!QLM15","v":0},{"$f":"'[1]11 кл'!QLN15","v":0},{"$f":"'[1]11 кл'!QLO15","v":0},{"$f":"'[1]11 кл'!QLP15","v":0},{"$f":"'[1]11 кл'!QLQ15","v":0},{"$f":"'[1]11 кл'!QLR15","v":0},{"$f":"'[1]11 кл'!QLS15","v":0},{"$f":"'[1]11 кл'!QLT15","v":0},{"$f":"'[1]11 кл'!QLU15","v":0},{"$f":"'[1]11 кл'!QLV15","v":0},{"$f":"'[1]11 кл'!QLW15","v":0},{"$f":"'[1]11 кл'!QLX15","v":0},{"$f":"'[1]11 кл'!QLY15","v":0},{"$f":"'[1]11 кл'!QLZ15","v":0},{"$f":"'[1]11 кл'!QMA15","v":0},{"$f":"'[1]11 кл'!QMB15","v":0},{"$f":"'[1]11 кл'!QMC15","v":0},{"$f":"'[1]11 кл'!QMD15","v":0},{"$f":"'[1]11 кл'!QME15","v":0},{"$f":"'[1]11 кл'!QMF15","v":0},{"$f":"'[1]11 кл'!QMG15","v":0},{"$f":"'[1]11 кл'!QMH15","v":0},{"$f":"'[1]11 кл'!QMI15","v":0},{"$f":"'[1]11 кл'!QMJ15","v":0},{"$f":"'[1]11 кл'!QMK15","v":0},{"$f":"'[1]11 кл'!QML15","v":0},{"$f":"'[1]11 кл'!QMM15","v":0},{"$f":"'[1]11 кл'!QMN15","v":0},{"$f":"'[1]11 кл'!QMO15","v":0},{"$f":"'[1]11 кл'!QMP15","v":0},{"$f":"'[1]11 кл'!QMQ15","v":0},{"$f":"'[1]11 кл'!QMR15","v":0},{"$f":"'[1]11 кл'!QMS15","v":0},{"$f":"'[1]11 кл'!QMT15","v":0},{"$f":"'[1]11 кл'!QMU15","v":0},{"$f":"'[1]11 кл'!QMV15","v":0},{"$f":"'[1]11 кл'!QMW15","v":0},{"$f":"'[1]11 кл'!QMX15","v":0},{"$f":"'[1]11 кл'!QMY15","v":0},{"$f":"'[1]11 кл'!QMZ15","v":0},{"$f":"'[1]11 кл'!QNA15","v":0},{"$f":"'[1]11 кл'!QNB15","v":0},{"$f":"'[1]11 кл'!QNC15","v":0},{"$f":"'[1]11 кл'!QND15","v":0},{"$f":"'[1]11 кл'!QNE15","v":0},{"$f":"'[1]11 кл'!QNF15","v":0},{"$f":"'[1]11 кл'!QNG15","v":0},{"$f":"'[1]11 кл'!QNH15","v":0},{"$f":"'[1]11 кл'!QNI15","v":0},{"$f":"'[1]11 кл'!QNJ15","v":0},{"$f":"'[1]11 кл'!QNK15","v":0},{"$f":"'[1]11 кл'!QNL15","v":0},{"$f":"'[1]11 кл'!QNM15","v":0},{"$f":"'[1]11 кл'!QNN15","v":0},{"$f":"'[1]11 кл'!QNO15","v":0},{"$f":"'[1]11 кл'!QNP15","v":0},{"$f":"'[1]11 кл'!QNQ15","v":0},{"$f":"'[1]11 кл'!QNR15","v":0},{"$f":"'[1]11 кл'!QNS15","v":0},{"$f":"'[1]11 кл'!QNT15","v":0},{"$f":"'[1]11 кл'!QNU15","v":0},{"$f":"'[1]11 кл'!QNV15","v":0},{"$f":"'[1]11 кл'!QNW15","v":0},{"$f":"'[1]11 кл'!QNX15","v":0},{"$f":"'[1]11 кл'!QNY15","v":0},{"$f":"'[1]11 кл'!QNZ15","v":0},{"$f":"'[1]11 кл'!QOA15","v":0},{"$f":"'[1]11 кл'!QOB15","v":0},{"$f":"'[1]11 кл'!QOC15","v":0},{"$f":"'[1]11 кл'!QOD15","v":0},{"$f":"'[1]11 кл'!QOE15","v":0},{"$f":"'[1]11 кл'!QOF15","v":0},{"$f":"'[1]11 кл'!QOG15","v":0},{"$f":"'[1]11 кл'!QOH15","v":0},{"$f":"'[1]11 кл'!QOI15","v":0},{"$f":"'[1]11 кл'!QOJ15","v":0},{"$f":"'[1]11 кл'!QOK15","v":0},{"$f":"'[1]11 кл'!QOL15","v":0},{"$f":"'[1]11 кл'!QOM15","v":0},{"$f":"'[1]11 кл'!QON15","v":0},{"$f":"'[1]11 кл'!QOO15","v":0},{"$f":"'[1]11 кл'!QOP15","v":0},{"$f":"'[1]11 кл'!QOQ15","v":0},{"$f":"'[1]11 кл'!QOR15","v":0},{"$f":"'[1]11 кл'!QOS15","v":0},{"$f":"'[1]11 кл'!QOT15","v":0},{"$f":"'[1]11 кл'!QOU15","v":0},{"$f":"'[1]11 кл'!QOV15","v":0},{"$f":"'[1]11 кл'!QOW15","v":0},{"$f":"'[1]11 кл'!QOX15","v":0},{"$f":"'[1]11 кл'!QOY15","v":0},{"$f":"'[1]11 кл'!QOZ15","v":0},{"$f":"'[1]11 кл'!QPA15","v":0},{"$f":"'[1]11 кл'!QPB15","v":0},{"$f":"'[1]11 кл'!QPC15","v":0},{"$f":"'[1]11 кл'!QPD15","v":0},{"$f":"'[1]11 кл'!QPE15","v":0},{"$f":"'[1]11 кл'!QPF15","v":0},{"$f":"'[1]11 кл'!QPG15","v":0},{"$f":"'[1]11 кл'!QPH15","v":0},{"$f":"'[1]11 кл'!QPI15","v":0},{"$f":"'[1]11 кл'!QPJ15","v":0},{"$f":"'[1]11 кл'!QPK15","v":0},{"$f":"'[1]11 кл'!QPL15","v":0},{"$f":"'[1]11 кл'!QPM15","v":0},{"$f":"'[1]11 кл'!QPN15","v":0},{"$f":"'[1]11 кл'!QPO15","v":0},{"$f":"'[1]11 кл'!QPP15","v":0},{"$f":"'[1]11 кл'!QPQ15","v":0},{"$f":"'[1]11 кл'!QPR15","v":0},{"$f":"'[1]11 кл'!QPS15","v":0},{"$f":"'[1]11 кл'!QPT15","v":0},{"$f":"'[1]11 кл'!QPU15","v":0},{"$f":"'[1]11 кл'!QPV15","v":0},{"$f":"'[1]11 кл'!QPW15","v":0},{"$f":"'[1]11 кл'!QPX15","v":0},{"$f":"'[1]11 кл'!QPY15","v":0},{"$f":"'[1]11 кл'!QPZ15","v":0},{"$f":"'[1]11 кл'!QQA15","v":0},{"$f":"'[1]11 кл'!QQB15","v":0},{"$f":"'[1]11 кл'!QQC15","v":0},{"$f":"'[1]11 кл'!QQD15","v":0},{"$f":"'[1]11 кл'!QQE15","v":0},{"$f":"'[1]11 кл'!QQF15","v":0},{"$f":"'[1]11 кл'!QQG15","v":0},{"$f":"'[1]11 кл'!QQH15","v":0},{"$f":"'[1]11 кл'!QQI15","v":0},{"$f":"'[1]11 кл'!QQJ15","v":0},{"$f":"'[1]11 кл'!QQK15","v":0},{"$f":"'[1]11 кл'!QQL15","v":0},{"$f":"'[1]11 кл'!QQM15","v":0},{"$f":"'[1]11 кл'!QQN15","v":0},{"$f":"'[1]11 кл'!QQO15","v":0},{"$f":"'[1]11 кл'!QQP15","v":0},{"$f":"'[1]11 кл'!QQQ15","v":0},{"$f":"'[1]11 кл'!QQR15","v":0},{"$f":"'[1]11 кл'!QQS15","v":0},{"$f":"'[1]11 кл'!QQT15","v":0},{"$f":"'[1]11 кл'!QQU15","v":0},{"$f":"'[1]11 кл'!QQV15","v":0},{"$f":"'[1]11 кл'!QQW15","v":0},{"$f":"'[1]11 кл'!QQX15","v":0},{"$f":"'[1]11 кл'!QQY15","v":0},{"$f":"'[1]11 кл'!QQZ15","v":0},{"$f":"'[1]11 кл'!QRA15","v":0},{"$f":"'[1]11 кл'!QRB15","v":0},{"$f":"'[1]11 кл'!QRC15","v":0},{"$f":"'[1]11 кл'!QRD15","v":0},{"$f":"'[1]11 кл'!QRE15","v":0},{"$f":"'[1]11 кл'!QRF15","v":0},{"$f":"'[1]11 кл'!QRG15","v":0},{"$f":"'[1]11 кл'!QRH15","v":0},{"$f":"'[1]11 кл'!QRI15","v":0},{"$f":"'[1]11 кл'!QRJ15","v":0},{"$f":"'[1]11 кл'!QRK15","v":0},{"$f":"'[1]11 кл'!QRL15","v":0},{"$f":"'[1]11 кл'!QRM15","v":0},{"$f":"'[1]11 кл'!QRN15","v":0},{"$f":"'[1]11 кл'!QRO15","v":0},{"$f":"'[1]11 кл'!QRP15","v":0},{"$f":"'[1]11 кл'!QRQ15","v":0},{"$f":"'[1]11 кл'!QRR15","v":0},{"$f":"'[1]11 кл'!QRS15","v":0},{"$f":"'[1]11 кл'!QRT15","v":0},{"$f":"'[1]11 кл'!QRU15","v":0},{"$f":"'[1]11 кл'!QRV15","v":0},{"$f":"'[1]11 кл'!QRW15","v":0},{"$f":"'[1]11 кл'!QRX15","v":0},{"$f":"'[1]11 кл'!QRY15","v":0},{"$f":"'[1]11 кл'!QRZ15","v":0},{"$f":"'[1]11 кл'!QSA15","v":0},{"$f":"'[1]11 кл'!QSB15","v":0},{"$f":"'[1]11 кл'!QSC15","v":0},{"$f":"'[1]11 кл'!QSD15","v":0},{"$f":"'[1]11 кл'!QSE15","v":0},{"$f":"'[1]11 кл'!QSF15","v":0},{"$f":"'[1]11 кл'!QSG15","v":0},{"$f":"'[1]11 кл'!QSH15","v":0},{"$f":"'[1]11 кл'!QSI15","v":0},{"$f":"'[1]11 кл'!QSJ15","v":0},{"$f":"'[1]11 кл'!QSK15","v":0},{"$f":"'[1]11 кл'!QSL15","v":0},{"$f":"'[1]11 кл'!QSM15","v":0},{"$f":"'[1]11 кл'!QSN15","v":0},{"$f":"'[1]11 кл'!QSO15","v":0},{"$f":"'[1]11 кл'!QSP15","v":0},{"$f":"'[1]11 кл'!QSQ15","v":0},{"$f":"'[1]11 кл'!QSR15","v":0},{"$f":"'[1]11 кл'!QSS15","v":0},{"$f":"'[1]11 кл'!QST15","v":0},{"$f":"'[1]11 кл'!QSU15","v":0},{"$f":"'[1]11 кл'!QSV15","v":0},{"$f":"'[1]11 кл'!QSW15","v":0},{"$f":"'[1]11 кл'!QSX15","v":0},{"$f":"'[1]11 кл'!QSY15","v":0},{"$f":"'[1]11 кл'!QSZ15","v":0},{"$f":"'[1]11 кл'!QTA15","v":0},{"$f":"'[1]11 кл'!QTB15","v":0},{"$f":"'[1]11 кл'!QTC15","v":0},{"$f":"'[1]11 кл'!QTD15","v":0},{"$f":"'[1]11 кл'!QTE15","v":0},{"$f":"'[1]11 кл'!QTF15","v":0},{"$f":"'[1]11 кл'!QTG15","v":0},{"$f":"'[1]11 кл'!QTH15","v":0},{"$f":"'[1]11 кл'!QTI15","v":0},{"$f":"'[1]11 кл'!QTJ15","v":0},{"$f":"'[1]11 кл'!QTK15","v":0},{"$f":"'[1]11 кл'!QTL15","v":0},{"$f":"'[1]11 кл'!QTM15","v":0},{"$f":"'[1]11 кл'!QTN15","v":0},{"$f":"'[1]11 кл'!QTO15","v":0},{"$f":"'[1]11 кл'!QTP15","v":0},{"$f":"'[1]11 кл'!QTQ15","v":0},{"$f":"'[1]11 кл'!QTR15","v":0},{"$f":"'[1]11 кл'!QTS15","v":0},{"$f":"'[1]11 кл'!QTT15","v":0},{"$f":"'[1]11 кл'!QTU15","v":0},{"$f":"'[1]11 кл'!QTV15","v":0},{"$f":"'[1]11 кл'!QTW15","v":0},{"$f":"'[1]11 кл'!QTX15","v":0},{"$f":"'[1]11 кл'!QTY15","v":0},{"$f":"'[1]11 кл'!QTZ15","v":0},{"$f":"'[1]11 кл'!QUA15","v":0},{"$f":"'[1]11 кл'!QUB15","v":0},{"$f":"'[1]11 кл'!QUC15","v":0},{"$f":"'[1]11 кл'!QUD15","v":0},{"$f":"'[1]11 кл'!QUE15","v":0},{"$f":"'[1]11 кл'!QUF15","v":0},{"$f":"'[1]11 кл'!QUG15","v":0},{"$f":"'[1]11 кл'!QUH15","v":0},{"$f":"'[1]11 кл'!QUI15","v":0},{"$f":"'[1]11 кл'!QUJ15","v":0},{"$f":"'[1]11 кл'!QUK15","v":0},{"$f":"'[1]11 кл'!QUL15","v":0},{"$f":"'[1]11 кл'!QUM15","v":0},{"$f":"'[1]11 кл'!QUN15","v":0},{"$f":"'[1]11 кл'!QUO15","v":0},{"$f":"'[1]11 кл'!QUP15","v":0},{"$f":"'[1]11 кл'!QUQ15","v":0},{"$f":"'[1]11 кл'!QUR15","v":0},{"$f":"'[1]11 кл'!QUS15","v":0},{"$f":"'[1]11 кл'!QUT15","v":0},{"$f":"'[1]11 кл'!QUU15","v":0},{"$f":"'[1]11 кл'!QUV15","v":0},{"$f":"'[1]11 кл'!QUW15","v":0},{"$f":"'[1]11 кл'!QUX15","v":0},{"$f":"'[1]11 кл'!QUY15","v":0},{"$f":"'[1]11 кл'!QUZ15","v":0},{"$f":"'[1]11 кл'!QVA15","v":0},{"$f":"'[1]11 кл'!QVB15","v":0},{"$f":"'[1]11 кл'!QVC15","v":0},{"$f":"'[1]11 кл'!QVD15","v":0},{"$f":"'[1]11 кл'!QVE15","v":0},{"$f":"'[1]11 кл'!QVF15","v":0},{"$f":"'[1]11 кл'!QVG15","v":0},{"$f":"'[1]11 кл'!QVH15","v":0},{"$f":"'[1]11 кл'!QVI15","v":0},{"$f":"'[1]11 кл'!QVJ15","v":0},{"$f":"'[1]11 кл'!QVK15","v":0},{"$f":"'[1]11 кл'!QVL15","v":0},{"$f":"'[1]11 кл'!QVM15","v":0},{"$f":"'[1]11 кл'!QVN15","v":0},{"$f":"'[1]11 кл'!QVO15","v":0},{"$f":"'[1]11 кл'!QVP15","v":0},{"$f":"'[1]11 кл'!QVQ15","v":0},{"$f":"'[1]11 кл'!QVR15","v":0},{"$f":"'[1]11 кл'!QVS15","v":0},{"$f":"'[1]11 кл'!QVT15","v":0},{"$f":"'[1]11 кл'!QVU15","v":0},{"$f":"'[1]11 кл'!QVV15","v":0},{"$f":"'[1]11 кл'!QVW15","v":0},{"$f":"'[1]11 кл'!QVX15","v":0},{"$f":"'[1]11 кл'!QVY15","v":0},{"$f":"'[1]11 кл'!QVZ15","v":0},{"$f":"'[1]11 кл'!QWA15","v":0},{"$f":"'[1]11 кл'!QWB15","v":0},{"$f":"'[1]11 кл'!QWC15","v":0},{"$f":"'[1]11 кл'!QWD15","v":0},{"$f":"'[1]11 кл'!QWE15","v":0},{"$f":"'[1]11 кл'!QWF15","v":0},{"$f":"'[1]11 кл'!QWG15","v":0},{"$f":"'[1]11 кл'!QWH15","v":0},{"$f":"'[1]11 кл'!QWI15","v":0},{"$f":"'[1]11 кл'!QWJ15","v":0},{"$f":"'[1]11 кл'!QWK15","v":0},{"$f":"'[1]11 кл'!QWL15","v":0},{"$f":"'[1]11 кл'!QWM15","v":0},{"$f":"'[1]11 кл'!QWN15","v":0},{"$f":"'[1]11 кл'!QWO15","v":0},{"$f":"'[1]11 кл'!QWP15","v":0},{"$f":"'[1]11 кл'!QWQ15","v":0},{"$f":"'[1]11 кл'!QWR15","v":0},{"$f":"'[1]11 кл'!QWS15","v":0},{"$f":"'[1]11 кл'!QWT15","v":0},{"$f":"'[1]11 кл'!QWU15","v":0},{"$f":"'[1]11 кл'!QWV15","v":0},{"$f":"'[1]11 кл'!QWW15","v":0},{"$f":"'[1]11 кл'!QWX15","v":0},{"$f":"'[1]11 кл'!QWY15","v":0},{"$f":"'[1]11 кл'!QWZ15","v":0},{"$f":"'[1]11 кл'!QXA15","v":0},{"$f":"'[1]11 кл'!QXB15","v":0},{"$f":"'[1]11 кл'!QXC15","v":0},{"$f":"'[1]11 кл'!QXD15","v":0},{"$f":"'[1]11 кл'!QXE15","v":0},{"$f":"'[1]11 кл'!QXF15","v":0},{"$f":"'[1]11 кл'!QXG15","v":0},{"$f":"'[1]11 кл'!QXH15","v":0},{"$f":"'[1]11 кл'!QXI15","v":0},{"$f":"'[1]11 кл'!QXJ15","v":0},{"$f":"'[1]11 кл'!QXK15","v":0},{"$f":"'[1]11 кл'!QXL15","v":0},{"$f":"'[1]11 кл'!QXM15","v":0},{"$f":"'[1]11 кл'!QXN15","v":0},{"$f":"'[1]11 кл'!QXO15","v":0},{"$f":"'[1]11 кл'!QXP15","v":0},{"$f":"'[1]11 кл'!QXQ15","v":0},{"$f":"'[1]11 кл'!QXR15","v":0},{"$f":"'[1]11 кл'!QXS15","v":0},{"$f":"'[1]11 кл'!QXT15","v":0},{"$f":"'[1]11 кл'!QXU15","v":0},{"$f":"'[1]11 кл'!QXV15","v":0},{"$f":"'[1]11 кл'!QXW15","v":0},{"$f":"'[1]11 кл'!QXX15","v":0},{"$f":"'[1]11 кл'!QXY15","v":0},{"$f":"'[1]11 кл'!QXZ15","v":0},{"$f":"'[1]11 кл'!QYA15","v":0},{"$f":"'[1]11 кл'!QYB15","v":0},{"$f":"'[1]11 кл'!QYC15","v":0},{"$f":"'[1]11 кл'!QYD15","v":0},{"$f":"'[1]11 кл'!QYE15","v":0},{"$f":"'[1]11 кл'!QYF15","v":0},{"$f":"'[1]11 кл'!QYG15","v":0},{"$f":"'[1]11 кл'!QYH15","v":0},{"$f":"'[1]11 кл'!QYI15","v":0},{"$f":"'[1]11 кл'!QYJ15","v":0},{"$f":"'[1]11 кл'!QYK15","v":0},{"$f":"'[1]11 кл'!QYL15","v":0},{"$f":"'[1]11 кл'!QYM15","v":0},{"$f":"'[1]11 кл'!QYN15","v":0},{"$f":"'[1]11 кл'!QYO15","v":0},{"$f":"'[1]11 кл'!QYP15","v":0},{"$f":"'[1]11 кл'!QYQ15","v":0},{"$f":"'[1]11 кл'!QYR15","v":0},{"$f":"'[1]11 кл'!QYS15","v":0},{"$f":"'[1]11 кл'!QYT15","v":0},{"$f":"'[1]11 кл'!QYU15","v":0},{"$f":"'[1]11 кл'!QYV15","v":0},{"$f":"'[1]11 кл'!QYW15","v":0},{"$f":"'[1]11 кл'!QYX15","v":0},{"$f":"'[1]11 кл'!QYY15","v":0},{"$f":"'[1]11 кл'!QYZ15","v":0},{"$f":"'[1]11 кл'!QZA15","v":0},{"$f":"'[1]11 кл'!QZB15","v":0},{"$f":"'[1]11 кл'!QZC15","v":0},{"$f":"'[1]11 кл'!QZD15","v":0},{"$f":"'[1]11 кл'!QZE15","v":0},{"$f":"'[1]11 кл'!QZF15","v":0},{"$f":"'[1]11 кл'!QZG15","v":0},{"$f":"'[1]11 кл'!QZH15","v":0},{"$f":"'[1]11 кл'!QZI15","v":0},{"$f":"'[1]11 кл'!QZJ15","v":0},{"$f":"'[1]11 кл'!QZK15","v":0},{"$f":"'[1]11 кл'!QZL15","v":0},{"$f":"'[1]11 кл'!QZM15","v":0},{"$f":"'[1]11 кл'!QZN15","v":0},{"$f":"'[1]11 кл'!QZO15","v":0},{"$f":"'[1]11 кл'!QZP15","v":0},{"$f":"'[1]11 кл'!QZQ15","v":0},{"$f":"'[1]11 кл'!QZR15","v":0},{"$f":"'[1]11 кл'!QZS15","v":0},{"$f":"'[1]11 кл'!QZT15","v":0},{"$f":"'[1]11 кл'!QZU15","v":0},{"$f":"'[1]11 кл'!QZV15","v":0},{"$f":"'[1]11 кл'!QZW15","v":0},{"$f":"'[1]11 кл'!QZX15","v":0},{"$f":"'[1]11 кл'!QZY15","v":0},{"$f":"'[1]11 кл'!QZZ15","v":0},{"$f":"'[1]11 кл'!RAA15","v":0},{"$f":"'[1]11 кл'!RAB15","v":0},{"$f":"'[1]11 кл'!RAC15","v":0},{"$f":"'[1]11 кл'!RAD15","v":0},{"$f":"'[1]11 кл'!RAE15","v":0},{"$f":"'[1]11 кл'!RAF15","v":0},{"$f":"'[1]11 кл'!RAG15","v":0},{"$f":"'[1]11 кл'!RAH15","v":0},{"$f":"'[1]11 кл'!RAI15","v":0},{"$f":"'[1]11 кл'!RAJ15","v":0},{"$f":"'[1]11 кл'!RAK15","v":0},{"$f":"'[1]11 кл'!RAL15","v":0},{"$f":"'[1]11 кл'!RAM15","v":0},{"$f":"'[1]11 кл'!RAN15","v":0},{"$f":"'[1]11 кл'!RAO15","v":0},{"$f":"'[1]11 кл'!RAP15","v":0},{"$f":"'[1]11 кл'!RAQ15","v":0},{"$f":"'[1]11 кл'!RAR15","v":0},{"$f":"'[1]11 кл'!RAS15","v":0},{"$f":"'[1]11 кл'!RAT15","v":0},{"$f":"'[1]11 кл'!RAU15","v":0},{"$f":"'[1]11 кл'!RAV15","v":0},{"$f":"'[1]11 кл'!RAW15","v":0},{"$f":"'[1]11 кл'!RAX15","v":0},{"$f":"'[1]11 кл'!RAY15","v":0},{"$f":"'[1]11 кл'!RAZ15","v":0},{"$f":"'[1]11 кл'!RBA15","v":0},{"$f":"'[1]11 кл'!RBB15","v":0},{"$f":"'[1]11 кл'!RBC15","v":0},{"$f":"'[1]11 кл'!RBD15","v":0},{"$f":"'[1]11 кл'!RBE15","v":0},{"$f":"'[1]11 кл'!RBF15","v":0},{"$f":"'[1]11 кл'!RBG15","v":0},{"$f":"'[1]11 кл'!RBH15","v":0},{"$f":"'[1]11 кл'!RBI15","v":0},{"$f":"'[1]11 кл'!RBJ15","v":0},{"$f":"'[1]11 кл'!RBK15","v":0},{"$f":"'[1]11 кл'!RBL15","v":0},{"$f":"'[1]11 кл'!RBM15","v":0},{"$f":"'[1]11 кл'!RBN15","v":0},{"$f":"'[1]11 кл'!RBO15","v":0},{"$f":"'[1]11 кл'!RBP15","v":0},{"$f":"'[1]11 кл'!RBQ15","v":0},{"$f":"'[1]11 кл'!RBR15","v":0},{"$f":"'[1]11 кл'!RBS15","v":0},{"$f":"'[1]11 кл'!RBT15","v":0},{"$f":"'[1]11 кл'!RBU15","v":0},{"$f":"'[1]11 кл'!RBV15","v":0},{"$f":"'[1]11 кл'!RBW15","v":0},{"$f":"'[1]11 кл'!RBX15","v":0},{"$f":"'[1]11 кл'!RBY15","v":0},{"$f":"'[1]11 кл'!RBZ15","v":0},{"$f":"'[1]11 кл'!RCA15","v":0},{"$f":"'[1]11 кл'!RCB15","v":0},{"$f":"'[1]11 кл'!RCC15","v":0},{"$f":"'[1]11 кл'!RCD15","v":0},{"$f":"'[1]11 кл'!RCE15","v":0},{"$f":"'[1]11 кл'!RCF15","v":0},{"$f":"'[1]11 кл'!RCG15","v":0},{"$f":"'[1]11 кл'!RCH15","v":0},{"$f":"'[1]11 кл'!RCI15","v":0},{"$f":"'[1]11 кл'!RCJ15","v":0},{"$f":"'[1]11 кл'!RCK15","v":0},{"$f":"'[1]11 кл'!RCL15","v":0},{"$f":"'[1]11 кл'!RCM15","v":0},{"$f":"'[1]11 кл'!RCN15","v":0},{"$f":"'[1]11 кл'!RCO15","v":0},{"$f":"'[1]11 кл'!RCP15","v":0},{"$f":"'[1]11 кл'!RCQ15","v":0},{"$f":"'[1]11 кл'!RCR15","v":0},{"$f":"'[1]11 кл'!RCS15","v":0},{"$f":"'[1]11 кл'!RCT15","v":0},{"$f":"'[1]11 кл'!RCU15","v":0},{"$f":"'[1]11 кл'!RCV15","v":0},{"$f":"'[1]11 кл'!RCW15","v":0},{"$f":"'[1]11 кл'!RCX15","v":0},{"$f":"'[1]11 кл'!RCY15","v":0},{"$f":"'[1]11 кл'!RCZ15","v":0},{"$f":"'[1]11 кл'!RDA15","v":0},{"$f":"'[1]11 кл'!RDB15","v":0},{"$f":"'[1]11 кл'!RDC15","v":0},{"$f":"'[1]11 кл'!RDD15","v":0},{"$f":"'[1]11 кл'!RDE15","v":0},{"$f":"'[1]11 кл'!RDF15","v":0},{"$f":"'[1]11 кл'!RDG15","v":0},{"$f":"'[1]11 кл'!RDH15","v":0},{"$f":"'[1]11 кл'!RDI15","v":0},{"$f":"'[1]11 кл'!RDJ15","v":0},{"$f":"'[1]11 кл'!RDK15","v":0},{"$f":"'[1]11 кл'!RDL15","v":0},{"$f":"'[1]11 кл'!RDM15","v":0},{"$f":"'[1]11 кл'!RDN15","v":0},{"$f":"'[1]11 кл'!RDO15","v":0},{"$f":"'[1]11 кл'!RDP15","v":0},{"$f":"'[1]11 кл'!RDQ15","v":0},{"$f":"'[1]11 кл'!RDR15","v":0},{"$f":"'[1]11 кл'!RDS15","v":0},{"$f":"'[1]11 кл'!RDT15","v":0},{"$f":"'[1]11 кл'!RDU15","v":0},{"$f":"'[1]11 кл'!RDV15","v":0},{"$f":"'[1]11 кл'!RDW15","v":0},{"$f":"'[1]11 кл'!RDX15","v":0},{"$f":"'[1]11 кл'!RDY15","v":0},{"$f":"'[1]11 кл'!RDZ15","v":0},{"$f":"'[1]11 кл'!REA15","v":0},{"$f":"'[1]11 кл'!REB15","v":0},{"$f":"'[1]11 кл'!REC15","v":0},{"$f":"'[1]11 кл'!RED15","v":0},{"$f":"'[1]11 кл'!REE15","v":0},{"$f":"'[1]11 кл'!REF15","v":0},{"$f":"'[1]11 кл'!REG15","v":0},{"$f":"'[1]11 кл'!REH15","v":0},{"$f":"'[1]11 кл'!REI15","v":0},{"$f":"'[1]11 кл'!REJ15","v":0},{"$f":"'[1]11 кл'!REK15","v":0},{"$f":"'[1]11 кл'!REL15","v":0},{"$f":"'[1]11 кл'!REM15","v":0},{"$f":"'[1]11 кл'!REN15","v":0},{"$f":"'[1]11 кл'!REO15","v":0},{"$f":"'[1]11 кл'!REP15","v":0},{"$f":"'[1]11 кл'!REQ15","v":0},{"$f":"'[1]11 кл'!RER15","v":0},{"$f":"'[1]11 кл'!RES15","v":0},{"$f":"'[1]11 кл'!RET15","v":0},{"$f":"'[1]11 кл'!REU15","v":0},{"$f":"'[1]11 кл'!REV15","v":0},{"$f":"'[1]11 кл'!REW15","v":0},{"$f":"'[1]11 кл'!REX15","v":0},{"$f":"'[1]11 кл'!REY15","v":0},{"$f":"'[1]11 кл'!REZ15","v":0},{"$f":"'[1]11 кл'!RFA15","v":0},{"$f":"'[1]11 кл'!RFB15","v":0},{"$f":"'[1]11 кл'!RFC15","v":0},{"$f":"'[1]11 кл'!RFD15","v":0},{"$f":"'[1]11 кл'!RFE15","v":0},{"$f":"'[1]11 кл'!RFF15","v":0},{"$f":"'[1]11 кл'!RFG15","v":0},{"$f":"'[1]11 кл'!RFH15","v":0},{"$f":"'[1]11 кл'!RFI15","v":0},{"$f":"'[1]11 кл'!RFJ15","v":0},{"$f":"'[1]11 кл'!RFK15","v":0},{"$f":"'[1]11 кл'!RFL15","v":0},{"$f":"'[1]11 кл'!RFM15","v":0},{"$f":"'[1]11 кл'!RFN15","v":0},{"$f":"'[1]11 кл'!RFO15","v":0},{"$f":"'[1]11 кл'!RFP15","v":0},{"$f":"'[1]11 кл'!RFQ15","v":0},{"$f":"'[1]11 кл'!RFR15","v":0},{"$f":"'[1]11 кл'!RFS15","v":0},{"$f":"'[1]11 кл'!RFT15","v":0},{"$f":"'[1]11 кл'!RFU15","v":0},{"$f":"'[1]11 кл'!RFV15","v":0},{"$f":"'[1]11 кл'!RFW15","v":0},{"$f":"'[1]11 кл'!RFX15","v":0},{"$f":"'[1]11 кл'!RFY15","v":0},{"$f":"'[1]11 кл'!RFZ15","v":0},{"$f":"'[1]11 кл'!RGA15","v":0},{"$f":"'[1]11 кл'!RGB15","v":0},{"$f":"'[1]11 кл'!RGC15","v":0},{"$f":"'[1]11 кл'!RGD15","v":0},{"$f":"'[1]11 кл'!RGE15","v":0},{"$f":"'[1]11 кл'!RGF15","v":0},{"$f":"'[1]11 кл'!RGG15","v":0},{"$f":"'[1]11 кл'!RGH15","v":0},{"$f":"'[1]11 кл'!RGI15","v":0},{"$f":"'[1]11 кл'!RGJ15","v":0},{"$f":"'[1]11 кл'!RGK15","v":0},{"$f":"'[1]11 кл'!RGL15","v":0},{"$f":"'[1]11 кл'!RGM15","v":0},{"$f":"'[1]11 кл'!RGN15","v":0},{"$f":"'[1]11 кл'!RGO15","v":0},{"$f":"'[1]11 кл'!RGP15","v":0},{"$f":"'[1]11 кл'!RGQ15","v":0},{"$f":"'[1]11 кл'!RGR15","v":0},{"$f":"'[1]11 кл'!RGS15","v":0},{"$f":"'[1]11 кл'!RGT15","v":0},{"$f":"'[1]11 кл'!RGU15","v":0},{"$f":"'[1]11 кл'!RGV15","v":0},{"$f":"'[1]11 кл'!RGW15","v":0},{"$f":"'[1]11 кл'!RGX15","v":0},{"$f":"'[1]11 кл'!RGY15","v":0},{"$f":"'[1]11 кл'!RGZ15","v":0},{"$f":"'[1]11 кл'!RHA15","v":0},{"$f":"'[1]11 кл'!RHB15","v":0},{"$f":"'[1]11 кл'!RHC15","v":0},{"$f":"'[1]11 кл'!RHD15","v":0},{"$f":"'[1]11 кл'!RHE15","v":0},{"$f":"'[1]11 кл'!RHF15","v":0},{"$f":"'[1]11 кл'!RHG15","v":0},{"$f":"'[1]11 кл'!RHH15","v":0},{"$f":"'[1]11 кл'!RHI15","v":0},{"$f":"'[1]11 кл'!RHJ15","v":0},{"$f":"'[1]11 кл'!RHK15","v":0},{"$f":"'[1]11 кл'!RHL15","v":0},{"$f":"'[1]11 кл'!RHM15","v":0},{"$f":"'[1]11 кл'!RHN15","v":0},{"$f":"'[1]11 кл'!RHO15","v":0},{"$f":"'[1]11 кл'!RHP15","v":0},{"$f":"'[1]11 кл'!RHQ15","v":0},{"$f":"'[1]11 кл'!RHR15","v":0},{"$f":"'[1]11 кл'!RHS15","v":0},{"$f":"'[1]11 кл'!RHT15","v":0},{"$f":"'[1]11 кл'!RHU15","v":0},{"$f":"'[1]11 кл'!RHV15","v":0},{"$f":"'[1]11 кл'!RHW15","v":0},{"$f":"'[1]11 кл'!RHX15","v":0},{"$f":"'[1]11 кл'!RHY15","v":0},{"$f":"'[1]11 кл'!RHZ15","v":0},{"$f":"'[1]11 кл'!RIA15","v":0},{"$f":"'[1]11 кл'!RIB15","v":0},{"$f":"'[1]11 кл'!RIC15","v":0},{"$f":"'[1]11 кл'!RID15","v":0},{"$f":"'[1]11 кл'!RIE15","v":0},{"$f":"'[1]11 кл'!RIF15","v":0},{"$f":"'[1]11 кл'!RIG15","v":0},{"$f":"'[1]11 кл'!RIH15","v":0},{"$f":"'[1]11 кл'!RII15","v":0},{"$f":"'[1]11 кл'!RIJ15","v":0},{"$f":"'[1]11 кл'!RIK15","v":0},{"$f":"'[1]11 кл'!RIL15","v":0},{"$f":"'[1]11 кл'!RIM15","v":0},{"$f":"'[1]11 кл'!RIN15","v":0},{"$f":"'[1]11 кл'!RIO15","v":0},{"$f":"'[1]11 кл'!RIP15","v":0},{"$f":"'[1]11 кл'!RIQ15","v":0},{"$f":"'[1]11 кл'!RIR15","v":0},{"$f":"'[1]11 кл'!RIS15","v":0},{"$f":"'[1]11 кл'!RIT15","v":0},{"$f":"'[1]11 кл'!RIU15","v":0},{"$f":"'[1]11 кл'!RIV15","v":0},{"$f":"'[1]11 кл'!RIW15","v":0},{"$f":"'[1]11 кл'!RIX15","v":0},{"$f":"'[1]11 кл'!RIY15","v":0},{"$f":"'[1]11 кл'!RIZ15","v":0},{"$f":"'[1]11 кл'!RJA15","v":0},{"$f":"'[1]11 кл'!RJB15","v":0},{"$f":"'[1]11 кл'!RJC15","v":0},{"$f":"'[1]11 кл'!RJD15","v":0},{"$f":"'[1]11 кл'!RJE15","v":0},{"$f":"'[1]11 кл'!RJF15","v":0},{"$f":"'[1]11 кл'!RJG15","v":0},{"$f":"'[1]11 кл'!RJH15","v":0},{"$f":"'[1]11 кл'!RJI15","v":0},{"$f":"'[1]11 кл'!RJJ15","v":0},{"$f":"'[1]11 кл'!RJK15","v":0},{"$f":"'[1]11 кл'!RJL15","v":0},{"$f":"'[1]11 кл'!RJM15","v":0},{"$f":"'[1]11 кл'!RJN15","v":0},{"$f":"'[1]11 кл'!RJO15","v":0},{"$f":"'[1]11 кл'!RJP15","v":0},{"$f":"'[1]11 кл'!RJQ15","v":0},{"$f":"'[1]11 кл'!RJR15","v":0},{"$f":"'[1]11 кл'!RJS15","v":0},{"$f":"'[1]11 кл'!RJT15","v":0},{"$f":"'[1]11 кл'!RJU15","v":0},{"$f":"'[1]11 кл'!RJV15","v":0},{"$f":"'[1]11 кл'!RJW15","v":0},{"$f":"'[1]11 кл'!RJX15","v":0},{"$f":"'[1]11 кл'!RJY15","v":0},{"$f":"'[1]11 кл'!RJZ15","v":0},{"$f":"'[1]11 кл'!RKA15","v":0},{"$f":"'[1]11 кл'!RKB15","v":0},{"$f":"'[1]11 кл'!RKC15","v":0},{"$f":"'[1]11 кл'!RKD15","v":0},{"$f":"'[1]11 кл'!RKE15","v":0},{"$f":"'[1]11 кл'!RKF15","v":0},{"$f":"'[1]11 кл'!RKG15","v":0},{"$f":"'[1]11 кл'!RKH15","v":0},{"$f":"'[1]11 кл'!RKI15","v":0},{"$f":"'[1]11 кл'!RKJ15","v":0},{"$f":"'[1]11 кл'!RKK15","v":0},{"$f":"'[1]11 кл'!RKL15","v":0},{"$f":"'[1]11 кл'!RKM15","v":0},{"$f":"'[1]11 кл'!RKN15","v":0},{"$f":"'[1]11 кл'!RKO15","v":0},{"$f":"'[1]11 кл'!RKP15","v":0},{"$f":"'[1]11 кл'!RKQ15","v":0},{"$f":"'[1]11 кл'!RKR15","v":0},{"$f":"'[1]11 кл'!RKS15","v":0},{"$f":"'[1]11 кл'!RKT15","v":0},{"$f":"'[1]11 кл'!RKU15","v":0},{"$f":"'[1]11 кл'!RKV15","v":0},{"$f":"'[1]11 кл'!RKW15","v":0},{"$f":"'[1]11 кл'!RKX15","v":0},{"$f":"'[1]11 кл'!RKY15","v":0},{"$f":"'[1]11 кл'!RKZ15","v":0},{"$f":"'[1]11 кл'!RLA15","v":0},{"$f":"'[1]11 кл'!RLB15","v":0},{"$f":"'[1]11 кл'!RLC15","v":0},{"$f":"'[1]11 кл'!RLD15","v":0},{"$f":"'[1]11 кл'!RLE15","v":0},{"$f":"'[1]11 кл'!RLF15","v":0},{"$f":"'[1]11 кл'!RLG15","v":0},{"$f":"'[1]11 кл'!RLH15","v":0},{"$f":"'[1]11 кл'!RLI15","v":0},{"$f":"'[1]11 кл'!RLJ15","v":0},{"$f":"'[1]11 кл'!RLK15","v":0},{"$f":"'[1]11 кл'!RLL15","v":0},{"$f":"'[1]11 кл'!RLM15","v":0},{"$f":"'[1]11 кл'!RLN15","v":0},{"$f":"'[1]11 кл'!RLO15","v":0},{"$f":"'[1]11 кл'!RLP15","v":0},{"$f":"'[1]11 кл'!RLQ15","v":0},{"$f":"'[1]11 кл'!RLR15","v":0},{"$f":"'[1]11 кл'!RLS15","v":0},{"$f":"'[1]11 кл'!RLT15","v":0},{"$f":"'[1]11 кл'!RLU15","v":0},{"$f":"'[1]11 кл'!RLV15","v":0},{"$f":"'[1]11 кл'!RLW15","v":0},{"$f":"'[1]11 кл'!RLX15","v":0},{"$f":"'[1]11 кл'!RLY15","v":0},{"$f":"'[1]11 кл'!RLZ15","v":0},{"$f":"'[1]11 кл'!RMA15","v":0},{"$f":"'[1]11 кл'!RMB15","v":0},{"$f":"'[1]11 кл'!RMC15","v":0},{"$f":"'[1]11 кл'!RMD15","v":0},{"$f":"'[1]11 кл'!RME15","v":0},{"$f":"'[1]11 кл'!RMF15","v":0},{"$f":"'[1]11 кл'!RMG15","v":0},{"$f":"'[1]11 кл'!RMH15","v":0},{"$f":"'[1]11 кл'!RMI15","v":0},{"$f":"'[1]11 кл'!RMJ15","v":0},{"$f":"'[1]11 кл'!RMK15","v":0},{"$f":"'[1]11 кл'!RML15","v":0},{"$f":"'[1]11 кл'!RMM15","v":0},{"$f":"'[1]11 кл'!RMN15","v":0},{"$f":"'[1]11 кл'!RMO15","v":0},{"$f":"'[1]11 кл'!RMP15","v":0},{"$f":"'[1]11 кл'!RMQ15","v":0},{"$f":"'[1]11 кл'!RMR15","v":0},{"$f":"'[1]11 кл'!RMS15","v":0},{"$f":"'[1]11 кл'!RMT15","v":0},{"$f":"'[1]11 кл'!RMU15","v":0},{"$f":"'[1]11 кл'!RMV15","v":0},{"$f":"'[1]11 кл'!RMW15","v":0},{"$f":"'[1]11 кл'!RMX15","v":0},{"$f":"'[1]11 кл'!RMY15","v":0},{"$f":"'[1]11 кл'!RMZ15","v":0},{"$f":"'[1]11 кл'!RNA15","v":0},{"$f":"'[1]11 кл'!RNB15","v":0},{"$f":"'[1]11 кл'!RNC15","v":0},{"$f":"'[1]11 кл'!RND15","v":0},{"$f":"'[1]11 кл'!RNE15","v":0},{"$f":"'[1]11 кл'!RNF15","v":0},{"$f":"'[1]11 кл'!RNG15","v":0},{"$f":"'[1]11 кл'!RNH15","v":0},{"$f":"'[1]11 кл'!RNI15","v":0},{"$f":"'[1]11 кл'!RNJ15","v":0},{"$f":"'[1]11 кл'!RNK15","v":0},{"$f":"'[1]11 кл'!RNL15","v":0},{"$f":"'[1]11 кл'!RNM15","v":0},{"$f":"'[1]11 кл'!RNN15","v":0},{"$f":"'[1]11 кл'!RNO15","v":0},{"$f":"'[1]11 кл'!RNP15","v":0},{"$f":"'[1]11 кл'!RNQ15","v":0},{"$f":"'[1]11 кл'!RNR15","v":0},{"$f":"'[1]11 кл'!RNS15","v":0},{"$f":"'[1]11 кл'!RNT15","v":0},{"$f":"'[1]11 кл'!RNU15","v":0},{"$f":"'[1]11 кл'!RNV15","v":0},{"$f":"'[1]11 кл'!RNW15","v":0},{"$f":"'[1]11 кл'!RNX15","v":0},{"$f":"'[1]11 кл'!RNY15","v":0},{"$f":"'[1]11 кл'!RNZ15","v":0},{"$f":"'[1]11 кл'!ROA15","v":0},{"$f":"'[1]11 кл'!ROB15","v":0},{"$f":"'[1]11 кл'!ROC15","v":0},{"$f":"'[1]11 кл'!ROD15","v":0},{"$f":"'[1]11 кл'!ROE15","v":0},{"$f":"'[1]11 кл'!ROF15","v":0},{"$f":"'[1]11 кл'!ROG15","v":0},{"$f":"'[1]11 кл'!ROH15","v":0},{"$f":"'[1]11 кл'!ROI15","v":0},{"$f":"'[1]11 кл'!ROJ15","v":0},{"$f":"'[1]11 кл'!ROK15","v":0},{"$f":"'[1]11 кл'!ROL15","v":0},{"$f":"'[1]11 кл'!ROM15","v":0},{"$f":"'[1]11 кл'!RON15","v":0},{"$f":"'[1]11 кл'!ROO15","v":0},{"$f":"'[1]11 кл'!ROP15","v":0},{"$f":"'[1]11 кл'!ROQ15","v":0},{"$f":"'[1]11 кл'!ROR15","v":0},{"$f":"'[1]11 кл'!ROS15","v":0},{"$f":"'[1]11 кл'!ROT15","v":0},{"$f":"'[1]11 кл'!ROU15","v":0},{"$f":"'[1]11 кл'!ROV15","v":0},{"$f":"'[1]11 кл'!ROW15","v":0},{"$f":"'[1]11 кл'!ROX15","v":0},{"$f":"'[1]11 кл'!ROY15","v":0},{"$f":"'[1]11 кл'!ROZ15","v":0},{"$f":"'[1]11 кл'!RPA15","v":0},{"$f":"'[1]11 кл'!RPB15","v":0},{"$f":"'[1]11 кл'!RPC15","v":0},{"$f":"'[1]11 кл'!RPD15","v":0},{"$f":"'[1]11 кл'!RPE15","v":0},{"$f":"'[1]11 кл'!RPF15","v":0},{"$f":"'[1]11 кл'!RPG15","v":0},{"$f":"'[1]11 кл'!RPH15","v":0},{"$f":"'[1]11 кл'!RPI15","v":0},{"$f":"'[1]11 кл'!RPJ15","v":0},{"$f":"'[1]11 кл'!RPK15","v":0},{"$f":"'[1]11 кл'!RPL15","v":0},{"$f":"'[1]11 кл'!RPM15","v":0},{"$f":"'[1]11 кл'!RPN15","v":0},{"$f":"'[1]11 кл'!RPO15","v":0},{"$f":"'[1]11 кл'!RPP15","v":0},{"$f":"'[1]11 кл'!RPQ15","v":0},{"$f":"'[1]11 кл'!RPR15","v":0},{"$f":"'[1]11 кл'!RPS15","v":0},{"$f":"'[1]11 кл'!RPT15","v":0},{"$f":"'[1]11 кл'!RPU15","v":0},{"$f":"'[1]11 кл'!RPV15","v":0},{"$f":"'[1]11 кл'!RPW15","v":0},{"$f":"'[1]11 кл'!RPX15","v":0},{"$f":"'[1]11 кл'!RPY15","v":0},{"$f":"'[1]11 кл'!RPZ15","v":0},{"$f":"'[1]11 кл'!RQA15","v":0},{"$f":"'[1]11 кл'!RQB15","v":0},{"$f":"'[1]11 кл'!RQC15","v":0},{"$f":"'[1]11 кл'!RQD15","v":0},{"$f":"'[1]11 кл'!RQE15","v":0},{"$f":"'[1]11 кл'!RQF15","v":0},{"$f":"'[1]11 кл'!RQG15","v":0},{"$f":"'[1]11 кл'!RQH15","v":0},{"$f":"'[1]11 кл'!RQI15","v":0},{"$f":"'[1]11 кл'!RQJ15","v":0},{"$f":"'[1]11 кл'!RQK15","v":0},{"$f":"'[1]11 кл'!RQL15","v":0},{"$f":"'[1]11 кл'!RQM15","v":0},{"$f":"'[1]11 кл'!RQN15","v":0},{"$f":"'[1]11 кл'!RQO15","v":0},{"$f":"'[1]11 кл'!RQP15","v":0},{"$f":"'[1]11 кл'!RQQ15","v":0},{"$f":"'[1]11 кл'!RQR15","v":0},{"$f":"'[1]11 кл'!RQS15","v":0},{"$f":"'[1]11 кл'!RQT15","v":0},{"$f":"'[1]11 кл'!RQU15","v":0},{"$f":"'[1]11 кл'!RQV15","v":0},{"$f":"'[1]11 кл'!RQW15","v":0},{"$f":"'[1]11 кл'!RQX15","v":0},{"$f":"'[1]11 кл'!RQY15","v":0},{"$f":"'[1]11 кл'!RQZ15","v":0},{"$f":"'[1]11 кл'!RRA15","v":0},{"$f":"'[1]11 кл'!RRB15","v":0},{"$f":"'[1]11 кл'!RRC15","v":0},{"$f":"'[1]11 кл'!RRD15","v":0},{"$f":"'[1]11 кл'!RRE15","v":0},{"$f":"'[1]11 кл'!RRF15","v":0},{"$f":"'[1]11 кл'!RRG15","v":0},{"$f":"'[1]11 кл'!RRH15","v":0},{"$f":"'[1]11 кл'!RRI15","v":0},{"$f":"'[1]11 кл'!RRJ15","v":0},{"$f":"'[1]11 кл'!RRK15","v":0},{"$f":"'[1]11 кл'!RRL15","v":0},{"$f":"'[1]11 кл'!RRM15","v":0},{"$f":"'[1]11 кл'!RRN15","v":0},{"$f":"'[1]11 кл'!RRO15","v":0},{"$f":"'[1]11 кл'!RRP15","v":0},{"$f":"'[1]11 кл'!RRQ15","v":0},{"$f":"'[1]11 кл'!RRR15","v":0},{"$f":"'[1]11 кл'!RRS15","v":0},{"$f":"'[1]11 кл'!RRT15","v":0},{"$f":"'[1]11 кл'!RRU15","v":0},{"$f":"'[1]11 кл'!RRV15","v":0},{"$f":"'[1]11 кл'!RRW15","v":0},{"$f":"'[1]11 кл'!RRX15","v":0},{"$f":"'[1]11 кл'!RRY15","v":0},{"$f":"'[1]11 кл'!RRZ15","v":0},{"$f":"'[1]11 кл'!RSA15","v":0},{"$f":"'[1]11 кл'!RSB15","v":0},{"$f":"'[1]11 кл'!RSC15","v":0},{"$f":"'[1]11 кл'!RSD15","v":0},{"$f":"'[1]11 кл'!RSE15","v":0},{"$f":"'[1]11 кл'!RSF15","v":0},{"$f":"'[1]11 кл'!RSG15","v":0},{"$f":"'[1]11 кл'!RSH15","v":0},{"$f":"'[1]11 кл'!RSI15","v":0},{"$f":"'[1]11 кл'!RSJ15","v":0},{"$f":"'[1]11 кл'!RSK15","v":0},{"$f":"'[1]11 кл'!RSL15","v":0},{"$f":"'[1]11 кл'!RSM15","v":0},{"$f":"'[1]11 кл'!RSN15","v":0},{"$f":"'[1]11 кл'!RSO15","v":0},{"$f":"'[1]11 кл'!RSP15","v":0},{"$f":"'[1]11 кл'!RSQ15","v":0},{"$f":"'[1]11 кл'!RSR15","v":0},{"$f":"'[1]11 кл'!RSS15","v":0},{"$f":"'[1]11 кл'!RST15","v":0},{"$f":"'[1]11 кл'!RSU15","v":0},{"$f":"'[1]11 кл'!RSV15","v":0},{"$f":"'[1]11 кл'!RSW15","v":0},{"$f":"'[1]11 кл'!RSX15","v":0},{"$f":"'[1]11 кл'!RSY15","v":0},{"$f":"'[1]11 кл'!RSZ15","v":0},{"$f":"'[1]11 кл'!RTA15","v":0},{"$f":"'[1]11 кл'!RTB15","v":0},{"$f":"'[1]11 кл'!RTC15","v":0},{"$f":"'[1]11 кл'!RTD15","v":0},{"$f":"'[1]11 кл'!RTE15","v":0},{"$f":"'[1]11 кл'!RTF15","v":0},{"$f":"'[1]11 кл'!RTG15","v":0},{"$f":"'[1]11 кл'!RTH15","v":0},{"$f":"'[1]11 кл'!RTI15","v":0},{"$f":"'[1]11 кл'!RTJ15","v":0},{"$f":"'[1]11 кл'!RTK15","v":0},{"$f":"'[1]11 кл'!RTL15","v":0},{"$f":"'[1]11 кл'!RTM15","v":0},{"$f":"'[1]11 кл'!RTN15","v":0},{"$f":"'[1]11 кл'!RTO15","v":0},{"$f":"'[1]11 кл'!RTP15","v":0},{"$f":"'[1]11 кл'!RTQ15","v":0},{"$f":"'[1]11 кл'!RTR15","v":0},{"$f":"'[1]11 кл'!RTS15","v":0},{"$f":"'[1]11 кл'!RTT15","v":0},{"$f":"'[1]11 кл'!RTU15","v":0},{"$f":"'[1]11 кл'!RTV15","v":0},{"$f":"'[1]11 кл'!RTW15","v":0},{"$f":"'[1]11 кл'!RTX15","v":0},{"$f":"'[1]11 кл'!RTY15","v":0},{"$f":"'[1]11 кл'!RTZ15","v":0},{"$f":"'[1]11 кл'!RUA15","v":0},{"$f":"'[1]11 кл'!RUB15","v":0},{"$f":"'[1]11 кл'!RUC15","v":0},{"$f":"'[1]11 кл'!RUD15","v":0},{"$f":"'[1]11 кл'!RUE15","v":0},{"$f":"'[1]11 кл'!RUF15","v":0},{"$f":"'[1]11 кл'!RUG15","v":0},{"$f":"'[1]11 кл'!RUH15","v":0},{"$f":"'[1]11 кл'!RUI15","v":0},{"$f":"'[1]11 кл'!RUJ15","v":0},{"$f":"'[1]11 кл'!RUK15","v":0},{"$f":"'[1]11 кл'!RUL15","v":0},{"$f":"'[1]11 кл'!RUM15","v":0},{"$f":"'[1]11 кл'!RUN15","v":0},{"$f":"'[1]11 кл'!RUO15","v":0},{"$f":"'[1]11 кл'!RUP15","v":0},{"$f":"'[1]11 кл'!RUQ15","v":0},{"$f":"'[1]11 кл'!RUR15","v":0},{"$f":"'[1]11 кл'!RUS15","v":0},{"$f":"'[1]11 кл'!RUT15","v":0},{"$f":"'[1]11 кл'!RUU15","v":0},{"$f":"'[1]11 кл'!RUV15","v":0},{"$f":"'[1]11 кл'!RUW15","v":0},{"$f":"'[1]11 кл'!RUX15","v":0},{"$f":"'[1]11 кл'!RUY15","v":0},{"$f":"'[1]11 кл'!RUZ15","v":0},{"$f":"'[1]11 кл'!RVA15","v":0},{"$f":"'[1]11 кл'!RVB15","v":0},{"$f":"'[1]11 кл'!RVC15","v":0},{"$f":"'[1]11 кл'!RVD15","v":0},{"$f":"'[1]11 кл'!RVE15","v":0},{"$f":"'[1]11 кл'!RVF15","v":0},{"$f":"'[1]11 кл'!RVG15","v":0},{"$f":"'[1]11 кл'!RVH15","v":0},{"$f":"'[1]11 кл'!RVI15","v":0},{"$f":"'[1]11 кл'!RVJ15","v":0},{"$f":"'[1]11 кл'!RVK15","v":0},{"$f":"'[1]11 кл'!RVL15","v":0},{"$f":"'[1]11 кл'!RVM15","v":0},{"$f":"'[1]11 кл'!RVN15","v":0},{"$f":"'[1]11 кл'!RVO15","v":0},{"$f":"'[1]11 кл'!RVP15","v":0},{"$f":"'[1]11 кл'!RVQ15","v":0},{"$f":"'[1]11 кл'!RVR15","v":0},{"$f":"'[1]11 кл'!RVS15","v":0},{"$f":"'[1]11 кл'!RVT15","v":0},{"$f":"'[1]11 кл'!RVU15","v":0},{"$f":"'[1]11 кл'!RVV15","v":0},{"$f":"'[1]11 кл'!RVW15","v":0},{"$f":"'[1]11 кл'!RVX15","v":0},{"$f":"'[1]11 кл'!RVY15","v":0},{"$f":"'[1]11 кл'!RVZ15","v":0},{"$f":"'[1]11 кл'!RWA15","v":0},{"$f":"'[1]11 кл'!RWB15","v":0},{"$f":"'[1]11 кл'!RWC15","v":0},{"$f":"'[1]11 кл'!RWD15","v":0},{"$f":"'[1]11 кл'!RWE15","v":0},{"$f":"'[1]11 кл'!RWF15","v":0},{"$f":"'[1]11 кл'!RWG15","v":0},{"$f":"'[1]11 кл'!RWH15","v":0},{"$f":"'[1]11 кл'!RWI15","v":0},{"$f":"'[1]11 кл'!RWJ15","v":0},{"$f":"'[1]11 кл'!RWK15","v":0},{"$f":"'[1]11 кл'!RWL15","v":0},{"$f":"'[1]11 кл'!RWM15","v":0},{"$f":"'[1]11 кл'!RWN15","v":0},{"$f":"'[1]11 кл'!RWO15","v":0},{"$f":"'[1]11 кл'!RWP15","v":0},{"$f":"'[1]11 кл'!RWQ15","v":0},{"$f":"'[1]11 кл'!RWR15","v":0},{"$f":"'[1]11 кл'!RWS15","v":0},{"$f":"'[1]11 кл'!RWT15","v":0},{"$f":"'[1]11 кл'!RWU15","v":0},{"$f":"'[1]11 кл'!RWV15","v":0},{"$f":"'[1]11 кл'!RWW15","v":0},{"$f":"'[1]11 кл'!RWX15","v":0},{"$f":"'[1]11 кл'!RWY15","v":0},{"$f":"'[1]11 кл'!RWZ15","v":0},{"$f":"'[1]11 кл'!RXA15","v":0},{"$f":"'[1]11 кл'!RXB15","v":0},{"$f":"'[1]11 кл'!RXC15","v":0},{"$f":"'[1]11 кл'!RXD15","v":0},{"$f":"'[1]11 кл'!RXE15","v":0},{"$f":"'[1]11 кл'!RXF15","v":0},{"$f":"'[1]11 кл'!RXG15","v":0},{"$f":"'[1]11 кл'!RXH15","v":0},{"$f":"'[1]11 кл'!RXI15","v":0},{"$f":"'[1]11 кл'!RXJ15","v":0},{"$f":"'[1]11 кл'!RXK15","v":0},{"$f":"'[1]11 кл'!RXL15","v":0},{"$f":"'[1]11 кл'!RXM15","v":0},{"$f":"'[1]11 кл'!RXN15","v":0},{"$f":"'[1]11 кл'!RXO15","v":0},{"$f":"'[1]11 кл'!RXP15","v":0},{"$f":"'[1]11 кл'!RXQ15","v":0},{"$f":"'[1]11 кл'!RXR15","v":0},{"$f":"'[1]11 кл'!RXS15","v":0},{"$f":"'[1]11 кл'!RXT15","v":0},{"$f":"'[1]11 кл'!RXU15","v":0},{"$f":"'[1]11 кл'!RXV15","v":0},{"$f":"'[1]11 кл'!RXW15","v":0},{"$f":"'[1]11 кл'!RXX15","v":0},{"$f":"'[1]11 кл'!RXY15","v":0},{"$f":"'[1]11 кл'!RXZ15","v":0},{"$f":"'[1]11 кл'!RYA15","v":0},{"$f":"'[1]11 кл'!RYB15","v":0},{"$f":"'[1]11 кл'!RYC15","v":0},{"$f":"'[1]11 кл'!RYD15","v":0},{"$f":"'[1]11 кл'!RYE15","v":0},{"$f":"'[1]11 кл'!RYF15","v":0},{"$f":"'[1]11 кл'!RYG15","v":0},{"$f":"'[1]11 кл'!RYH15","v":0},{"$f":"'[1]11 кл'!RYI15","v":0},{"$f":"'[1]11 кл'!RYJ15","v":0},{"$f":"'[1]11 кл'!RYK15","v":0},{"$f":"'[1]11 кл'!RYL15","v":0},{"$f":"'[1]11 кл'!RYM15","v":0},{"$f":"'[1]11 кл'!RYN15","v":0},{"$f":"'[1]11 кл'!RYO15","v":0},{"$f":"'[1]11 кл'!RYP15","v":0},{"$f":"'[1]11 кл'!RYQ15","v":0},{"$f":"'[1]11 кл'!RYR15","v":0},{"$f":"'[1]11 кл'!RYS15","v":0},{"$f":"'[1]11 кл'!RYT15","v":0},{"$f":"'[1]11 кл'!RYU15","v":0},{"$f":"'[1]11 кл'!RYV15","v":0},{"$f":"'[1]11 кл'!RYW15","v":0},{"$f":"'[1]11 кл'!RYX15","v":0},{"$f":"'[1]11 кл'!RYY15","v":0},{"$f":"'[1]11 кл'!RYZ15","v":0},{"$f":"'[1]11 кл'!RZA15","v":0},{"$f":"'[1]11 кл'!RZB15","v":0},{"$f":"'[1]11 кл'!RZC15","v":0},{"$f":"'[1]11 кл'!RZD15","v":0},{"$f":"'[1]11 кл'!RZE15","v":0},{"$f":"'[1]11 кл'!RZF15","v":0},{"$f":"'[1]11 кл'!RZG15","v":0},{"$f":"'[1]11 кл'!RZH15","v":0},{"$f":"'[1]11 кл'!RZI15","v":0},{"$f":"'[1]11 кл'!RZJ15","v":0},{"$f":"'[1]11 кл'!RZK15","v":0},{"$f":"'[1]11 кл'!RZL15","v":0},{"$f":"'[1]11 кл'!RZM15","v":0},{"$f":"'[1]11 кл'!RZN15","v":0},{"$f":"'[1]11 кл'!RZO15","v":0},{"$f":"'[1]11 кл'!RZP15","v":0},{"$f":"'[1]11 кл'!RZQ15","v":0},{"$f":"'[1]11 кл'!RZR15","v":0},{"$f":"'[1]11 кл'!RZS15","v":0},{"$f":"'[1]11 кл'!RZT15","v":0},{"$f":"'[1]11 кл'!RZU15","v":0},{"$f":"'[1]11 кл'!RZV15","v":0},{"$f":"'[1]11 кл'!RZW15","v":0},{"$f":"'[1]11 кл'!RZX15","v":0},{"$f":"'[1]11 кл'!RZY15","v":0},{"$f":"'[1]11 кл'!RZZ15","v":0},{"$f":"'[1]11 кл'!SAA15","v":0},{"$f":"'[1]11 кл'!SAB15","v":0},{"$f":"'[1]11 кл'!SAC15","v":0},{"$f":"'[1]11 кл'!SAD15","v":0},{"$f":"'[1]11 кл'!SAE15","v":0},{"$f":"'[1]11 кл'!SAF15","v":0},{"$f":"'[1]11 кл'!SAG15","v":0},{"$f":"'[1]11 кл'!SAH15","v":0},{"$f":"'[1]11 кл'!SAI15","v":0},{"$f":"'[1]11 кл'!SAJ15","v":0},{"$f":"'[1]11 кл'!SAK15","v":0},{"$f":"'[1]11 кл'!SAL15","v":0},{"$f":"'[1]11 кл'!SAM15","v":0},{"$f":"'[1]11 кл'!SAN15","v":0},{"$f":"'[1]11 кл'!SAO15","v":0},{"$f":"'[1]11 кл'!SAP15","v":0},{"$f":"'[1]11 кл'!SAQ15","v":0},{"$f":"'[1]11 кл'!SAR15","v":0},{"$f":"'[1]11 кл'!SAS15","v":0},{"$f":"'[1]11 кл'!SAT15","v":0},{"$f":"'[1]11 кл'!SAU15","v":0},{"$f":"'[1]11 кл'!SAV15","v":0},{"$f":"'[1]11 кл'!SAW15","v":0},{"$f":"'[1]11 кл'!SAX15","v":0},{"$f":"'[1]11 кл'!SAY15","v":0},{"$f":"'[1]11 кл'!SAZ15","v":0},{"$f":"'[1]11 кл'!SBA15","v":0},{"$f":"'[1]11 кл'!SBB15","v":0},{"$f":"'[1]11 кл'!SBC15","v":0},{"$f":"'[1]11 кл'!SBD15","v":0},{"$f":"'[1]11 кл'!SBE15","v":0},{"$f":"'[1]11 кл'!SBF15","v":0},{"$f":"'[1]11 кл'!SBG15","v":0},{"$f":"'[1]11 кл'!SBH15","v":0},{"$f":"'[1]11 кл'!SBI15","v":0},{"$f":"'[1]11 кл'!SBJ15","v":0},{"$f":"'[1]11 кл'!SBK15","v":0},{"$f":"'[1]11 кл'!SBL15","v":0},{"$f":"'[1]11 кл'!SBM15","v":0},{"$f":"'[1]11 кл'!SBN15","v":0},{"$f":"'[1]11 кл'!SBO15","v":0},{"$f":"'[1]11 кл'!SBP15","v":0},{"$f":"'[1]11 кл'!SBQ15","v":0},{"$f":"'[1]11 кл'!SBR15","v":0},{"$f":"'[1]11 кл'!SBS15","v":0},{"$f":"'[1]11 кл'!SBT15","v":0},{"$f":"'[1]11 кл'!SBU15","v":0},{"$f":"'[1]11 кл'!SBV15","v":0},{"$f":"'[1]11 кл'!SBW15","v":0},{"$f":"'[1]11 кл'!SBX15","v":0},{"$f":"'[1]11 кл'!SBY15","v":0},{"$f":"'[1]11 кл'!SBZ15","v":0},{"$f":"'[1]11 кл'!SCA15","v":0},{"$f":"'[1]11 кл'!SCB15","v":0},{"$f":"'[1]11 кл'!SCC15","v":0},{"$f":"'[1]11 кл'!SCD15","v":0},{"$f":"'[1]11 кл'!SCE15","v":0},{"$f":"'[1]11 кл'!SCF15","v":0},{"$f":"'[1]11 кл'!SCG15","v":0},{"$f":"'[1]11 кл'!SCH15","v":0},{"$f":"'[1]11 кл'!SCI15","v":0},{"$f":"'[1]11 кл'!SCJ15","v":0},{"$f":"'[1]11 кл'!SCK15","v":0},{"$f":"'[1]11 кл'!SCL15","v":0},{"$f":"'[1]11 кл'!SCM15","v":0},{"$f":"'[1]11 кл'!SCN15","v":0},{"$f":"'[1]11 кл'!SCO15","v":0},{"$f":"'[1]11 кл'!SCP15","v":0},{"$f":"'[1]11 кл'!SCQ15","v":0},{"$f":"'[1]11 кл'!SCR15","v":0},{"$f":"'[1]11 кл'!SCS15","v":0},{"$f":"'[1]11 кл'!SCT15","v":0},{"$f":"'[1]11 кл'!SCU15","v":0},{"$f":"'[1]11 кл'!SCV15","v":0},{"$f":"'[1]11 кл'!SCW15","v":0},{"$f":"'[1]11 кл'!SCX15","v":0},{"$f":"'[1]11 кл'!SCY15","v":0},{"$f":"'[1]11 кл'!SCZ15","v":0},{"$f":"'[1]11 кл'!SDA15","v":0},{"$f":"'[1]11 кл'!SDB15","v":0},{"$f":"'[1]11 кл'!SDC15","v":0},{"$f":"'[1]11 кл'!SDD15","v":0},{"$f":"'[1]11 кл'!SDE15","v":0},{"$f":"'[1]11 кл'!SDF15","v":0},{"$f":"'[1]11 кл'!SDG15","v":0},{"$f":"'[1]11 кл'!SDH15","v":0},{"$f":"'[1]11 кл'!SDI15","v":0},{"$f":"'[1]11 кл'!SDJ15","v":0},{"$f":"'[1]11 кл'!SDK15","v":0},{"$f":"'[1]11 кл'!SDL15","v":0},{"$f":"'[1]11 кл'!SDM15","v":0},{"$f":"'[1]11 кл'!SDN15","v":0},{"$f":"'[1]11 кл'!SDO15","v":0},{"$f":"'[1]11 кл'!SDP15","v":0},{"$f":"'[1]11 кл'!SDQ15","v":0},{"$f":"'[1]11 кл'!SDR15","v":0},{"$f":"'[1]11 кл'!SDS15","v":0},{"$f":"'[1]11 кл'!SDT15","v":0},{"$f":"'[1]11 кл'!SDU15","v":0},{"$f":"'[1]11 кл'!SDV15","v":0},{"$f":"'[1]11 кл'!SDW15","v":0},{"$f":"'[1]11 кл'!SDX15","v":0},{"$f":"'[1]11 кл'!SDY15","v":0},{"$f":"'[1]11 кл'!SDZ15","v":0},{"$f":"'[1]11 кл'!SEA15","v":0},{"$f":"'[1]11 кл'!SEB15","v":0},{"$f":"'[1]11 кл'!SEC15","v":0},{"$f":"'[1]11 кл'!SED15","v":0},{"$f":"'[1]11 кл'!SEE15","v":0},{"$f":"'[1]11 кл'!SEF15","v":0},{"$f":"'[1]11 кл'!SEG15","v":0},{"$f":"'[1]11 кл'!SEH15","v":0},{"$f":"'[1]11 кл'!SEI15","v":0},{"$f":"'[1]11 кл'!SEJ15","v":0},{"$f":"'[1]11 кл'!SEK15","v":0},{"$f":"'[1]11 кл'!SEL15","v":0},{"$f":"'[1]11 кл'!SEM15","v":0},{"$f":"'[1]11 кл'!SEN15","v":0},{"$f":"'[1]11 кл'!SEO15","v":0},{"$f":"'[1]11 кл'!SEP15","v":0},{"$f":"'[1]11 кл'!SEQ15","v":0},{"$f":"'[1]11 кл'!SER15","v":0},{"$f":"'[1]11 кл'!SES15","v":0},{"$f":"'[1]11 кл'!SET15","v":0},{"$f":"'[1]11 кл'!SEU15","v":0},{"$f":"'[1]11 кл'!SEV15","v":0},{"$f":"'[1]11 кл'!SEW15","v":0},{"$f":"'[1]11 кл'!SEX15","v":0},{"$f":"'[1]11 кл'!SEY15","v":0},{"$f":"'[1]11 кл'!SEZ15","v":0},{"$f":"'[1]11 кл'!SFA15","v":0},{"$f":"'[1]11 кл'!SFB15","v":0},{"$f":"'[1]11 кл'!SFC15","v":0},{"$f":"'[1]11 кл'!SFD15","v":0},{"$f":"'[1]11 кл'!SFE15","v":0},{"$f":"'[1]11 кл'!SFF15","v":0},{"$f":"'[1]11 кл'!SFG15","v":0},{"$f":"'[1]11 кл'!SFH15","v":0},{"$f":"'[1]11 кл'!SFI15","v":0},{"$f":"'[1]11 кл'!SFJ15","v":0},{"$f":"'[1]11 кл'!SFK15","v":0},{"$f":"'[1]11 кл'!SFL15","v":0},{"$f":"'[1]11 кл'!SFM15","v":0},{"$f":"'[1]11 кл'!SFN15","v":0},{"$f":"'[1]11 кл'!SFO15","v":0},{"$f":"'[1]11 кл'!SFP15","v":0},{"$f":"'[1]11 кл'!SFQ15","v":0},{"$f":"'[1]11 кл'!SFR15","v":0},{"$f":"'[1]11 кл'!SFS15","v":0},{"$f":"'[1]11 кл'!SFT15","v":0},{"$f":"'[1]11 кл'!SFU15","v":0},{"$f":"'[1]11 кл'!SFV15","v":0},{"$f":"'[1]11 кл'!SFW15","v":0},{"$f":"'[1]11 кл'!SFX15","v":0},{"$f":"'[1]11 кл'!SFY15","v":0},{"$f":"'[1]11 кл'!SFZ15","v":0},{"$f":"'[1]11 кл'!SGA15","v":0},{"$f":"'[1]11 кл'!SGB15","v":0},{"$f":"'[1]11 кл'!SGC15","v":0},{"$f":"'[1]11 кл'!SGD15","v":0},{"$f":"'[1]11 кл'!SGE15","v":0},{"$f":"'[1]11 кл'!SGF15","v":0},{"$f":"'[1]11 кл'!SGG15","v":0},{"$f":"'[1]11 кл'!SGH15","v":0},{"$f":"'[1]11 кл'!SGI15","v":0},{"$f":"'[1]11 кл'!SGJ15","v":0},{"$f":"'[1]11 кл'!SGK15","v":0},{"$f":"'[1]11 кл'!SGL15","v":0},{"$f":"'[1]11 кл'!SGM15","v":0},{"$f":"'[1]11 кл'!SGN15","v":0},{"$f":"'[1]11 кл'!SGO15","v":0},{"$f":"'[1]11 кл'!SGP15","v":0},{"$f":"'[1]11 кл'!SGQ15","v":0},{"$f":"'[1]11 кл'!SGR15","v":0},{"$f":"'[1]11 кл'!SGS15","v":0},{"$f":"'[1]11 кл'!SGT15","v":0},{"$f":"'[1]11 кл'!SGU15","v":0},{"$f":"'[1]11 кл'!SGV15","v":0},{"$f":"'[1]11 кл'!SGW15","v":0},{"$f":"'[1]11 кл'!SGX15","v":0},{"$f":"'[1]11 кл'!SGY15","v":0},{"$f":"'[1]11 кл'!SGZ15","v":0},{"$f":"'[1]11 кл'!SHA15","v":0},{"$f":"'[1]11 кл'!SHB15","v":0},{"$f":"'[1]11 кл'!SHC15","v":0},{"$f":"'[1]11 кл'!SHD15","v":0},{"$f":"'[1]11 кл'!SHE15","v":0},{"$f":"'[1]11 кл'!SHF15","v":0},{"$f":"'[1]11 кл'!SHG15","v":0},{"$f":"'[1]11 кл'!SHH15","v":0},{"$f":"'[1]11 кл'!SHI15","v":0},{"$f":"'[1]11 кл'!SHJ15","v":0},{"$f":"'[1]11 кл'!SHK15","v":0},{"$f":"'[1]11 кл'!SHL15","v":0},{"$f":"'[1]11 кл'!SHM15","v":0},{"$f":"'[1]11 кл'!SHN15","v":0},{"$f":"'[1]11 кл'!SHO15","v":0},{"$f":"'[1]11 кл'!SHP15","v":0},{"$f":"'[1]11 кл'!SHQ15","v":0},{"$f":"'[1]11 кл'!SHR15","v":0},{"$f":"'[1]11 кл'!SHS15","v":0},{"$f":"'[1]11 кл'!SHT15","v":0},{"$f":"'[1]11 кл'!SHU15","v":0},{"$f":"'[1]11 кл'!SHV15","v":0},{"$f":"'[1]11 кл'!SHW15","v":0},{"$f":"'[1]11 кл'!SHX15","v":0},{"$f":"'[1]11 кл'!SHY15","v":0},{"$f":"'[1]11 кл'!SHZ15","v":0},{"$f":"'[1]11 кл'!SIA15","v":0},{"$f":"'[1]11 кл'!SIB15","v":0},{"$f":"'[1]11 кл'!SIC15","v":0},{"$f":"'[1]11 кл'!SID15","v":0},{"$f":"'[1]11 кл'!SIE15","v":0},{"$f":"'[1]11 кл'!SIF15","v":0},{"$f":"'[1]11 кл'!SIG15","v":0},{"$f":"'[1]11 кл'!SIH15","v":0},{"$f":"'[1]11 кл'!SII15","v":0},{"$f":"'[1]11 кл'!SIJ15","v":0},{"$f":"'[1]11 кл'!SIK15","v":0},{"$f":"'[1]11 кл'!SIL15","v":0},{"$f":"'[1]11 кл'!SIM15","v":0},{"$f":"'[1]11 кл'!SIN15","v":0},{"$f":"'[1]11 кл'!SIO15","v":0},{"$f":"'[1]11 кл'!SIP15","v":0},{"$f":"'[1]11 кл'!SIQ15","v":0},{"$f":"'[1]11 кл'!SIR15","v":0},{"$f":"'[1]11 кл'!SIS15","v":0},{"$f":"'[1]11 кл'!SIT15","v":0},{"$f":"'[1]11 кл'!SIU15","v":0},{"$f":"'[1]11 кл'!SIV15","v":0},{"$f":"'[1]11 кл'!SIW15","v":0},{"$f":"'[1]11 кл'!SIX15","v":0},{"$f":"'[1]11 кл'!SIY15","v":0},{"$f":"'[1]11 кл'!SIZ15","v":0},{"$f":"'[1]11 кл'!SJA15","v":0},{"$f":"'[1]11 кл'!SJB15","v":0},{"$f":"'[1]11 кл'!SJC15","v":0},{"$f":"'[1]11 кл'!SJD15","v":0},{"$f":"'[1]11 кл'!SJE15","v":0},{"$f":"'[1]11 кл'!SJF15","v":0},{"$f":"'[1]11 кл'!SJG15","v":0},{"$f":"'[1]11 кл'!SJH15","v":0},{"$f":"'[1]11 кл'!SJI15","v":0},{"$f":"'[1]11 кл'!SJJ15","v":0},{"$f":"'[1]11 кл'!SJK15","v":0},{"$f":"'[1]11 кл'!SJL15","v":0},{"$f":"'[1]11 кл'!SJM15","v":0},{"$f":"'[1]11 кл'!SJN15","v":0},{"$f":"'[1]11 кл'!SJO15","v":0},{"$f":"'[1]11 кл'!SJP15","v":0},{"$f":"'[1]11 кл'!SJQ15","v":0},{"$f":"'[1]11 кл'!SJR15","v":0},{"$f":"'[1]11 кл'!SJS15","v":0},{"$f":"'[1]11 кл'!SJT15","v":0},{"$f":"'[1]11 кл'!SJU15","v":0},{"$f":"'[1]11 кл'!SJV15","v":0},{"$f":"'[1]11 кл'!SJW15","v":0},{"$f":"'[1]11 кл'!SJX15","v":0},{"$f":"'[1]11 кл'!SJY15","v":0},{"$f":"'[1]11 кл'!SJZ15","v":0},{"$f":"'[1]11 кл'!SKA15","v":0},{"$f":"'[1]11 кл'!SKB15","v":0},{"$f":"'[1]11 кл'!SKC15","v":0},{"$f":"'[1]11 кл'!SKD15","v":0},{"$f":"'[1]11 кл'!SKE15","v":0},{"$f":"'[1]11 кл'!SKF15","v":0},{"$f":"'[1]11 кл'!SKG15","v":0},{"$f":"'[1]11 кл'!SKH15","v":0},{"$f":"'[1]11 кл'!SKI15","v":0},{"$f":"'[1]11 кл'!SKJ15","v":0},{"$f":"'[1]11 кл'!SKK15","v":0},{"$f":"'[1]11 кл'!SKL15","v":0},{"$f":"'[1]11 кл'!SKM15","v":0},{"$f":"'[1]11 кл'!SKN15","v":0},{"$f":"'[1]11 кл'!SKO15","v":0},{"$f":"'[1]11 кл'!SKP15","v":0},{"$f":"'[1]11 кл'!SKQ15","v":0},{"$f":"'[1]11 кл'!SKR15","v":0},{"$f":"'[1]11 кл'!SKS15","v":0},{"$f":"'[1]11 кл'!SKT15","v":0},{"$f":"'[1]11 кл'!SKU15","v":0},{"$f":"'[1]11 кл'!SKV15","v":0},{"$f":"'[1]11 кл'!SKW15","v":0},{"$f":"'[1]11 кл'!SKX15","v":0},{"$f":"'[1]11 кл'!SKY15","v":0},{"$f":"'[1]11 кл'!SKZ15","v":0},{"$f":"'[1]11 кл'!SLA15","v":0},{"$f":"'[1]11 кл'!SLB15","v":0},{"$f":"'[1]11 кл'!SLC15","v":0},{"$f":"'[1]11 кл'!SLD15","v":0},{"$f":"'[1]11 кл'!SLE15","v":0},{"$f":"'[1]11 кл'!SLF15","v":0},{"$f":"'[1]11 кл'!SLG15","v":0},{"$f":"'[1]11 кл'!SLH15","v":0},{"$f":"'[1]11 кл'!SLI15","v":0},{"$f":"'[1]11 кл'!SLJ15","v":0},{"$f":"'[1]11 кл'!SLK15","v":0},{"$f":"'[1]11 кл'!SLL15","v":0},{"$f":"'[1]11 кл'!SLM15","v":0},{"$f":"'[1]11 кл'!SLN15","v":0},{"$f":"'[1]11 кл'!SLO15","v":0},{"$f":"'[1]11 кл'!SLP15","v":0},{"$f":"'[1]11 кл'!SLQ15","v":0},{"$f":"'[1]11 кл'!SLR15","v":0},{"$f":"'[1]11 кл'!SLS15","v":0},{"$f":"'[1]11 кл'!SLT15","v":0},{"$f":"'[1]11 кл'!SLU15","v":0},{"$f":"'[1]11 кл'!SLV15","v":0},{"$f":"'[1]11 кл'!SLW15","v":0},{"$f":"'[1]11 кл'!SLX15","v":0},{"$f":"'[1]11 кл'!SLY15","v":0},{"$f":"'[1]11 кл'!SLZ15","v":0},{"$f":"'[1]11 кл'!SMA15","v":0},{"$f":"'[1]11 кл'!SMB15","v":0},{"$f":"'[1]11 кл'!SMC15","v":0},{"$f":"'[1]11 кл'!SMD15","v":0},{"$f":"'[1]11 кл'!SME15","v":0},{"$f":"'[1]11 кл'!SMF15","v":0},{"$f":"'[1]11 кл'!SMG15","v":0},{"$f":"'[1]11 кл'!SMH15","v":0},{"$f":"'[1]11 кл'!SMI15","v":0},{"$f":"'[1]11 кл'!SMJ15","v":0},{"$f":"'[1]11 кл'!SMK15","v":0},{"$f":"'[1]11 кл'!SML15","v":0},{"$f":"'[1]11 кл'!SMM15","v":0},{"$f":"'[1]11 кл'!SMN15","v":0},{"$f":"'[1]11 кл'!SMO15","v":0},{"$f":"'[1]11 кл'!SMP15","v":0},{"$f":"'[1]11 кл'!SMQ15","v":0},{"$f":"'[1]11 кл'!SMR15","v":0},{"$f":"'[1]11 кл'!SMS15","v":0},{"$f":"'[1]11 кл'!SMT15","v":0},{"$f":"'[1]11 кл'!SMU15","v":0},{"$f":"'[1]11 кл'!SMV15","v":0},{"$f":"'[1]11 кл'!SMW15","v":0},{"$f":"'[1]11 кл'!SMX15","v":0},{"$f":"'[1]11 кл'!SMY15","v":0},{"$f":"'[1]11 кл'!SMZ15","v":0},{"$f":"'[1]11 кл'!SNA15","v":0},{"$f":"'[1]11 кл'!SNB15","v":0},{"$f":"'[1]11 кл'!SNC15","v":0},{"$f":"'[1]11 кл'!SND15","v":0},{"$f":"'[1]11 кл'!SNE15","v":0},{"$f":"'[1]11 кл'!SNF15","v":0},{"$f":"'[1]11 кл'!SNG15","v":0},{"$f":"'[1]11 кл'!SNH15","v":0},{"$f":"'[1]11 кл'!SNI15","v":0},{"$f":"'[1]11 кл'!SNJ15","v":0},{"$f":"'[1]11 кл'!SNK15","v":0},{"$f":"'[1]11 кл'!SNL15","v":0},{"$f":"'[1]11 кл'!SNM15","v":0},{"$f":"'[1]11 кл'!SNN15","v":0},{"$f":"'[1]11 кл'!SNO15","v":0},{"$f":"'[1]11 кл'!SNP15","v":0},{"$f":"'[1]11 кл'!SNQ15","v":0},{"$f":"'[1]11 кл'!SNR15","v":0},{"$f":"'[1]11 кл'!SNS15","v":0},{"$f":"'[1]11 кл'!SNT15","v":0},{"$f":"'[1]11 кл'!SNU15","v":0},{"$f":"'[1]11 кл'!SNV15","v":0},{"$f":"'[1]11 кл'!SNW15","v":0},{"$f":"'[1]11 кл'!SNX15","v":0},{"$f":"'[1]11 кл'!SNY15","v":0},{"$f":"'[1]11 кл'!SNZ15","v":0},{"$f":"'[1]11 кл'!SOA15","v":0},{"$f":"'[1]11 кл'!SOB15","v":0},{"$f":"'[1]11 кл'!SOC15","v":0},{"$f":"'[1]11 кл'!SOD15","v":0},{"$f":"'[1]11 кл'!SOE15","v":0},{"$f":"'[1]11 кл'!SOF15","v":0},{"$f":"'[1]11 кл'!SOG15","v":0},{"$f":"'[1]11 кл'!SOH15","v":0},{"$f":"'[1]11 кл'!SOI15","v":0},{"$f":"'[1]11 кл'!SOJ15","v":0},{"$f":"'[1]11 кл'!SOK15","v":0},{"$f":"'[1]11 кл'!SOL15","v":0},{"$f":"'[1]11 кл'!SOM15","v":0},{"$f":"'[1]11 кл'!SON15","v":0},{"$f":"'[1]11 кл'!SOO15","v":0},{"$f":"'[1]11 кл'!SOP15","v":0},{"$f":"'[1]11 кл'!SOQ15","v":0},{"$f":"'[1]11 кл'!SOR15","v":0},{"$f":"'[1]11 кл'!SOS15","v":0},{"$f":"'[1]11 кл'!SOT15","v":0},{"$f":"'[1]11 кл'!SOU15","v":0},{"$f":"'[1]11 кл'!SOV15","v":0},{"$f":"'[1]11 кл'!SOW15","v":0},{"$f":"'[1]11 кл'!SOX15","v":0},{"$f":"'[1]11 кл'!SOY15","v":0},{"$f":"'[1]11 кл'!SOZ15","v":0},{"$f":"'[1]11 кл'!SPA15","v":0},{"$f":"'[1]11 кл'!SPB15","v":0},{"$f":"'[1]11 кл'!SPC15","v":0},{"$f":"'[1]11 кл'!SPD15","v":0},{"$f":"'[1]11 кл'!SPE15","v":0},{"$f":"'[1]11 кл'!SPF15","v":0},{"$f":"'[1]11 кл'!SPG15","v":0},{"$f":"'[1]11 кл'!SPH15","v":0},{"$f":"'[1]11 кл'!SPI15","v":0},{"$f":"'[1]11 кл'!SPJ15","v":0},{"$f":"'[1]11 кл'!SPK15","v":0},{"$f":"'[1]11 кл'!SPL15","v":0},{"$f":"'[1]11 кл'!SPM15","v":0},{"$f":"'[1]11 кл'!SPN15","v":0},{"$f":"'[1]11 кл'!SPO15","v":0},{"$f":"'[1]11 кл'!SPP15","v":0},{"$f":"'[1]11 кл'!SPQ15","v":0},{"$f":"'[1]11 кл'!SPR15","v":0},{"$f":"'[1]11 кл'!SPS15","v":0},{"$f":"'[1]11 кл'!SPT15","v":0},{"$f":"'[1]11 кл'!SPU15","v":0},{"$f":"'[1]11 кл'!SPV15","v":0},{"$f":"'[1]11 кл'!SPW15","v":0},{"$f":"'[1]11 кл'!SPX15","v":0},{"$f":"'[1]11 кл'!SPY15","v":0},{"$f":"'[1]11 кл'!SPZ15","v":0},{"$f":"'[1]11 кл'!SQA15","v":0},{"$f":"'[1]11 кл'!SQB15","v":0},{"$f":"'[1]11 кл'!SQC15","v":0},{"$f":"'[1]11 кл'!SQD15","v":0},{"$f":"'[1]11 кл'!SQE15","v":0},{"$f":"'[1]11 кл'!SQF15","v":0},{"$f":"'[1]11 кл'!SQG15","v":0},{"$f":"'[1]11 кл'!SQH15","v":0},{"$f":"'[1]11 кл'!SQI15","v":0},{"$f":"'[1]11 кл'!SQJ15","v":0},{"$f":"'[1]11 кл'!SQK15","v":0},{"$f":"'[1]11 кл'!SQL15","v":0},{"$f":"'[1]11 кл'!SQM15","v":0},{"$f":"'[1]11 кл'!SQN15","v":0},{"$f":"'[1]11 кл'!SQO15","v":0},{"$f":"'[1]11 кл'!SQP15","v":0},{"$f":"'[1]11 кл'!SQQ15","v":0},{"$f":"'[1]11 кл'!SQR15","v":0},{"$f":"'[1]11 кл'!SQS15","v":0},{"$f":"'[1]11 кл'!SQT15","v":0},{"$f":"'[1]11 кл'!SQU15","v":0},{"$f":"'[1]11 кл'!SQV15","v":0},{"$f":"'[1]11 кл'!SQW15","v":0},{"$f":"'[1]11 кл'!SQX15","v":0},{"$f":"'[1]11 кл'!SQY15","v":0},{"$f":"'[1]11 кл'!SQZ15","v":0},{"$f":"'[1]11 кл'!SRA15","v":0},{"$f":"'[1]11 кл'!SRB15","v":0},{"$f":"'[1]11 кл'!SRC15","v":0},{"$f":"'[1]11 кл'!SRD15","v":0},{"$f":"'[1]11 кл'!SRE15","v":0},{"$f":"'[1]11 кл'!SRF15","v":0},{"$f":"'[1]11 кл'!SRG15","v":0},{"$f":"'[1]11 кл'!SRH15","v":0},{"$f":"'[1]11 кл'!SRI15","v":0},{"$f":"'[1]11 кл'!SRJ15","v":0},{"$f":"'[1]11 кл'!SRK15","v":0},{"$f":"'[1]11 кл'!SRL15","v":0},{"$f":"'[1]11 кл'!SRM15","v":0},{"$f":"'[1]11 кл'!SRN15","v":0},{"$f":"'[1]11 кл'!SRO15","v":0},{"$f":"'[1]11 кл'!SRP15","v":0},{"$f":"'[1]11 кл'!SRQ15","v":0},{"$f":"'[1]11 кл'!SRR15","v":0},{"$f":"'[1]11 кл'!SRS15","v":0},{"$f":"'[1]11 кл'!SRT15","v":0},{"$f":"'[1]11 кл'!SRU15","v":0},{"$f":"'[1]11 кл'!SRV15","v":0},{"$f":"'[1]11 кл'!SRW15","v":0},{"$f":"'[1]11 кл'!SRX15","v":0},{"$f":"'[1]11 кл'!SRY15","v":0},{"$f":"'[1]11 кл'!SRZ15","v":0},{"$f":"'[1]11 кл'!SSA15","v":0},{"$f":"'[1]11 кл'!SSB15","v":0},{"$f":"'[1]11 кл'!SSC15","v":0},{"$f":"'[1]11 кл'!SSD15","v":0},{"$f":"'[1]11 кл'!SSE15","v":0},{"$f":"'[1]11 кл'!SSF15","v":0},{"$f":"'[1]11 кл'!SSG15","v":0},{"$f":"'[1]11 кл'!SSH15","v":0},{"$f":"'[1]11 кл'!SSI15","v":0},{"$f":"'[1]11 кл'!SSJ15","v":0},{"$f":"'[1]11 кл'!SSK15","v":0},{"$f":"'[1]11 кл'!SSL15","v":0},{"$f":"'[1]11 кл'!SSM15","v":0},{"$f":"'[1]11 кл'!SSN15","v":0},{"$f":"'[1]11 кл'!SSO15","v":0},{"$f":"'[1]11 кл'!SSP15","v":0},{"$f":"'[1]11 кл'!SSQ15","v":0},{"$f":"'[1]11 кл'!SSR15","v":0},{"$f":"'[1]11 кл'!SSS15","v":0},{"$f":"'[1]11 кл'!SST15","v":0},{"$f":"'[1]11 кл'!SSU15","v":0},{"$f":"'[1]11 кл'!SSV15","v":0},{"$f":"'[1]11 кл'!SSW15","v":0},{"$f":"'[1]11 кл'!SSX15","v":0},{"$f":"'[1]11 кл'!SSY15","v":0},{"$f":"'[1]11 кл'!SSZ15","v":0},{"$f":"'[1]11 кл'!STA15","v":0},{"$f":"'[1]11 кл'!STB15","v":0},{"$f":"'[1]11 кл'!STC15","v":0},{"$f":"'[1]11 кл'!STD15","v":0},{"$f":"'[1]11 кл'!STE15","v":0},{"$f":"'[1]11 кл'!STF15","v":0},{"$f":"'[1]11 кл'!STG15","v":0},{"$f":"'[1]11 кл'!STH15","v":0},{"$f":"'[1]11 кл'!STI15","v":0},{"$f":"'[1]11 кл'!STJ15","v":0},{"$f":"'[1]11 кл'!STK15","v":0},{"$f":"'[1]11 кл'!STL15","v":0},{"$f":"'[1]11 кл'!STM15","v":0},{"$f":"'[1]11 кл'!STN15","v":0},{"$f":"'[1]11 кл'!STO15","v":0},{"$f":"'[1]11 кл'!STP15","v":0},{"$f":"'[1]11 кл'!STQ15","v":0},{"$f":"'[1]11 кл'!STR15","v":0},{"$f":"'[1]11 кл'!STS15","v":0},{"$f":"'[1]11 кл'!STT15","v":0},{"$f":"'[1]11 кл'!STU15","v":0},{"$f":"'[1]11 кл'!STV15","v":0},{"$f":"'[1]11 кл'!STW15","v":0},{"$f":"'[1]11 кл'!STX15","v":0},{"$f":"'[1]11 кл'!STY15","v":0},{"$f":"'[1]11 кл'!STZ15","v":0},{"$f":"'[1]11 кл'!SUA15","v":0},{"$f":"'[1]11 кл'!SUB15","v":0},{"$f":"'[1]11 кл'!SUC15","v":0},{"$f":"'[1]11 кл'!SUD15","v":0},{"$f":"'[1]11 кл'!SUE15","v":0},{"$f":"'[1]11 кл'!SUF15","v":0},{"$f":"'[1]11 кл'!SUG15","v":0},{"$f":"'[1]11 кл'!SUH15","v":0},{"$f":"'[1]11 кл'!SUI15","v":0},{"$f":"'[1]11 кл'!SUJ15","v":0},{"$f":"'[1]11 кл'!SUK15","v":0},{"$f":"'[1]11 кл'!SUL15","v":0},{"$f":"'[1]11 кл'!SUM15","v":0},{"$f":"'[1]11 кл'!SUN15","v":0},{"$f":"'[1]11 кл'!SUO15","v":0},{"$f":"'[1]11 кл'!SUP15","v":0},{"$f":"'[1]11 кл'!SUQ15","v":0},{"$f":"'[1]11 кл'!SUR15","v":0},{"$f":"'[1]11 кл'!SUS15","v":0},{"$f":"'[1]11 кл'!SUT15","v":0},{"$f":"'[1]11 кл'!SUU15","v":0},{"$f":"'[1]11 кл'!SUV15","v":0},{"$f":"'[1]11 кл'!SUW15","v":0},{"$f":"'[1]11 кл'!SUX15","v":0},{"$f":"'[1]11 кл'!SUY15","v":0},{"$f":"'[1]11 кл'!SUZ15","v":0},{"$f":"'[1]11 кл'!SVA15","v":0},{"$f":"'[1]11 кл'!SVB15","v":0},{"$f":"'[1]11 кл'!SVC15","v":0},{"$f":"'[1]11 кл'!SVD15","v":0},{"$f":"'[1]11 кл'!SVE15","v":0},{"$f":"'[1]11 кл'!SVF15","v":0},{"$f":"'[1]11 кл'!SVG15","v":0},{"$f":"'[1]11 кл'!SVH15","v":0},{"$f":"'[1]11 кл'!SVI15","v":0},{"$f":"'[1]11 кл'!SVJ15","v":0},{"$f":"'[1]11 кл'!SVK15","v":0},{"$f":"'[1]11 кл'!SVL15","v":0},{"$f":"'[1]11 кл'!SVM15","v":0},{"$f":"'[1]11 кл'!SVN15","v":0},{"$f":"'[1]11 кл'!SVO15","v":0},{"$f":"'[1]11 кл'!SVP15","v":0},{"$f":"'[1]11 кл'!SVQ15","v":0},{"$f":"'[1]11 кл'!SVR15","v":0},{"$f":"'[1]11 кл'!SVS15","v":0},{"$f":"'[1]11 кл'!SVT15","v":0},{"$f":"'[1]11 кл'!SVU15","v":0},{"$f":"'[1]11 кл'!SVV15","v":0},{"$f":"'[1]11 кл'!SVW15","v":0},{"$f":"'[1]11 кл'!SVX15","v":0},{"$f":"'[1]11 кл'!SVY15","v":0},{"$f":"'[1]11 кл'!SVZ15","v":0},{"$f":"'[1]11 кл'!SWA15","v":0},{"$f":"'[1]11 кл'!SWB15","v":0},{"$f":"'[1]11 кл'!SWC15","v":0},{"$f":"'[1]11 кл'!SWD15","v":0},{"$f":"'[1]11 кл'!SWE15","v":0},{"$f":"'[1]11 кл'!SWF15","v":0},{"$f":"'[1]11 кл'!SWG15","v":0},{"$f":"'[1]11 кл'!SWH15","v":0},{"$f":"'[1]11 кл'!SWI15","v":0},{"$f":"'[1]11 кл'!SWJ15","v":0},{"$f":"'[1]11 кл'!SWK15","v":0},{"$f":"'[1]11 кл'!SWL15","v":0},{"$f":"'[1]11 кл'!SWM15","v":0},{"$f":"'[1]11 кл'!SWN15","v":0},{"$f":"'[1]11 кл'!SWO15","v":0},{"$f":"'[1]11 кл'!SWP15","v":0},{"$f":"'[1]11 кл'!SWQ15","v":0},{"$f":"'[1]11 кл'!SWR15","v":0},{"$f":"'[1]11 кл'!SWS15","v":0},{"$f":"'[1]11 кл'!SWT15","v":0},{"$f":"'[1]11 кл'!SWU15","v":0},{"$f":"'[1]11 кл'!SWV15","v":0},{"$f":"'[1]11 кл'!SWW15","v":0},{"$f":"'[1]11 кл'!SWX15","v":0},{"$f":"'[1]11 кл'!SWY15","v":0},{"$f":"'[1]11 кл'!SWZ15","v":0},{"$f":"'[1]11 кл'!SXA15","v":0},{"$f":"'[1]11 кл'!SXB15","v":0},{"$f":"'[1]11 кл'!SXC15","v":0},{"$f":"'[1]11 кл'!SXD15","v":0},{"$f":"'[1]11 кл'!SXE15","v":0},{"$f":"'[1]11 кл'!SXF15","v":0},{"$f":"'[1]11 кл'!SXG15","v":0},{"$f":"'[1]11 кл'!SXH15","v":0},{"$f":"'[1]11 кл'!SXI15","v":0},{"$f":"'[1]11 кл'!SXJ15","v":0},{"$f":"'[1]11 кл'!SXK15","v":0},{"$f":"'[1]11 кл'!SXL15","v":0},{"$f":"'[1]11 кл'!SXM15","v":0},{"$f":"'[1]11 кл'!SXN15","v":0},{"$f":"'[1]11 кл'!SXO15","v":0},{"$f":"'[1]11 кл'!SXP15","v":0},{"$f":"'[1]11 кл'!SXQ15","v":0},{"$f":"'[1]11 кл'!SXR15","v":0},{"$f":"'[1]11 кл'!SXS15","v":0},{"$f":"'[1]11 кл'!SXT15","v":0},{"$f":"'[1]11 кл'!SXU15","v":0},{"$f":"'[1]11 кл'!SXV15","v":0},{"$f":"'[1]11 кл'!SXW15","v":0},{"$f":"'[1]11 кл'!SXX15","v":0},{"$f":"'[1]11 кл'!SXY15","v":0},{"$f":"'[1]11 кл'!SXZ15","v":0},{"$f":"'[1]11 кл'!SYA15","v":0},{"$f":"'[1]11 кл'!SYB15","v":0},{"$f":"'[1]11 кл'!SYC15","v":0},{"$f":"'[1]11 кл'!SYD15","v":0},{"$f":"'[1]11 кл'!SYE15","v":0},{"$f":"'[1]11 кл'!SYF15","v":0},{"$f":"'[1]11 кл'!SYG15","v":0},{"$f":"'[1]11 кл'!SYH15","v":0},{"$f":"'[1]11 кл'!SYI15","v":0},{"$f":"'[1]11 кл'!SYJ15","v":0},{"$f":"'[1]11 кл'!SYK15","v":0},{"$f":"'[1]11 кл'!SYL15","v":0},{"$f":"'[1]11 кл'!SYM15","v":0},{"$f":"'[1]11 кл'!SYN15","v":0},{"$f":"'[1]11 кл'!SYO15","v":0},{"$f":"'[1]11 кл'!SYP15","v":0},{"$f":"'[1]11 кл'!SYQ15","v":0},{"$f":"'[1]11 кл'!SYR15","v":0},{"$f":"'[1]11 кл'!SYS15","v":0},{"$f":"'[1]11 кл'!SYT15","v":0},{"$f":"'[1]11 кл'!SYU15","v":0},{"$f":"'[1]11 кл'!SYV15","v":0},{"$f":"'[1]11 кл'!SYW15","v":0},{"$f":"'[1]11 кл'!SYX15","v":0},{"$f":"'[1]11 кл'!SYY15","v":0},{"$f":"'[1]11 кл'!SYZ15","v":0},{"$f":"'[1]11 кл'!SZA15","v":0},{"$f":"'[1]11 кл'!SZB15","v":0},{"$f":"'[1]11 кл'!SZC15","v":0},{"$f":"'[1]11 кл'!SZD15","v":0},{"$f":"'[1]11 кл'!SZE15","v":0},{"$f":"'[1]11 кл'!SZF15","v":0},{"$f":"'[1]11 кл'!SZG15","v":0},{"$f":"'[1]11 кл'!SZH15","v":0},{"$f":"'[1]11 кл'!SZI15","v":0},{"$f":"'[1]11 кл'!SZJ15","v":0},{"$f":"'[1]11 кл'!SZK15","v":0},{"$f":"'[1]11 кл'!SZL15","v":0},{"$f":"'[1]11 кл'!SZM15","v":0},{"$f":"'[1]11 кл'!SZN15","v":0},{"$f":"'[1]11 кл'!SZO15","v":0},{"$f":"'[1]11 кл'!SZP15","v":0},{"$f":"'[1]11 кл'!SZQ15","v":0},{"$f":"'[1]11 кл'!SZR15","v":0},{"$f":"'[1]11 кл'!SZS15","v":0},{"$f":"'[1]11 кл'!SZT15","v":0},{"$f":"'[1]11 кл'!SZU15","v":0},{"$f":"'[1]11 кл'!SZV15","v":0},{"$f":"'[1]11 кл'!SZW15","v":0},{"$f":"'[1]11 кл'!SZX15","v":0},{"$f":"'[1]11 кл'!SZY15","v":0},{"$f":"'[1]11 кл'!SZZ15","v":0},{"$f":"'[1]11 кл'!TAA15","v":0},{"$f":"'[1]11 кл'!TAB15","v":0},{"$f":"'[1]11 кл'!TAC15","v":0},{"$f":"'[1]11 кл'!TAD15","v":0},{"$f":"'[1]11 кл'!TAE15","v":0},{"$f":"'[1]11 кл'!TAF15","v":0},{"$f":"'[1]11 кл'!TAG15","v":0},{"$f":"'[1]11 кл'!TAH15","v":0},{"$f":"'[1]11 кл'!TAI15","v":0},{"$f":"'[1]11 кл'!TAJ15","v":0},{"$f":"'[1]11 кл'!TAK15","v":0},{"$f":"'[1]11 кл'!TAL15","v":0},{"$f":"'[1]11 кл'!TAM15","v":0},{"$f":"'[1]11 кл'!TAN15","v":0},{"$f":"'[1]11 кл'!TAO15","v":0},{"$f":"'[1]11 кл'!TAP15","v":0},{"$f":"'[1]11 кл'!TAQ15","v":0},{"$f":"'[1]11 кл'!TAR15","v":0},{"$f":"'[1]11 кл'!TAS15","v":0},{"$f":"'[1]11 кл'!TAT15","v":0},{"$f":"'[1]11 кл'!TAU15","v":0},{"$f":"'[1]11 кл'!TAV15","v":0},{"$f":"'[1]11 кл'!TAW15","v":0},{"$f":"'[1]11 кл'!TAX15","v":0},{"$f":"'[1]11 кл'!TAY15","v":0},{"$f":"'[1]11 кл'!TAZ15","v":0},{"$f":"'[1]11 кл'!TBA15","v":0},{"$f":"'[1]11 кл'!TBB15","v":0},{"$f":"'[1]11 кл'!TBC15","v":0},{"$f":"'[1]11 кл'!TBD15","v":0},{"$f":"'[1]11 кл'!TBE15","v":0},{"$f":"'[1]11 кл'!TBF15","v":0},{"$f":"'[1]11 кл'!TBG15","v":0},{"$f":"'[1]11 кл'!TBH15","v":0},{"$f":"'[1]11 кл'!TBI15","v":0},{"$f":"'[1]11 кл'!TBJ15","v":0},{"$f":"'[1]11 кл'!TBK15","v":0},{"$f":"'[1]11 кл'!TBL15","v":0},{"$f":"'[1]11 кл'!TBM15","v":0},{"$f":"'[1]11 кл'!TBN15","v":0},{"$f":"'[1]11 кл'!TBO15","v":0},{"$f":"'[1]11 кл'!TBP15","v":0},{"$f":"'[1]11 кл'!TBQ15","v":0},{"$f":"'[1]11 кл'!TBR15","v":0},{"$f":"'[1]11 кл'!TBS15","v":0},{"$f":"'[1]11 кл'!TBT15","v":0},{"$f":"'[1]11 кл'!TBU15","v":0},{"$f":"'[1]11 кл'!TBV15","v":0},{"$f":"'[1]11 кл'!TBW15","v":0},{"$f":"'[1]11 кл'!TBX15","v":0},{"$f":"'[1]11 кл'!TBY15","v":0},{"$f":"'[1]11 кл'!TBZ15","v":0},{"$f":"'[1]11 кл'!TCA15","v":0},{"$f":"'[1]11 кл'!TCB15","v":0},{"$f":"'[1]11 кл'!TCC15","v":0},{"$f":"'[1]11 кл'!TCD15","v":0},{"$f":"'[1]11 кл'!TCE15","v":0},{"$f":"'[1]11 кл'!TCF15","v":0},{"$f":"'[1]11 кл'!TCG15","v":0},{"$f":"'[1]11 кл'!TCH15","v":0},{"$f":"'[1]11 кл'!TCI15","v":0},{"$f":"'[1]11 кл'!TCJ15","v":0},{"$f":"'[1]11 кл'!TCK15","v":0},{"$f":"'[1]11 кл'!TCL15","v":0},{"$f":"'[1]11 кл'!TCM15","v":0},{"$f":"'[1]11 кл'!TCN15","v":0},{"$f":"'[1]11 кл'!TCO15","v":0},{"$f":"'[1]11 кл'!TCP15","v":0},{"$f":"'[1]11 кл'!TCQ15","v":0},{"$f":"'[1]11 кл'!TCR15","v":0},{"$f":"'[1]11 кл'!TCS15","v":0},{"$f":"'[1]11 кл'!TCT15","v":0},{"$f":"'[1]11 кл'!TCU15","v":0},{"$f":"'[1]11 кл'!TCV15","v":0},{"$f":"'[1]11 кл'!TCW15","v":0},{"$f":"'[1]11 кл'!TCX15","v":0},{"$f":"'[1]11 кл'!TCY15","v":0},{"$f":"'[1]11 кл'!TCZ15","v":0},{"$f":"'[1]11 кл'!TDA15","v":0},{"$f":"'[1]11 кл'!TDB15","v":0},{"$f":"'[1]11 кл'!TDC15","v":0},{"$f":"'[1]11 кл'!TDD15","v":0},{"$f":"'[1]11 кл'!TDE15","v":0},{"$f":"'[1]11 кл'!TDF15","v":0},{"$f":"'[1]11 кл'!TDG15","v":0},{"$f":"'[1]11 кл'!TDH15","v":0},{"$f":"'[1]11 кл'!TDI15","v":0},{"$f":"'[1]11 кл'!TDJ15","v":0},{"$f":"'[1]11 кл'!TDK15","v":0},{"$f":"'[1]11 кл'!TDL15","v":0},{"$f":"'[1]11 кл'!TDM15","v":0},{"$f":"'[1]11 кл'!TDN15","v":0},{"$f":"'[1]11 кл'!TDO15","v":0},{"$f":"'[1]11 кл'!TDP15","v":0},{"$f":"'[1]11 кл'!TDQ15","v":0},{"$f":"'[1]11 кл'!TDR15","v":0},{"$f":"'[1]11 кл'!TDS15","v":0},{"$f":"'[1]11 кл'!TDT15","v":0},{"$f":"'[1]11 кл'!TDU15","v":0},{"$f":"'[1]11 кл'!TDV15","v":0},{"$f":"'[1]11 кл'!TDW15","v":0},{"$f":"'[1]11 кл'!TDX15","v":0},{"$f":"'[1]11 кл'!TDY15","v":0},{"$f":"'[1]11 кл'!TDZ15","v":0},{"$f":"'[1]11 кл'!TEA15","v":0},{"$f":"'[1]11 кл'!TEB15","v":0},{"$f":"'[1]11 кл'!TEC15","v":0},{"$f":"'[1]11 кл'!TED15","v":0},{"$f":"'[1]11 кл'!TEE15","v":0},{"$f":"'[1]11 кл'!TEF15","v":0},{"$f":"'[1]11 кл'!TEG15","v":0},{"$f":"'[1]11 кл'!TEH15","v":0},{"$f":"'[1]11 кл'!TEI15","v":0},{"$f":"'[1]11 кл'!TEJ15","v":0},{"$f":"'[1]11 кл'!TEK15","v":0},{"$f":"'[1]11 кл'!TEL15","v":0},{"$f":"'[1]11 кл'!TEM15","v":0},{"$f":"'[1]11 кл'!TEN15","v":0},{"$f":"'[1]11 кл'!TEO15","v":0},{"$f":"'[1]11 кл'!TEP15","v":0},{"$f":"'[1]11 кл'!TEQ15","v":0},{"$f":"'[1]11 кл'!TER15","v":0},{"$f":"'[1]11 кл'!TES15","v":0},{"$f":"'[1]11 кл'!TET15","v":0},{"$f":"'[1]11 кл'!TEU15","v":0},{"$f":"'[1]11 кл'!TEV15","v":0},{"$f":"'[1]11 кл'!TEW15","v":0},{"$f":"'[1]11 кл'!TEX15","v":0},{"$f":"'[1]11 кл'!TEY15","v":0},{"$f":"'[1]11 кл'!TEZ15","v":0},{"$f":"'[1]11 кл'!TFA15","v":0},{"$f":"'[1]11 кл'!TFB15","v":0},{"$f":"'[1]11 кл'!TFC15","v":0},{"$f":"'[1]11 кл'!TFD15","v":0},{"$f":"'[1]11 кл'!TFE15","v":0},{"$f":"'[1]11 кл'!TFF15","v":0},{"$f":"'[1]11 кл'!TFG15","v":0},{"$f":"'[1]11 кл'!TFH15","v":0},{"$f":"'[1]11 кл'!TFI15","v":0},{"$f":"'[1]11 кл'!TFJ15","v":0},{"$f":"'[1]11 кл'!TFK15","v":0},{"$f":"'[1]11 кл'!TFL15","v":0},{"$f":"'[1]11 кл'!TFM15","v":0},{"$f":"'[1]11 кл'!TFN15","v":0},{"$f":"'[1]11 кл'!TFO15","v":0},{"$f":"'[1]11 кл'!TFP15","v":0},{"$f":"'[1]11 кл'!TFQ15","v":0},{"$f":"'[1]11 кл'!TFR15","v":0},{"$f":"'[1]11 кл'!TFS15","v":0},{"$f":"'[1]11 кл'!TFT15","v":0},{"$f":"'[1]11 кл'!TFU15","v":0},{"$f":"'[1]11 кл'!TFV15","v":0},{"$f":"'[1]11 кл'!TFW15","v":0},{"$f":"'[1]11 кл'!TFX15","v":0},{"$f":"'[1]11 кл'!TFY15","v":0},{"$f":"'[1]11 кл'!TFZ15","v":0},{"$f":"'[1]11 кл'!TGA15","v":0},{"$f":"'[1]11 кл'!TGB15","v":0},{"$f":"'[1]11 кл'!TGC15","v":0},{"$f":"'[1]11 кл'!TGD15","v":0},{"$f":"'[1]11 кл'!TGE15","v":0},{"$f":"'[1]11 кл'!TGF15","v":0},{"$f":"'[1]11 кл'!TGG15","v":0},{"$f":"'[1]11 кл'!TGH15","v":0},{"$f":"'[1]11 кл'!TGI15","v":0},{"$f":"'[1]11 кл'!TGJ15","v":0},{"$f":"'[1]11 кл'!TGK15","v":0},{"$f":"'[1]11 кл'!TGL15","v":0},{"$f":"'[1]11 кл'!TGM15","v":0},{"$f":"'[1]11 кл'!TGN15","v":0},{"$f":"'[1]11 кл'!TGO15","v":0},{"$f":"'[1]11 кл'!TGP15","v":0},{"$f":"'[1]11 кл'!TGQ15","v":0},{"$f":"'[1]11 кл'!TGR15","v":0},{"$f":"'[1]11 кл'!TGS15","v":0},{"$f":"'[1]11 кл'!TGT15","v":0},{"$f":"'[1]11 кл'!TGU15","v":0},{"$f":"'[1]11 кл'!TGV15","v":0},{"$f":"'[1]11 кл'!TGW15","v":0},{"$f":"'[1]11 кл'!TGX15","v":0},{"$f":"'[1]11 кл'!TGY15","v":0},{"$f":"'[1]11 кл'!TGZ15","v":0},{"$f":"'[1]11 кл'!THA15","v":0},{"$f":"'[1]11 кл'!THB15","v":0},{"$f":"'[1]11 кл'!THC15","v":0},{"$f":"'[1]11 кл'!THD15","v":0},{"$f":"'[1]11 кл'!THE15","v":0},{"$f":"'[1]11 кл'!THF15","v":0},{"$f":"'[1]11 кл'!THG15","v":0},{"$f":"'[1]11 кл'!THH15","v":0},{"$f":"'[1]11 кл'!THI15","v":0},{"$f":"'[1]11 кл'!THJ15","v":0},{"$f":"'[1]11 кл'!THK15","v":0},{"$f":"'[1]11 кл'!THL15","v":0},{"$f":"'[1]11 кл'!THM15","v":0},{"$f":"'[1]11 кл'!THN15","v":0},{"$f":"'[1]11 кл'!THO15","v":0},{"$f":"'[1]11 кл'!THP15","v":0},{"$f":"'[1]11 кл'!THQ15","v":0},{"$f":"'[1]11 кл'!THR15","v":0},{"$f":"'[1]11 кл'!THS15","v":0},{"$f":"'[1]11 кл'!THT15","v":0},{"$f":"'[1]11 кл'!THU15","v":0},{"$f":"'[1]11 кл'!THV15","v":0},{"$f":"'[1]11 кл'!THW15","v":0},{"$f":"'[1]11 кл'!THX15","v":0},{"$f":"'[1]11 кл'!THY15","v":0},{"$f":"'[1]11 кл'!THZ15","v":0},{"$f":"'[1]11 кл'!TIA15","v":0},{"$f":"'[1]11 кл'!TIB15","v":0},{"$f":"'[1]11 кл'!TIC15","v":0},{"$f":"'[1]11 кл'!TID15","v":0},{"$f":"'[1]11 кл'!TIE15","v":0},{"$f":"'[1]11 кл'!TIF15","v":0},{"$f":"'[1]11 кл'!TIG15","v":0},{"$f":"'[1]11 кл'!TIH15","v":0},{"$f":"'[1]11 кл'!TII15","v":0},{"$f":"'[1]11 кл'!TIJ15","v":0},{"$f":"'[1]11 кл'!TIK15","v":0},{"$f":"'[1]11 кл'!TIL15","v":0},{"$f":"'[1]11 кл'!TIM15","v":0},{"$f":"'[1]11 кл'!TIN15","v":0},{"$f":"'[1]11 кл'!TIO15","v":0},{"$f":"'[1]11 кл'!TIP15","v":0},{"$f":"'[1]11 кл'!TIQ15","v":0},{"$f":"'[1]11 кл'!TIR15","v":0},{"$f":"'[1]11 кл'!TIS15","v":0},{"$f":"'[1]11 кл'!TIT15","v":0},{"$f":"'[1]11 кл'!TIU15","v":0},{"$f":"'[1]11 кл'!TIV15","v":0},{"$f":"'[1]11 кл'!TIW15","v":0},{"$f":"'[1]11 кл'!TIX15","v":0},{"$f":"'[1]11 кл'!TIY15","v":0},{"$f":"'[1]11 кл'!TIZ15","v":0},{"$f":"'[1]11 кл'!TJA15","v":0},{"$f":"'[1]11 кл'!TJB15","v":0},{"$f":"'[1]11 кл'!TJC15","v":0},{"$f":"'[1]11 кл'!TJD15","v":0},{"$f":"'[1]11 кл'!TJE15","v":0},{"$f":"'[1]11 кл'!TJF15","v":0},{"$f":"'[1]11 кл'!TJG15","v":0},{"$f":"'[1]11 кл'!TJH15","v":0},{"$f":"'[1]11 кл'!TJI15","v":0},{"$f":"'[1]11 кл'!TJJ15","v":0},{"$f":"'[1]11 кл'!TJK15","v":0},{"$f":"'[1]11 кл'!TJL15","v":0},{"$f":"'[1]11 кл'!TJM15","v":0},{"$f":"'[1]11 кл'!TJN15","v":0},{"$f":"'[1]11 кл'!TJO15","v":0},{"$f":"'[1]11 кл'!TJP15","v":0},{"$f":"'[1]11 кл'!TJQ15","v":0},{"$f":"'[1]11 кл'!TJR15","v":0},{"$f":"'[1]11 кл'!TJS15","v":0},{"$f":"'[1]11 кл'!TJT15","v":0},{"$f":"'[1]11 кл'!TJU15","v":0},{"$f":"'[1]11 кл'!TJV15","v":0},{"$f":"'[1]11 кл'!TJW15","v":0},{"$f":"'[1]11 кл'!TJX15","v":0},{"$f":"'[1]11 кл'!TJY15","v":0},{"$f":"'[1]11 кл'!TJZ15","v":0},{"$f":"'[1]11 кл'!TKA15","v":0},{"$f":"'[1]11 кл'!TKB15","v":0},{"$f":"'[1]11 кл'!TKC15","v":0},{"$f":"'[1]11 кл'!TKD15","v":0},{"$f":"'[1]11 кл'!TKE15","v":0},{"$f":"'[1]11 кл'!TKF15","v":0},{"$f":"'[1]11 кл'!TKG15","v":0},{"$f":"'[1]11 кл'!TKH15","v":0},{"$f":"'[1]11 кл'!TKI15","v":0},{"$f":"'[1]11 кл'!TKJ15","v":0},{"$f":"'[1]11 кл'!TKK15","v":0},{"$f":"'[1]11 кл'!TKL15","v":0},{"$f":"'[1]11 кл'!TKM15","v":0},{"$f":"'[1]11 кл'!TKN15","v":0},{"$f":"'[1]11 кл'!TKO15","v":0},{"$f":"'[1]11 кл'!TKP15","v":0},{"$f":"'[1]11 кл'!TKQ15","v":0},{"$f":"'[1]11 кл'!TKR15","v":0},{"$f":"'[1]11 кл'!TKS15","v":0},{"$f":"'[1]11 кл'!TKT15","v":0},{"$f":"'[1]11 кл'!TKU15","v":0},{"$f":"'[1]11 кл'!TKV15","v":0},{"$f":"'[1]11 кл'!TKW15","v":0},{"$f":"'[1]11 кл'!TKX15","v":0},{"$f":"'[1]11 кл'!TKY15","v":0},{"$f":"'[1]11 кл'!TKZ15","v":0},{"$f":"'[1]11 кл'!TLA15","v":0},{"$f":"'[1]11 кл'!TLB15","v":0},{"$f":"'[1]11 кл'!TLC15","v":0},{"$f":"'[1]11 кл'!TLD15","v":0},{"$f":"'[1]11 кл'!TLE15","v":0},{"$f":"'[1]11 кл'!TLF15","v":0},{"$f":"'[1]11 кл'!TLG15","v":0},{"$f":"'[1]11 кл'!TLH15","v":0},{"$f":"'[1]11 кл'!TLI15","v":0},{"$f":"'[1]11 кл'!TLJ15","v":0},{"$f":"'[1]11 кл'!TLK15","v":0},{"$f":"'[1]11 кл'!TLL15","v":0},{"$f":"'[1]11 кл'!TLM15","v":0},{"$f":"'[1]11 кл'!TLN15","v":0},{"$f":"'[1]11 кл'!TLO15","v":0},{"$f":"'[1]11 кл'!TLP15","v":0},{"$f":"'[1]11 кл'!TLQ15","v":0},{"$f":"'[1]11 кл'!TLR15","v":0},{"$f":"'[1]11 кл'!TLS15","v":0},{"$f":"'[1]11 кл'!TLT15","v":0},{"$f":"'[1]11 кл'!TLU15","v":0},{"$f":"'[1]11 кл'!TLV15","v":0},{"$f":"'[1]11 кл'!TLW15","v":0},{"$f":"'[1]11 кл'!TLX15","v":0},{"$f":"'[1]11 кл'!TLY15","v":0},{"$f":"'[1]11 кл'!TLZ15","v":0},{"$f":"'[1]11 кл'!TMA15","v":0},{"$f":"'[1]11 кл'!TMB15","v":0},{"$f":"'[1]11 кл'!TMC15","v":0},{"$f":"'[1]11 кл'!TMD15","v":0},{"$f":"'[1]11 кл'!TME15","v":0},{"$f":"'[1]11 кл'!TMF15","v":0},{"$f":"'[1]11 кл'!TMG15","v":0},{"$f":"'[1]11 кл'!TMH15","v":0},{"$f":"'[1]11 кл'!TMI15","v":0},{"$f":"'[1]11 кл'!TMJ15","v":0},{"$f":"'[1]11 кл'!TMK15","v":0},{"$f":"'[1]11 кл'!TML15","v":0},{"$f":"'[1]11 кл'!TMM15","v":0},{"$f":"'[1]11 кл'!TMN15","v":0},{"$f":"'[1]11 кл'!TMO15","v":0},{"$f":"'[1]11 кл'!TMP15","v":0},{"$f":"'[1]11 кл'!TMQ15","v":0},{"$f":"'[1]11 кл'!TMR15","v":0},{"$f":"'[1]11 кл'!TMS15","v":0},{"$f":"'[1]11 кл'!TMT15","v":0},{"$f":"'[1]11 кл'!TMU15","v":0},{"$f":"'[1]11 кл'!TMV15","v":0},{"$f":"'[1]11 кл'!TMW15","v":0},{"$f":"'[1]11 кл'!TMX15","v":0},{"$f":"'[1]11 кл'!TMY15","v":0},{"$f":"'[1]11 кл'!TMZ15","v":0},{"$f":"'[1]11 кл'!TNA15","v":0},{"$f":"'[1]11 кл'!TNB15","v":0},{"$f":"'[1]11 кл'!TNC15","v":0},{"$f":"'[1]11 кл'!TND15","v":0},{"$f":"'[1]11 кл'!TNE15","v":0},{"$f":"'[1]11 кл'!TNF15","v":0},{"$f":"'[1]11 кл'!TNG15","v":0},{"$f":"'[1]11 кл'!TNH15","v":0},{"$f":"'[1]11 кл'!TNI15","v":0},{"$f":"'[1]11 кл'!TNJ15","v":0},{"$f":"'[1]11 кл'!TNK15","v":0},{"$f":"'[1]11 кл'!TNL15","v":0},{"$f":"'[1]11 кл'!TNM15","v":0},{"$f":"'[1]11 кл'!TNN15","v":0},{"$f":"'[1]11 кл'!TNO15","v":0},{"$f":"'[1]11 кл'!TNP15","v":0},{"$f":"'[1]11 кл'!TNQ15","v":0},{"$f":"'[1]11 кл'!TNR15","v":0},{"$f":"'[1]11 кл'!TNS15","v":0},{"$f":"'[1]11 кл'!TNT15","v":0},{"$f":"'[1]11 кл'!TNU15","v":0},{"$f":"'[1]11 кл'!TNV15","v":0},{"$f":"'[1]11 кл'!TNW15","v":0},{"$f":"'[1]11 кл'!TNX15","v":0},{"$f":"'[1]11 кл'!TNY15","v":0},{"$f":"'[1]11 кл'!TNZ15","v":0},{"$f":"'[1]11 кл'!TOA15","v":0},{"$f":"'[1]11 кл'!TOB15","v":0},{"$f":"'[1]11 кл'!TOC15","v":0},{"$f":"'[1]11 кл'!TOD15","v":0},{"$f":"'[1]11 кл'!TOE15","v":0},{"$f":"'[1]11 кл'!TOF15","v":0},{"$f":"'[1]11 кл'!TOG15","v":0},{"$f":"'[1]11 кл'!TOH15","v":0},{"$f":"'[1]11 кл'!TOI15","v":0},{"$f":"'[1]11 кл'!TOJ15","v":0},{"$f":"'[1]11 кл'!TOK15","v":0},{"$f":"'[1]11 кл'!TOL15","v":0},{"$f":"'[1]11 кл'!TOM15","v":0},{"$f":"'[1]11 кл'!TON15","v":0},{"$f":"'[1]11 кл'!TOO15","v":0},{"$f":"'[1]11 кл'!TOP15","v":0},{"$f":"'[1]11 кл'!TOQ15","v":0},{"$f":"'[1]11 кл'!TOR15","v":0},{"$f":"'[1]11 кл'!TOS15","v":0},{"$f":"'[1]11 кл'!TOT15","v":0},{"$f":"'[1]11 кл'!TOU15","v":0},{"$f":"'[1]11 кл'!TOV15","v":0},{"$f":"'[1]11 кл'!TOW15","v":0},{"$f":"'[1]11 кл'!TOX15","v":0},{"$f":"'[1]11 кл'!TOY15","v":0},{"$f":"'[1]11 кл'!TOZ15","v":0},{"$f":"'[1]11 кл'!TPA15","v":0},{"$f":"'[1]11 кл'!TPB15","v":0},{"$f":"'[1]11 кл'!TPC15","v":0},{"$f":"'[1]11 кл'!TPD15","v":0},{"$f":"'[1]11 кл'!TPE15","v":0},{"$f":"'[1]11 кл'!TPF15","v":0},{"$f":"'[1]11 кл'!TPG15","v":0},{"$f":"'[1]11 кл'!TPH15","v":0},{"$f":"'[1]11 кл'!TPI15","v":0},{"$f":"'[1]11 кл'!TPJ15","v":0},{"$f":"'[1]11 кл'!TPK15","v":0},{"$f":"'[1]11 кл'!TPL15","v":0},{"$f":"'[1]11 кл'!TPM15","v":0},{"$f":"'[1]11 кл'!TPN15","v":0},{"$f":"'[1]11 кл'!TPO15","v":0},{"$f":"'[1]11 кл'!TPP15","v":0},{"$f":"'[1]11 кл'!TPQ15","v":0},{"$f":"'[1]11 кл'!TPR15","v":0},{"$f":"'[1]11 кл'!TPS15","v":0},{"$f":"'[1]11 кл'!TPT15","v":0},{"$f":"'[1]11 кл'!TPU15","v":0},{"$f":"'[1]11 кл'!TPV15","v":0},{"$f":"'[1]11 кл'!TPW15","v":0},{"$f":"'[1]11 кл'!TPX15","v":0},{"$f":"'[1]11 кл'!TPY15","v":0},{"$f":"'[1]11 кл'!TPZ15","v":0},{"$f":"'[1]11 кл'!TQA15","v":0},{"$f":"'[1]11 кл'!TQB15","v":0},{"$f":"'[1]11 кл'!TQC15","v":0},{"$f":"'[1]11 кл'!TQD15","v":0},{"$f":"'[1]11 кл'!TQE15","v":0},{"$f":"'[1]11 кл'!TQF15","v":0},{"$f":"'[1]11 кл'!TQG15","v":0},{"$f":"'[1]11 кл'!TQH15","v":0},{"$f":"'[1]11 кл'!TQI15","v":0},{"$f":"'[1]11 кл'!TQJ15","v":0},{"$f":"'[1]11 кл'!TQK15","v":0},{"$f":"'[1]11 кл'!TQL15","v":0},{"$f":"'[1]11 кл'!TQM15","v":0},{"$f":"'[1]11 кл'!TQN15","v":0},{"$f":"'[1]11 кл'!TQO15","v":0},{"$f":"'[1]11 кл'!TQP15","v":0},{"$f":"'[1]11 кл'!TQQ15","v":0},{"$f":"'[1]11 кл'!TQR15","v":0},{"$f":"'[1]11 кл'!TQS15","v":0},{"$f":"'[1]11 кл'!TQT15","v":0},{"$f":"'[1]11 кл'!TQU15","v":0},{"$f":"'[1]11 кл'!TQV15","v":0},{"$f":"'[1]11 кл'!TQW15","v":0},{"$f":"'[1]11 кл'!TQX15","v":0},{"$f":"'[1]11 кл'!TQY15","v":0},{"$f":"'[1]11 кл'!TQZ15","v":0},{"$f":"'[1]11 кл'!TRA15","v":0},{"$f":"'[1]11 кл'!TRB15","v":0},{"$f":"'[1]11 кл'!TRC15","v":0},{"$f":"'[1]11 кл'!TRD15","v":0},{"$f":"'[1]11 кл'!TRE15","v":0},{"$f":"'[1]11 кл'!TRF15","v":0},{"$f":"'[1]11 кл'!TRG15","v":0},{"$f":"'[1]11 кл'!TRH15","v":0},{"$f":"'[1]11 кл'!TRI15","v":0},{"$f":"'[1]11 кл'!TRJ15","v":0},{"$f":"'[1]11 кл'!TRK15","v":0},{"$f":"'[1]11 кл'!TRL15","v":0},{"$f":"'[1]11 кл'!TRM15","v":0},{"$f":"'[1]11 кл'!TRN15","v":0},{"$f":"'[1]11 кл'!TRO15","v":0},{"$f":"'[1]11 кл'!TRP15","v":0},{"$f":"'[1]11 кл'!TRQ15","v":0},{"$f":"'[1]11 кл'!TRR15","v":0},{"$f":"'[1]11 кл'!TRS15","v":0},{"$f":"'[1]11 кл'!TRT15","v":0},{"$f":"'[1]11 кл'!TRU15","v":0},{"$f":"'[1]11 кл'!TRV15","v":0},{"$f":"'[1]11 кл'!TRW15","v":0},{"$f":"'[1]11 кл'!TRX15","v":0},{"$f":"'[1]11 кл'!TRY15","v":0},{"$f":"'[1]11 кл'!TRZ15","v":0},{"$f":"'[1]11 кл'!TSA15","v":0},{"$f":"'[1]11 кл'!TSB15","v":0},{"$f":"'[1]11 кл'!TSC15","v":0},{"$f":"'[1]11 кл'!TSD15","v":0},{"$f":"'[1]11 кл'!TSE15","v":0},{"$f":"'[1]11 кл'!TSF15","v":0},{"$f":"'[1]11 кл'!TSG15","v":0},{"$f":"'[1]11 кл'!TSH15","v":0},{"$f":"'[1]11 кл'!TSI15","v":0},{"$f":"'[1]11 кл'!TSJ15","v":0},{"$f":"'[1]11 кл'!TSK15","v":0},{"$f":"'[1]11 кл'!TSL15","v":0},{"$f":"'[1]11 кл'!TSM15","v":0},{"$f":"'[1]11 кл'!TSN15","v":0},{"$f":"'[1]11 кл'!TSO15","v":0},{"$f":"'[1]11 кл'!TSP15","v":0},{"$f":"'[1]11 кл'!TSQ15","v":0},{"$f":"'[1]11 кл'!TSR15","v":0},{"$f":"'[1]11 кл'!TSS15","v":0},{"$f":"'[1]11 кл'!TST15","v":0},{"$f":"'[1]11 кл'!TSU15","v":0},{"$f":"'[1]11 кл'!TSV15","v":0},{"$f":"'[1]11 кл'!TSW15","v":0},{"$f":"'[1]11 кл'!TSX15","v":0},{"$f":"'[1]11 кл'!TSY15","v":0},{"$f":"'[1]11 кл'!TSZ15","v":0},{"$f":"'[1]11 кл'!TTA15","v":0},{"$f":"'[1]11 кл'!TTB15","v":0},{"$f":"'[1]11 кл'!TTC15","v":0},{"$f":"'[1]11 кл'!TTD15","v":0},{"$f":"'[1]11 кл'!TTE15","v":0},{"$f":"'[1]11 кл'!TTF15","v":0},{"$f":"'[1]11 кл'!TTG15","v":0},{"$f":"'[1]11 кл'!TTH15","v":0},{"$f":"'[1]11 кл'!TTI15","v":0},{"$f":"'[1]11 кл'!TTJ15","v":0},{"$f":"'[1]11 кл'!TTK15","v":0},{"$f":"'[1]11 кл'!TTL15","v":0},{"$f":"'[1]11 кл'!TTM15","v":0},{"$f":"'[1]11 кл'!TTN15","v":0},{"$f":"'[1]11 кл'!TTO15","v":0},{"$f":"'[1]11 кл'!TTP15","v":0},{"$f":"'[1]11 кл'!TTQ15","v":0},{"$f":"'[1]11 кл'!TTR15","v":0},{"$f":"'[1]11 кл'!TTS15","v":0},{"$f":"'[1]11 кл'!TTT15","v":0},{"$f":"'[1]11 кл'!TTU15","v":0},{"$f":"'[1]11 кл'!TTV15","v":0},{"$f":"'[1]11 кл'!TTW15","v":0},{"$f":"'[1]11 кл'!TTX15","v":0},{"$f":"'[1]11 кл'!TTY15","v":0},{"$f":"'[1]11 кл'!TTZ15","v":0},{"$f":"'[1]11 кл'!TUA15","v":0},{"$f":"'[1]11 кл'!TUB15","v":0},{"$f":"'[1]11 кл'!TUC15","v":0},{"$f":"'[1]11 кл'!TUD15","v":0},{"$f":"'[1]11 кл'!TUE15","v":0},{"$f":"'[1]11 кл'!TUF15","v":0},{"$f":"'[1]11 кл'!TUG15","v":0},{"$f":"'[1]11 кл'!TUH15","v":0},{"$f":"'[1]11 кл'!TUI15","v":0},{"$f":"'[1]11 кл'!TUJ15","v":0},{"$f":"'[1]11 кл'!TUK15","v":0},{"$f":"'[1]11 кл'!TUL15","v":0},{"$f":"'[1]11 кл'!TUM15","v":0},{"$f":"'[1]11 кл'!TUN15","v":0},{"$f":"'[1]11 кл'!TUO15","v":0},{"$f":"'[1]11 кл'!TUP15","v":0},{"$f":"'[1]11 кл'!TUQ15","v":0},{"$f":"'[1]11 кл'!TUR15","v":0},{"$f":"'[1]11 кл'!TUS15","v":0},{"$f":"'[1]11 кл'!TUT15","v":0},{"$f":"'[1]11 кл'!TUU15","v":0},{"$f":"'[1]11 кл'!TUV15","v":0},{"$f":"'[1]11 кл'!TUW15","v":0},{"$f":"'[1]11 кл'!TUX15","v":0},{"$f":"'[1]11 кл'!TUY15","v":0},{"$f":"'[1]11 кл'!TUZ15","v":0},{"$f":"'[1]11 кл'!TVA15","v":0},{"$f":"'[1]11 кл'!TVB15","v":0},{"$f":"'[1]11 кл'!TVC15","v":0},{"$f":"'[1]11 кл'!TVD15","v":0},{"$f":"'[1]11 кл'!TVE15","v":0},{"$f":"'[1]11 кл'!TVF15","v":0},{"$f":"'[1]11 кл'!TVG15","v":0},{"$f":"'[1]11 кл'!TVH15","v":0},{"$f":"'[1]11 кл'!TVI15","v":0},{"$f":"'[1]11 кл'!TVJ15","v":0},{"$f":"'[1]11 кл'!TVK15","v":0},{"$f":"'[1]11 кл'!TVL15","v":0},{"$f":"'[1]11 кл'!TVM15","v":0},{"$f":"'[1]11 кл'!TVN15","v":0},{"$f":"'[1]11 кл'!TVO15","v":0},{"$f":"'[1]11 кл'!TVP15","v":0},{"$f":"'[1]11 кл'!TVQ15","v":0},{"$f":"'[1]11 кл'!TVR15","v":0},{"$f":"'[1]11 кл'!TVS15","v":0},{"$f":"'[1]11 кл'!TVT15","v":0},{"$f":"'[1]11 кл'!TVU15","v":0},{"$f":"'[1]11 кл'!TVV15","v":0},{"$f":"'[1]11 кл'!TVW15","v":0},{"$f":"'[1]11 кл'!TVX15","v":0},{"$f":"'[1]11 кл'!TVY15","v":0},{"$f":"'[1]11 кл'!TVZ15","v":0},{"$f":"'[1]11 кл'!TWA15","v":0},{"$f":"'[1]11 кл'!TWB15","v":0},{"$f":"'[1]11 кл'!TWC15","v":0},{"$f":"'[1]11 кл'!TWD15","v":0},{"$f":"'[1]11 кл'!TWE15","v":0},{"$f":"'[1]11 кл'!TWF15","v":0},{"$f":"'[1]11 кл'!TWG15","v":0},{"$f":"'[1]11 кл'!TWH15","v":0},{"$f":"'[1]11 кл'!TWI15","v":0},{"$f":"'[1]11 кл'!TWJ15","v":0},{"$f":"'[1]11 кл'!TWK15","v":0},{"$f":"'[1]11 кл'!TWL15","v":0},{"$f":"'[1]11 кл'!TWM15","v":0},{"$f":"'[1]11 кл'!TWN15","v":0},{"$f":"'[1]11 кл'!TWO15","v":0},{"$f":"'[1]11 кл'!TWP15","v":0},{"$f":"'[1]11 кл'!TWQ15","v":0},{"$f":"'[1]11 кл'!TWR15","v":0},{"$f":"'[1]11 кл'!TWS15","v":0},{"$f":"'[1]11 кл'!TWT15","v":0},{"$f":"'[1]11 кл'!TWU15","v":0},{"$f":"'[1]11 кл'!TWV15","v":0},{"$f":"'[1]11 кл'!TWW15","v":0},{"$f":"'[1]11 кл'!TWX15","v":0},{"$f":"'[1]11 кл'!TWY15","v":0},{"$f":"'[1]11 кл'!TWZ15","v":0},{"$f":"'[1]11 кл'!TXA15","v":0},{"$f":"'[1]11 кл'!TXB15","v":0},{"$f":"'[1]11 кл'!TXC15","v":0},{"$f":"'[1]11 кл'!TXD15","v":0},{"$f":"'[1]11 кл'!TXE15","v":0},{"$f":"'[1]11 кл'!TXF15","v":0},{"$f":"'[1]11 кл'!TXG15","v":0},{"$f":"'[1]11 кл'!TXH15","v":0},{"$f":"'[1]11 кл'!TXI15","v":0},{"$f":"'[1]11 кл'!TXJ15","v":0},{"$f":"'[1]11 кл'!TXK15","v":0},{"$f":"'[1]11 кл'!TXL15","v":0},{"$f":"'[1]11 кл'!TXM15","v":0},{"$f":"'[1]11 кл'!TXN15","v":0},{"$f":"'[1]11 кл'!TXO15","v":0},{"$f":"'[1]11 кл'!TXP15","v":0},{"$f":"'[1]11 кл'!TXQ15","v":0},{"$f":"'[1]11 кл'!TXR15","v":0},{"$f":"'[1]11 кл'!TXS15","v":0},{"$f":"'[1]11 кл'!TXT15","v":0},{"$f":"'[1]11 кл'!TXU15","v":0},{"$f":"'[1]11 кл'!TXV15","v":0},{"$f":"'[1]11 кл'!TXW15","v":0},{"$f":"'[1]11 кл'!TXX15","v":0},{"$f":"'[1]11 кл'!TXY15","v":0},{"$f":"'[1]11 кл'!TXZ15","v":0},{"$f":"'[1]11 кл'!TYA15","v":0},{"$f":"'[1]11 кл'!TYB15","v":0},{"$f":"'[1]11 кл'!TYC15","v":0},{"$f":"'[1]11 кл'!TYD15","v":0},{"$f":"'[1]11 кл'!TYE15","v":0},{"$f":"'[1]11 кл'!TYF15","v":0},{"$f":"'[1]11 кл'!TYG15","v":0},{"$f":"'[1]11 кл'!TYH15","v":0},{"$f":"'[1]11 кл'!TYI15","v":0},{"$f":"'[1]11 кл'!TYJ15","v":0},{"$f":"'[1]11 кл'!TYK15","v":0},{"$f":"'[1]11 кл'!TYL15","v":0},{"$f":"'[1]11 кл'!TYM15","v":0},{"$f":"'[1]11 кл'!TYN15","v":0},{"$f":"'[1]11 кл'!TYO15","v":0},{"$f":"'[1]11 кл'!TYP15","v":0},{"$f":"'[1]11 кл'!TYQ15","v":0},{"$f":"'[1]11 кл'!TYR15","v":0},{"$f":"'[1]11 кл'!TYS15","v":0},{"$f":"'[1]11 кл'!TYT15","v":0},{"$f":"'[1]11 кл'!TYU15","v":0},{"$f":"'[1]11 кл'!TYV15","v":0},{"$f":"'[1]11 кл'!TYW15","v":0},{"$f":"'[1]11 кл'!TYX15","v":0},{"$f":"'[1]11 кл'!TYY15","v":0},{"$f":"'[1]11 кл'!TYZ15","v":0},{"$f":"'[1]11 кл'!TZA15","v":0},{"$f":"'[1]11 кл'!TZB15","v":0},{"$f":"'[1]11 кл'!TZC15","v":0},{"$f":"'[1]11 кл'!TZD15","v":0},{"$f":"'[1]11 кл'!TZE15","v":0},{"$f":"'[1]11 кл'!TZF15","v":0},{"$f":"'[1]11 кл'!TZG15","v":0},{"$f":"'[1]11 кл'!TZH15","v":0},{"$f":"'[1]11 кл'!TZI15","v":0},{"$f":"'[1]11 кл'!TZJ15","v":0},{"$f":"'[1]11 кл'!TZK15","v":0},{"$f":"'[1]11 кл'!TZL15","v":0},{"$f":"'[1]11 кл'!TZM15","v":0},{"$f":"'[1]11 кл'!TZN15","v":0},{"$f":"'[1]11 кл'!TZO15","v":0},{"$f":"'[1]11 кл'!TZP15","v":0},{"$f":"'[1]11 кл'!TZQ15","v":0},{"$f":"'[1]11 кл'!TZR15","v":0},{"$f":"'[1]11 кл'!TZS15","v":0},{"$f":"'[1]11 кл'!TZT15","v":0},{"$f":"'[1]11 кл'!TZU15","v":0},{"$f":"'[1]11 кл'!TZV15","v":0},{"$f":"'[1]11 кл'!TZW15","v":0},{"$f":"'[1]11 кл'!TZX15","v":0},{"$f":"'[1]11 кл'!TZY15","v":0},{"$f":"'[1]11 кл'!TZZ15","v":0},{"$f":"'[1]11 кл'!UAA15","v":0},{"$f":"'[1]11 кл'!UAB15","v":0},{"$f":"'[1]11 кл'!UAC15","v":0},{"$f":"'[1]11 кл'!UAD15","v":0},{"$f":"'[1]11 кл'!UAE15","v":0},{"$f":"'[1]11 кл'!UAF15","v":0},{"$f":"'[1]11 кл'!UAG15","v":0},{"$f":"'[1]11 кл'!UAH15","v":0},{"$f":"'[1]11 кл'!UAI15","v":0},{"$f":"'[1]11 кл'!UAJ15","v":0},{"$f":"'[1]11 кл'!UAK15","v":0},{"$f":"'[1]11 кл'!UAL15","v":0},{"$f":"'[1]11 кл'!UAM15","v":0},{"$f":"'[1]11 кл'!UAN15","v":0},{"$f":"'[1]11 кл'!UAO15","v":0},{"$f":"'[1]11 кл'!UAP15","v":0},{"$f":"'[1]11 кл'!UAQ15","v":0},{"$f":"'[1]11 кл'!UAR15","v":0},{"$f":"'[1]11 кл'!UAS15","v":0},{"$f":"'[1]11 кл'!UAT15","v":0},{"$f":"'[1]11 кл'!UAU15","v":0},{"$f":"'[1]11 кл'!UAV15","v":0},{"$f":"'[1]11 кл'!UAW15","v":0},{"$f":"'[1]11 кл'!UAX15","v":0},{"$f":"'[1]11 кл'!UAY15","v":0},{"$f":"'[1]11 кл'!UAZ15","v":0},{"$f":"'[1]11 кл'!UBA15","v":0},{"$f":"'[1]11 кл'!UBB15","v":0},{"$f":"'[1]11 кл'!UBC15","v":0},{"$f":"'[1]11 кл'!UBD15","v":0},{"$f":"'[1]11 кл'!UBE15","v":0},{"$f":"'[1]11 кл'!UBF15","v":0},{"$f":"'[1]11 кл'!UBG15","v":0},{"$f":"'[1]11 кл'!UBH15","v":0},{"$f":"'[1]11 кл'!UBI15","v":0},{"$f":"'[1]11 кл'!UBJ15","v":0},{"$f":"'[1]11 кл'!UBK15","v":0},{"$f":"'[1]11 кл'!UBL15","v":0},{"$f":"'[1]11 кл'!UBM15","v":0},{"$f":"'[1]11 кл'!UBN15","v":0},{"$f":"'[1]11 кл'!UBO15","v":0},{"$f":"'[1]11 кл'!UBP15","v":0},{"$f":"'[1]11 кл'!UBQ15","v":0},{"$f":"'[1]11 кл'!UBR15","v":0},{"$f":"'[1]11 кл'!UBS15","v":0},{"$f":"'[1]11 кл'!UBT15","v":0},{"$f":"'[1]11 кл'!UBU15","v":0},{"$f":"'[1]11 кл'!UBV15","v":0},{"$f":"'[1]11 кл'!UBW15","v":0},{"$f":"'[1]11 кл'!UBX15","v":0},{"$f":"'[1]11 кл'!UBY15","v":0},{"$f":"'[1]11 кл'!UBZ15","v":0},{"$f":"'[1]11 кл'!UCA15","v":0},{"$f":"'[1]11 кл'!UCB15","v":0},{"$f":"'[1]11 кл'!UCC15","v":0},{"$f":"'[1]11 кл'!UCD15","v":0},{"$f":"'[1]11 кл'!UCE15","v":0},{"$f":"'[1]11 кл'!UCF15","v":0},{"$f":"'[1]11 кл'!UCG15","v":0},{"$f":"'[1]11 кл'!UCH15","v":0},{"$f":"'[1]11 кл'!UCI15","v":0},{"$f":"'[1]11 кл'!UCJ15","v":0},{"$f":"'[1]11 кл'!UCK15","v":0},{"$f":"'[1]11 кл'!UCL15","v":0},{"$f":"'[1]11 кл'!UCM15","v":0},{"$f":"'[1]11 кл'!UCN15","v":0},{"$f":"'[1]11 кл'!UCO15","v":0},{"$f":"'[1]11 кл'!UCP15","v":0},{"$f":"'[1]11 кл'!UCQ15","v":0},{"$f":"'[1]11 кл'!UCR15","v":0},{"$f":"'[1]11 кл'!UCS15","v":0},{"$f":"'[1]11 кл'!UCT15","v":0},{"$f":"'[1]11 кл'!UCU15","v":0},{"$f":"'[1]11 кл'!UCV15","v":0},{"$f":"'[1]11 кл'!UCW15","v":0},{"$f":"'[1]11 кл'!UCX15","v":0},{"$f":"'[1]11 кл'!UCY15","v":0},{"$f":"'[1]11 кл'!UCZ15","v":0},{"$f":"'[1]11 кл'!UDA15","v":0},{"$f":"'[1]11 кл'!UDB15","v":0},{"$f":"'[1]11 кл'!UDC15","v":0},{"$f":"'[1]11 кл'!UDD15","v":0},{"$f":"'[1]11 кл'!UDE15","v":0},{"$f":"'[1]11 кл'!UDF15","v":0},{"$f":"'[1]11 кл'!UDG15","v":0},{"$f":"'[1]11 кл'!UDH15","v":0},{"$f":"'[1]11 кл'!UDI15","v":0},{"$f":"'[1]11 кл'!UDJ15","v":0},{"$f":"'[1]11 кл'!UDK15","v":0},{"$f":"'[1]11 кл'!UDL15","v":0},{"$f":"'[1]11 кл'!UDM15","v":0},{"$f":"'[1]11 кл'!UDN15","v":0},{"$f":"'[1]11 кл'!UDO15","v":0},{"$f":"'[1]11 кл'!UDP15","v":0},{"$f":"'[1]11 кл'!UDQ15","v":0},{"$f":"'[1]11 кл'!UDR15","v":0},{"$f":"'[1]11 кл'!UDS15","v":0},{"$f":"'[1]11 кл'!UDT15","v":0},{"$f":"'[1]11 кл'!UDU15","v":0},{"$f":"'[1]11 кл'!UDV15","v":0},{"$f":"'[1]11 кл'!UDW15","v":0},{"$f":"'[1]11 кл'!UDX15","v":0},{"$f":"'[1]11 кл'!UDY15","v":0},{"$f":"'[1]11 кл'!UDZ15","v":0},{"$f":"'[1]11 кл'!UEA15","v":0},{"$f":"'[1]11 кл'!UEB15","v":0},{"$f":"'[1]11 кл'!UEC15","v":0},{"$f":"'[1]11 кл'!UED15","v":0},{"$f":"'[1]11 кл'!UEE15","v":0},{"$f":"'[1]11 кл'!UEF15","v":0},{"$f":"'[1]11 кл'!UEG15","v":0},{"$f":"'[1]11 кл'!UEH15","v":0},{"$f":"'[1]11 кл'!UEI15","v":0},{"$f":"'[1]11 кл'!UEJ15","v":0},{"$f":"'[1]11 кл'!UEK15","v":0},{"$f":"'[1]11 кл'!UEL15","v":0},{"$f":"'[1]11 кл'!UEM15","v":0},{"$f":"'[1]11 кл'!UEN15","v":0},{"$f":"'[1]11 кл'!UEO15","v":0},{"$f":"'[1]11 кл'!UEP15","v":0},{"$f":"'[1]11 кл'!UEQ15","v":0},{"$f":"'[1]11 кл'!UER15","v":0},{"$f":"'[1]11 кл'!UES15","v":0},{"$f":"'[1]11 кл'!UET15","v":0},{"$f":"'[1]11 кл'!UEU15","v":0},{"$f":"'[1]11 кл'!UEV15","v":0},{"$f":"'[1]11 кл'!UEW15","v":0},{"$f":"'[1]11 кл'!UEX15","v":0},{"$f":"'[1]11 кл'!UEY15","v":0},{"$f":"'[1]11 кл'!UEZ15","v":0},{"$f":"'[1]11 кл'!UFA15","v":0},{"$f":"'[1]11 кл'!UFB15","v":0},{"$f":"'[1]11 кл'!UFC15","v":0},{"$f":"'[1]11 кл'!UFD15","v":0},{"$f":"'[1]11 кл'!UFE15","v":0},{"$f":"'[1]11 кл'!UFF15","v":0},{"$f":"'[1]11 кл'!UFG15","v":0},{"$f":"'[1]11 кл'!UFH15","v":0},{"$f":"'[1]11 кл'!UFI15","v":0},{"$f":"'[1]11 кл'!UFJ15","v":0},{"$f":"'[1]11 кл'!UFK15","v":0},{"$f":"'[1]11 кл'!UFL15","v":0},{"$f":"'[1]11 кл'!UFM15","v":0},{"$f":"'[1]11 кл'!UFN15","v":0},{"$f":"'[1]11 кл'!UFO15","v":0},{"$f":"'[1]11 кл'!UFP15","v":0},{"$f":"'[1]11 кл'!UFQ15","v":0},{"$f":"'[1]11 кл'!UFR15","v":0},{"$f":"'[1]11 кл'!UFS15","v":0},{"$f":"'[1]11 кл'!UFT15","v":0},{"$f":"'[1]11 кл'!UFU15","v":0},{"$f":"'[1]11 кл'!UFV15","v":0},{"$f":"'[1]11 кл'!UFW15","v":0},{"$f":"'[1]11 кл'!UFX15","v":0},{"$f":"'[1]11 кл'!UFY15","v":0},{"$f":"'[1]11 кл'!UFZ15","v":0},{"$f":"'[1]11 кл'!UGA15","v":0},{"$f":"'[1]11 кл'!UGB15","v":0},{"$f":"'[1]11 кл'!UGC15","v":0},{"$f":"'[1]11 кл'!UGD15","v":0},{"$f":"'[1]11 кл'!UGE15","v":0},{"$f":"'[1]11 кл'!UGF15","v":0},{"$f":"'[1]11 кл'!UGG15","v":0},{"$f":"'[1]11 кл'!UGH15","v":0},{"$f":"'[1]11 кл'!UGI15","v":0},{"$f":"'[1]11 кл'!UGJ15","v":0},{"$f":"'[1]11 кл'!UGK15","v":0},{"$f":"'[1]11 кл'!UGL15","v":0},{"$f":"'[1]11 кл'!UGM15","v":0},{"$f":"'[1]11 кл'!UGN15","v":0},{"$f":"'[1]11 кл'!UGO15","v":0},{"$f":"'[1]11 кл'!UGP15","v":0},{"$f":"'[1]11 кл'!UGQ15","v":0},{"$f":"'[1]11 кл'!UGR15","v":0},{"$f":"'[1]11 кл'!UGS15","v":0},{"$f":"'[1]11 кл'!UGT15","v":0},{"$f":"'[1]11 кл'!UGU15","v":0},{"$f":"'[1]11 кл'!UGV15","v":0},{"$f":"'[1]11 кл'!UGW15","v":0},{"$f":"'[1]11 кл'!UGX15","v":0},{"$f":"'[1]11 кл'!UGY15","v":0},{"$f":"'[1]11 кл'!UGZ15","v":0},{"$f":"'[1]11 кл'!UHA15","v":0},{"$f":"'[1]11 кл'!UHB15","v":0},{"$f":"'[1]11 кл'!UHC15","v":0},{"$f":"'[1]11 кл'!UHD15","v":0},{"$f":"'[1]11 кл'!UHE15","v":0},{"$f":"'[1]11 кл'!UHF15","v":0},{"$f":"'[1]11 кл'!UHG15","v":0},{"$f":"'[1]11 кл'!UHH15","v":0},{"$f":"'[1]11 кл'!UHI15","v":0},{"$f":"'[1]11 кл'!UHJ15","v":0},{"$f":"'[1]11 кл'!UHK15","v":0},{"$f":"'[1]11 кл'!UHL15","v":0},{"$f":"'[1]11 кл'!UHM15","v":0},{"$f":"'[1]11 кл'!UHN15","v":0},{"$f":"'[1]11 кл'!UHO15","v":0},{"$f":"'[1]11 кл'!UHP15","v":0},{"$f":"'[1]11 кл'!UHQ15","v":0},{"$f":"'[1]11 кл'!UHR15","v":0},{"$f":"'[1]11 кл'!UHS15","v":0},{"$f":"'[1]11 кл'!UHT15","v":0},{"$f":"'[1]11 кл'!UHU15","v":0},{"$f":"'[1]11 кл'!UHV15","v":0},{"$f":"'[1]11 кл'!UHW15","v":0},{"$f":"'[1]11 кл'!UHX15","v":0},{"$f":"'[1]11 кл'!UHY15","v":0},{"$f":"'[1]11 кл'!UHZ15","v":0},{"$f":"'[1]11 кл'!UIA15","v":0},{"$f":"'[1]11 кл'!UIB15","v":0},{"$f":"'[1]11 кл'!UIC15","v":0},{"$f":"'[1]11 кл'!UID15","v":0},{"$f":"'[1]11 кл'!UIE15","v":0},{"$f":"'[1]11 кл'!UIF15","v":0},{"$f":"'[1]11 кл'!UIG15","v":0},{"$f":"'[1]11 кл'!UIH15","v":0},{"$f":"'[1]11 кл'!UII15","v":0},{"$f":"'[1]11 кл'!UIJ15","v":0},{"$f":"'[1]11 кл'!UIK15","v":0},{"$f":"'[1]11 кл'!UIL15","v":0},{"$f":"'[1]11 кл'!UIM15","v":0},{"$f":"'[1]11 кл'!UIN15","v":0},{"$f":"'[1]11 кл'!UIO15","v":0},{"$f":"'[1]11 кл'!UIP15","v":0},{"$f":"'[1]11 кл'!UIQ15","v":0},{"$f":"'[1]11 кл'!UIR15","v":0},{"$f":"'[1]11 кл'!UIS15","v":0},{"$f":"'[1]11 кл'!UIT15","v":0},{"$f":"'[1]11 кл'!UIU15","v":0},{"$f":"'[1]11 кл'!UIV15","v":0},{"$f":"'[1]11 кл'!UIW15","v":0},{"$f":"'[1]11 кл'!UIX15","v":0},{"$f":"'[1]11 кл'!UIY15","v":0},{"$f":"'[1]11 кл'!UIZ15","v":0},{"$f":"'[1]11 кл'!UJA15","v":0},{"$f":"'[1]11 кл'!UJB15","v":0},{"$f":"'[1]11 кл'!UJC15","v":0},{"$f":"'[1]11 кл'!UJD15","v":0},{"$f":"'[1]11 кл'!UJE15","v":0},{"$f":"'[1]11 кл'!UJF15","v":0},{"$f":"'[1]11 кл'!UJG15","v":0},{"$f":"'[1]11 кл'!UJH15","v":0},{"$f":"'[1]11 кл'!UJI15","v":0},{"$f":"'[1]11 кл'!UJJ15","v":0},{"$f":"'[1]11 кл'!UJK15","v":0},{"$f":"'[1]11 кл'!UJL15","v":0},{"$f":"'[1]11 кл'!UJM15","v":0},{"$f":"'[1]11 кл'!UJN15","v":0},{"$f":"'[1]11 кл'!UJO15","v":0},{"$f":"'[1]11 кл'!UJP15","v":0},{"$f":"'[1]11 кл'!UJQ15","v":0},{"$f":"'[1]11 кл'!UJR15","v":0},{"$f":"'[1]11 кл'!UJS15","v":0},{"$f":"'[1]11 кл'!UJT15","v":0},{"$f":"'[1]11 кл'!UJU15","v":0},{"$f":"'[1]11 кл'!UJV15","v":0},{"$f":"'[1]11 кл'!UJW15","v":0},{"$f":"'[1]11 кл'!UJX15","v":0},{"$f":"'[1]11 кл'!UJY15","v":0},{"$f":"'[1]11 кл'!UJZ15","v":0},{"$f":"'[1]11 кл'!UKA15","v":0},{"$f":"'[1]11 кл'!UKB15","v":0},{"$f":"'[1]11 кл'!UKC15","v":0},{"$f":"'[1]11 кл'!UKD15","v":0},{"$f":"'[1]11 кл'!UKE15","v":0},{"$f":"'[1]11 кл'!UKF15","v":0},{"$f":"'[1]11 кл'!UKG15","v":0},{"$f":"'[1]11 кл'!UKH15","v":0},{"$f":"'[1]11 кл'!UKI15","v":0},{"$f":"'[1]11 кл'!UKJ15","v":0},{"$f":"'[1]11 кл'!UKK15","v":0},{"$f":"'[1]11 кл'!UKL15","v":0},{"$f":"'[1]11 кл'!UKM15","v":0},{"$f":"'[1]11 кл'!UKN15","v":0},{"$f":"'[1]11 кл'!UKO15","v":0},{"$f":"'[1]11 кл'!UKP15","v":0},{"$f":"'[1]11 кл'!UKQ15","v":0},{"$f":"'[1]11 кл'!UKR15","v":0},{"$f":"'[1]11 кл'!UKS15","v":0},{"$f":"'[1]11 кл'!UKT15","v":0},{"$f":"'[1]11 кл'!UKU15","v":0},{"$f":"'[1]11 кл'!UKV15","v":0},{"$f":"'[1]11 кл'!UKW15","v":0},{"$f":"'[1]11 кл'!UKX15","v":0},{"$f":"'[1]11 кл'!UKY15","v":0},{"$f":"'[1]11 кл'!UKZ15","v":0},{"$f":"'[1]11 кл'!ULA15","v":0},{"$f":"'[1]11 кл'!ULB15","v":0},{"$f":"'[1]11 кл'!ULC15","v":0},{"$f":"'[1]11 кл'!ULD15","v":0},{"$f":"'[1]11 кл'!ULE15","v":0},{"$f":"'[1]11 кл'!ULF15","v":0},{"$f":"'[1]11 кл'!ULG15","v":0},{"$f":"'[1]11 кл'!ULH15","v":0},{"$f":"'[1]11 кл'!ULI15","v":0},{"$f":"'[1]11 кл'!ULJ15","v":0},{"$f":"'[1]11 кл'!ULK15","v":0},{"$f":"'[1]11 кл'!ULL15","v":0},{"$f":"'[1]11 кл'!ULM15","v":0},{"$f":"'[1]11 кл'!ULN15","v":0},{"$f":"'[1]11 кл'!ULO15","v":0},{"$f":"'[1]11 кл'!ULP15","v":0},{"$f":"'[1]11 кл'!ULQ15","v":0},{"$f":"'[1]11 кл'!ULR15","v":0},{"$f":"'[1]11 кл'!ULS15","v":0},{"$f":"'[1]11 кл'!ULT15","v":0},{"$f":"'[1]11 кл'!ULU15","v":0},{"$f":"'[1]11 кл'!ULV15","v":0},{"$f":"'[1]11 кл'!ULW15","v":0},{"$f":"'[1]11 кл'!ULX15","v":0},{"$f":"'[1]11 кл'!ULY15","v":0},{"$f":"'[1]11 кл'!ULZ15","v":0},{"$f":"'[1]11 кл'!UMA15","v":0},{"$f":"'[1]11 кл'!UMB15","v":0},{"$f":"'[1]11 кл'!UMC15","v":0},{"$f":"'[1]11 кл'!UMD15","v":0},{"$f":"'[1]11 кл'!UME15","v":0},{"$f":"'[1]11 кл'!UMF15","v":0},{"$f":"'[1]11 кл'!UMG15","v":0},{"$f":"'[1]11 кл'!UMH15","v":0},{"$f":"'[1]11 кл'!UMI15","v":0},{"$f":"'[1]11 кл'!UMJ15","v":0},{"$f":"'[1]11 кл'!UMK15","v":0},{"$f":"'[1]11 кл'!UML15","v":0},{"$f":"'[1]11 кл'!UMM15","v":0},{"$f":"'[1]11 кл'!UMN15","v":0},{"$f":"'[1]11 кл'!UMO15","v":0},{"$f":"'[1]11 кл'!UMP15","v":0},{"$f":"'[1]11 кл'!UMQ15","v":0},{"$f":"'[1]11 кл'!UMR15","v":0},{"$f":"'[1]11 кл'!UMS15","v":0},{"$f":"'[1]11 кл'!UMT15","v":0},{"$f":"'[1]11 кл'!UMU15","v":0},{"$f":"'[1]11 кл'!UMV15","v":0},{"$f":"'[1]11 кл'!UMW15","v":0},{"$f":"'[1]11 кл'!UMX15","v":0},{"$f":"'[1]11 кл'!UMY15","v":0},{"$f":"'[1]11 кл'!UMZ15","v":0},{"$f":"'[1]11 кл'!UNA15","v":0},{"$f":"'[1]11 кл'!UNB15","v":0},{"$f":"'[1]11 кл'!UNC15","v":0},{"$f":"'[1]11 кл'!UND15","v":0},{"$f":"'[1]11 кл'!UNE15","v":0},{"$f":"'[1]11 кл'!UNF15","v":0},{"$f":"'[1]11 кл'!UNG15","v":0},{"$f":"'[1]11 кл'!UNH15","v":0},{"$f":"'[1]11 кл'!UNI15","v":0},{"$f":"'[1]11 кл'!UNJ15","v":0},{"$f":"'[1]11 кл'!UNK15","v":0},{"$f":"'[1]11 кл'!UNL15","v":0},{"$f":"'[1]11 кл'!UNM15","v":0},{"$f":"'[1]11 кл'!UNN15","v":0},{"$f":"'[1]11 кл'!UNO15","v":0},{"$f":"'[1]11 кл'!UNP15","v":0},{"$f":"'[1]11 кл'!UNQ15","v":0},{"$f":"'[1]11 кл'!UNR15","v":0},{"$f":"'[1]11 кл'!UNS15","v":0},{"$f":"'[1]11 кл'!UNT15","v":0},{"$f":"'[1]11 кл'!UNU15","v":0},{"$f":"'[1]11 кл'!UNV15","v":0},{"$f":"'[1]11 кл'!UNW15","v":0},{"$f":"'[1]11 кл'!UNX15","v":0},{"$f":"'[1]11 кл'!UNY15","v":0},{"$f":"'[1]11 кл'!UNZ15","v":0},{"$f":"'[1]11 кл'!UOA15","v":0},{"$f":"'[1]11 кл'!UOB15","v":0},{"$f":"'[1]11 кл'!UOC15","v":0},{"$f":"'[1]11 кл'!UOD15","v":0},{"$f":"'[1]11 кл'!UOE15","v":0},{"$f":"'[1]11 кл'!UOF15","v":0},{"$f":"'[1]11 кл'!UOG15","v":0},{"$f":"'[1]11 кл'!UOH15","v":0},{"$f":"'[1]11 кл'!UOI15","v":0},{"$f":"'[1]11 кл'!UOJ15","v":0},{"$f":"'[1]11 кл'!UOK15","v":0},{"$f":"'[1]11 кл'!UOL15","v":0},{"$f":"'[1]11 кл'!UOM15","v":0},{"$f":"'[1]11 кл'!UON15","v":0},{"$f":"'[1]11 кл'!UOO15","v":0},{"$f":"'[1]11 кл'!UOP15","v":0},{"$f":"'[1]11 кл'!UOQ15","v":0},{"$f":"'[1]11 кл'!UOR15","v":0},{"$f":"'[1]11 кл'!UOS15","v":0},{"$f":"'[1]11 кл'!UOT15","v":0},{"$f":"'[1]11 кл'!UOU15","v":0},{"$f":"'[1]11 кл'!UOV15","v":0},{"$f":"'[1]11 кл'!UOW15","v":0},{"$f":"'[1]11 кл'!UOX15","v":0},{"$f":"'[1]11 кл'!UOY15","v":0},{"$f":"'[1]11 кл'!UOZ15","v":0},{"$f":"'[1]11 кл'!UPA15","v":0},{"$f":"'[1]11 кл'!UPB15","v":0},{"$f":"'[1]11 кл'!UPC15","v":0},{"$f":"'[1]11 кл'!UPD15","v":0},{"$f":"'[1]11 кл'!UPE15","v":0},{"$f":"'[1]11 кл'!UPF15","v":0},{"$f":"'[1]11 кл'!UPG15","v":0},{"$f":"'[1]11 кл'!UPH15","v":0},{"$f":"'[1]11 кл'!UPI15","v":0},{"$f":"'[1]11 кл'!UPJ15","v":0},{"$f":"'[1]11 кл'!UPK15","v":0},{"$f":"'[1]11 кл'!UPL15","v":0},{"$f":"'[1]11 кл'!UPM15","v":0},{"$f":"'[1]11 кл'!UPN15","v":0},{"$f":"'[1]11 кл'!UPO15","v":0},{"$f":"'[1]11 кл'!UPP15","v":0},{"$f":"'[1]11 кл'!UPQ15","v":0},{"$f":"'[1]11 кл'!UPR15","v":0},{"$f":"'[1]11 кл'!UPS15","v":0},{"$f":"'[1]11 кл'!UPT15","v":0},{"$f":"'[1]11 кл'!UPU15","v":0},{"$f":"'[1]11 кл'!UPV15","v":0},{"$f":"'[1]11 кл'!UPW15","v":0},{"$f":"'[1]11 кл'!UPX15","v":0},{"$f":"'[1]11 кл'!UPY15","v":0},{"$f":"'[1]11 кл'!UPZ15","v":0},{"$f":"'[1]11 кл'!UQA15","v":0},{"$f":"'[1]11 кл'!UQB15","v":0},{"$f":"'[1]11 кл'!UQC15","v":0},{"$f":"'[1]11 кл'!UQD15","v":0},{"$f":"'[1]11 кл'!UQE15","v":0},{"$f":"'[1]11 кл'!UQF15","v":0},{"$f":"'[1]11 кл'!UQG15","v":0},{"$f":"'[1]11 кл'!UQH15","v":0},{"$f":"'[1]11 кл'!UQI15","v":0},{"$f":"'[1]11 кл'!UQJ15","v":0},{"$f":"'[1]11 кл'!UQK15","v":0},{"$f":"'[1]11 кл'!UQL15","v":0},{"$f":"'[1]11 кл'!UQM15","v":0},{"$f":"'[1]11 кл'!UQN15","v":0},{"$f":"'[1]11 кл'!UQO15","v":0},{"$f":"'[1]11 кл'!UQP15","v":0},{"$f":"'[1]11 кл'!UQQ15","v":0},{"$f":"'[1]11 кл'!UQR15","v":0},{"$f":"'[1]11 кл'!UQS15","v":0},{"$f":"'[1]11 кл'!UQT15","v":0},{"$f":"'[1]11 кл'!UQU15","v":0},{"$f":"'[1]11 кл'!UQV15","v":0},{"$f":"'[1]11 кл'!UQW15","v":0},{"$f":"'[1]11 кл'!UQX15","v":0},{"$f":"'[1]11 кл'!UQY15","v":0},{"$f":"'[1]11 кл'!UQZ15","v":0},{"$f":"'[1]11 кл'!URA15","v":0},{"$f":"'[1]11 кл'!URB15","v":0},{"$f":"'[1]11 кл'!URC15","v":0},{"$f":"'[1]11 кл'!URD15","v":0},{"$f":"'[1]11 кл'!URE15","v":0},{"$f":"'[1]11 кл'!URF15","v":0},{"$f":"'[1]11 кл'!URG15","v":0},{"$f":"'[1]11 кл'!URH15","v":0},{"$f":"'[1]11 кл'!URI15","v":0},{"$f":"'[1]11 кл'!URJ15","v":0},{"$f":"'[1]11 кл'!URK15","v":0},{"$f":"'[1]11 кл'!URL15","v":0},{"$f":"'[1]11 кл'!URM15","v":0},{"$f":"'[1]11 кл'!URN15","v":0},{"$f":"'[1]11 кл'!URO15","v":0},{"$f":"'[1]11 кл'!URP15","v":0},{"$f":"'[1]11 кл'!URQ15","v":0},{"$f":"'[1]11 кл'!URR15","v":0},{"$f":"'[1]11 кл'!URS15","v":0},{"$f":"'[1]11 кл'!URT15","v":0},{"$f":"'[1]11 кл'!URU15","v":0},{"$f":"'[1]11 кл'!URV15","v":0},{"$f":"'[1]11 кл'!URW15","v":0},{"$f":"'[1]11 кл'!URX15","v":0},{"$f":"'[1]11 кл'!URY15","v":0},{"$f":"'[1]11 кл'!URZ15","v":0},{"$f":"'[1]11 кл'!USA15","v":0},{"$f":"'[1]11 кл'!USB15","v":0},{"$f":"'[1]11 кл'!USC15","v":0},{"$f":"'[1]11 кл'!USD15","v":0},{"$f":"'[1]11 кл'!USE15","v":0},{"$f":"'[1]11 кл'!USF15","v":0},{"$f":"'[1]11 кл'!USG15","v":0},{"$f":"'[1]11 кл'!USH15","v":0},{"$f":"'[1]11 кл'!USI15","v":0},{"$f":"'[1]11 кл'!USJ15","v":0},{"$f":"'[1]11 кл'!USK15","v":0},{"$f":"'[1]11 кл'!USL15","v":0},{"$f":"'[1]11 кл'!USM15","v":0},{"$f":"'[1]11 кл'!USN15","v":0},{"$f":"'[1]11 кл'!USO15","v":0},{"$f":"'[1]11 кл'!USP15","v":0},{"$f":"'[1]11 кл'!USQ15","v":0},{"$f":"'[1]11 кл'!USR15","v":0},{"$f":"'[1]11 кл'!USS15","v":0},{"$f":"'[1]11 кл'!UST15","v":0},{"$f":"'[1]11 кл'!USU15","v":0},{"$f":"'[1]11 кл'!USV15","v":0},{"$f":"'[1]11 кл'!USW15","v":0},{"$f":"'[1]11 кл'!USX15","v":0},{"$f":"'[1]11 кл'!USY15","v":0},{"$f":"'[1]11 кл'!USZ15","v":0},{"$f":"'[1]11 кл'!UTA15","v":0},{"$f":"'[1]11 кл'!UTB15","v":0},{"$f":"'[1]11 кл'!UTC15","v":0},{"$f":"'[1]11 кл'!UTD15","v":0},{"$f":"'[1]11 кл'!UTE15","v":0},{"$f":"'[1]11 кл'!UTF15","v":0},{"$f":"'[1]11 кл'!UTG15","v":0},{"$f":"'[1]11 кл'!UTH15","v":0},{"$f":"'[1]11 кл'!UTI15","v":0},{"$f":"'[1]11 кл'!UTJ15","v":0},{"$f":"'[1]11 кл'!UTK15","v":0},{"$f":"'[1]11 кл'!UTL15","v":0},{"$f":"'[1]11 кл'!UTM15","v":0},{"$f":"'[1]11 кл'!UTN15","v":0},{"$f":"'[1]11 кл'!UTO15","v":0},{"$f":"'[1]11 кл'!UTP15","v":0},{"$f":"'[1]11 кл'!UTQ15","v":0},{"$f":"'[1]11 кл'!UTR15","v":0},{"$f":"'[1]11 кл'!UTS15","v":0},{"$f":"'[1]11 кл'!UTT15","v":0},{"$f":"'[1]11 кл'!UTU15","v":0},{"$f":"'[1]11 кл'!UTV15","v":0},{"$f":"'[1]11 кл'!UTW15","v":0},{"$f":"'[1]11 кл'!UTX15","v":0},{"$f":"'[1]11 кл'!UTY15","v":0},{"$f":"'[1]11 кл'!UTZ15","v":0},{"$f":"'[1]11 кл'!UUA15","v":0},{"$f":"'[1]11 кл'!UUB15","v":0},{"$f":"'[1]11 кл'!UUC15","v":0},{"$f":"'[1]11 кл'!UUD15","v":0},{"$f":"'[1]11 кл'!UUE15","v":0},{"$f":"'[1]11 кл'!UUF15","v":0},{"$f":"'[1]11 кл'!UUG15","v":0},{"$f":"'[1]11 кл'!UUH15","v":0},{"$f":"'[1]11 кл'!UUI15","v":0},{"$f":"'[1]11 кл'!UUJ15","v":0},{"$f":"'[1]11 кл'!UUK15","v":0},{"$f":"'[1]11 кл'!UUL15","v":0},{"$f":"'[1]11 кл'!UUM15","v":0},{"$f":"'[1]11 кл'!UUN15","v":0},{"$f":"'[1]11 кл'!UUO15","v":0},{"$f":"'[1]11 кл'!UUP15","v":0},{"$f":"'[1]11 кл'!UUQ15","v":0},{"$f":"'[1]11 кл'!UUR15","v":0},{"$f":"'[1]11 кл'!UUS15","v":0},{"$f":"'[1]11 кл'!UUT15","v":0},{"$f":"'[1]11 кл'!UUU15","v":0},{"$f":"'[1]11 кл'!UUV15","v":0},{"$f":"'[1]11 кл'!UUW15","v":0},{"$f":"'[1]11 кл'!UUX15","v":0},{"$f":"'[1]11 кл'!UUY15","v":0},{"$f":"'[1]11 кл'!UUZ15","v":0},{"$f":"'[1]11 кл'!UVA15","v":0},{"$f":"'[1]11 кл'!UVB15","v":0},{"$f":"'[1]11 кл'!UVC15","v":0},{"$f":"'[1]11 кл'!UVD15","v":0},{"$f":"'[1]11 кл'!UVE15","v":0},{"$f":"'[1]11 кл'!UVF15","v":0},{"$f":"'[1]11 кл'!UVG15","v":0},{"$f":"'[1]11 кл'!UVH15","v":0},{"$f":"'[1]11 кл'!UVI15","v":0},{"$f":"'[1]11 кл'!UVJ15","v":0},{"$f":"'[1]11 кл'!UVK15","v":0},{"$f":"'[1]11 кл'!UVL15","v":0},{"$f":"'[1]11 кл'!UVM15","v":0},{"$f":"'[1]11 кл'!UVN15","v":0},{"$f":"'[1]11 кл'!UVO15","v":0},{"$f":"'[1]11 кл'!UVP15","v":0},{"$f":"'[1]11 кл'!UVQ15","v":0},{"$f":"'[1]11 кл'!UVR15","v":0},{"$f":"'[1]11 кл'!UVS15","v":0},{"$f":"'[1]11 кл'!UVT15","v":0},{"$f":"'[1]11 кл'!UVU15","v":0},{"$f":"'[1]11 кл'!UVV15","v":0},{"$f":"'[1]11 кл'!UVW15","v":0},{"$f":"'[1]11 кл'!UVX15","v":0},{"$f":"'[1]11 кл'!UVY15","v":0},{"$f":"'[1]11 кл'!UVZ15","v":0},{"$f":"'[1]11 кл'!UWA15","v":0},{"$f":"'[1]11 кл'!UWB15","v":0},{"$f":"'[1]11 кл'!UWC15","v":0},{"$f":"'[1]11 кл'!UWD15","v":0},{"$f":"'[1]11 кл'!UWE15","v":0},{"$f":"'[1]11 кл'!UWF15","v":0},{"$f":"'[1]11 кл'!UWG15","v":0},{"$f":"'[1]11 кл'!UWH15","v":0},{"$f":"'[1]11 кл'!UWI15","v":0},{"$f":"'[1]11 кл'!UWJ15","v":0},{"$f":"'[1]11 кл'!UWK15","v":0},{"$f":"'[1]11 кл'!UWL15","v":0},{"$f":"'[1]11 кл'!UWM15","v":0},{"$f":"'[1]11 кл'!UWN15","v":0},{"$f":"'[1]11 кл'!UWO15","v":0},{"$f":"'[1]11 кл'!UWP15","v":0},{"$f":"'[1]11 кл'!UWQ15","v":0},{"$f":"'[1]11 кл'!UWR15","v":0},{"$f":"'[1]11 кл'!UWS15","v":0},{"$f":"'[1]11 кл'!UWT15","v":0},{"$f":"'[1]11 кл'!UWU15","v":0},{"$f":"'[1]11 кл'!UWV15","v":0},{"$f":"'[1]11 кл'!UWW15","v":0},{"$f":"'[1]11 кл'!UWX15","v":0},{"$f":"'[1]11 кл'!UWY15","v":0},{"$f":"'[1]11 кл'!UWZ15","v":0},{"$f":"'[1]11 кл'!UXA15","v":0},{"$f":"'[1]11 кл'!UXB15","v":0},{"$f":"'[1]11 кл'!UXC15","v":0},{"$f":"'[1]11 кл'!UXD15","v":0},{"$f":"'[1]11 кл'!UXE15","v":0},{"$f":"'[1]11 кл'!UXF15","v":0},{"$f":"'[1]11 кл'!UXG15","v":0},{"$f":"'[1]11 кл'!UXH15","v":0},{"$f":"'[1]11 кл'!UXI15","v":0},{"$f":"'[1]11 кл'!UXJ15","v":0},{"$f":"'[1]11 кл'!UXK15","v":0},{"$f":"'[1]11 кл'!UXL15","v":0},{"$f":"'[1]11 кл'!UXM15","v":0},{"$f":"'[1]11 кл'!UXN15","v":0},{"$f":"'[1]11 кл'!UXO15","v":0},{"$f":"'[1]11 кл'!UXP15","v":0},{"$f":"'[1]11 кл'!UXQ15","v":0},{"$f":"'[1]11 кл'!UXR15","v":0},{"$f":"'[1]11 кл'!UXS15","v":0},{"$f":"'[1]11 кл'!UXT15","v":0},{"$f":"'[1]11 кл'!UXU15","v":0},{"$f":"'[1]11 кл'!UXV15","v":0},{"$f":"'[1]11 кл'!UXW15","v":0},{"$f":"'[1]11 кл'!UXX15","v":0},{"$f":"'[1]11 кл'!UXY15","v":0},{"$f":"'[1]11 кл'!UXZ15","v":0},{"$f":"'[1]11 кл'!UYA15","v":0},{"$f":"'[1]11 кл'!UYB15","v":0},{"$f":"'[1]11 кл'!UYC15","v":0},{"$f":"'[1]11 кл'!UYD15","v":0},{"$f":"'[1]11 кл'!UYE15","v":0},{"$f":"'[1]11 кл'!UYF15","v":0},{"$f":"'[1]11 кл'!UYG15","v":0},{"$f":"'[1]11 кл'!UYH15","v":0},{"$f":"'[1]11 кл'!UYI15","v":0},{"$f":"'[1]11 кл'!UYJ15","v":0},{"$f":"'[1]11 кл'!UYK15","v":0},{"$f":"'[1]11 кл'!UYL15","v":0},{"$f":"'[1]11 кл'!UYM15","v":0},{"$f":"'[1]11 кл'!UYN15","v":0},{"$f":"'[1]11 кл'!UYO15","v":0},{"$f":"'[1]11 кл'!UYP15","v":0},{"$f":"'[1]11 кл'!UYQ15","v":0},{"$f":"'[1]11 кл'!UYR15","v":0},{"$f":"'[1]11 кл'!UYS15","v":0},{"$f":"'[1]11 кл'!UYT15","v":0},{"$f":"'[1]11 кл'!UYU15","v":0},{"$f":"'[1]11 кл'!UYV15","v":0},{"$f":"'[1]11 кл'!UYW15","v":0},{"$f":"'[1]11 кл'!UYX15","v":0},{"$f":"'[1]11 кл'!UYY15","v":0},{"$f":"'[1]11 кл'!UYZ15","v":0},{"$f":"'[1]11 кл'!UZA15","v":0},{"$f":"'[1]11 кл'!UZB15","v":0},{"$f":"'[1]11 кл'!UZC15","v":0},{"$f":"'[1]11 кл'!UZD15","v":0},{"$f":"'[1]11 кл'!UZE15","v":0},{"$f":"'[1]11 кл'!UZF15","v":0},{"$f":"'[1]11 кл'!UZG15","v":0},{"$f":"'[1]11 кл'!UZH15","v":0},{"$f":"'[1]11 кл'!UZI15","v":0},{"$f":"'[1]11 кл'!UZJ15","v":0},{"$f":"'[1]11 кл'!UZK15","v":0},{"$f":"'[1]11 кл'!UZL15","v":0},{"$f":"'[1]11 кл'!UZM15","v":0},{"$f":"'[1]11 кл'!UZN15","v":0},{"$f":"'[1]11 кл'!UZO15","v":0},{"$f":"'[1]11 кл'!UZP15","v":0},{"$f":"'[1]11 кл'!UZQ15","v":0},{"$f":"'[1]11 кл'!UZR15","v":0},{"$f":"'[1]11 кл'!UZS15","v":0},{"$f":"'[1]11 кл'!UZT15","v":0},{"$f":"'[1]11 кл'!UZU15","v":0},{"$f":"'[1]11 кл'!UZV15","v":0},{"$f":"'[1]11 кл'!UZW15","v":0},{"$f":"'[1]11 кл'!UZX15","v":0},{"$f":"'[1]11 кл'!UZY15","v":0},{"$f":"'[1]11 кл'!UZZ15","v":0},{"$f":"'[1]11 кл'!VAA15","v":0},{"$f":"'[1]11 кл'!VAB15","v":0},{"$f":"'[1]11 кл'!VAC15","v":0},{"$f":"'[1]11 кл'!VAD15","v":0},{"$f":"'[1]11 кл'!VAE15","v":0},{"$f":"'[1]11 кл'!VAF15","v":0},{"$f":"'[1]11 кл'!VAG15","v":0},{"$f":"'[1]11 кл'!VAH15","v":0},{"$f":"'[1]11 кл'!VAI15","v":0},{"$f":"'[1]11 кл'!VAJ15","v":0},{"$f":"'[1]11 кл'!VAK15","v":0},{"$f":"'[1]11 кл'!VAL15","v":0},{"$f":"'[1]11 кл'!VAM15","v":0},{"$f":"'[1]11 кл'!VAN15","v":0},{"$f":"'[1]11 кл'!VAO15","v":0},{"$f":"'[1]11 кл'!VAP15","v":0},{"$f":"'[1]11 кл'!VAQ15","v":0},{"$f":"'[1]11 кл'!VAR15","v":0},{"$f":"'[1]11 кл'!VAS15","v":0},{"$f":"'[1]11 кл'!VAT15","v":0},{"$f":"'[1]11 кл'!VAU15","v":0},{"$f":"'[1]11 кл'!VAV15","v":0},{"$f":"'[1]11 кл'!VAW15","v":0},{"$f":"'[1]11 кл'!VAX15","v":0},{"$f":"'[1]11 кл'!VAY15","v":0},{"$f":"'[1]11 кл'!VAZ15","v":0},{"$f":"'[1]11 кл'!VBA15","v":0},{"$f":"'[1]11 кл'!VBB15","v":0},{"$f":"'[1]11 кл'!VBC15","v":0},{"$f":"'[1]11 кл'!VBD15","v":0},{"$f":"'[1]11 кл'!VBE15","v":0},{"$f":"'[1]11 кл'!VBF15","v":0},{"$f":"'[1]11 кл'!VBG15","v":0},{"$f":"'[1]11 кл'!VBH15","v":0},{"$f":"'[1]11 кл'!VBI15","v":0},{"$f":"'[1]11 кл'!VBJ15","v":0},{"$f":"'[1]11 кл'!VBK15","v":0},{"$f":"'[1]11 кл'!VBL15","v":0},{"$f":"'[1]11 кл'!VBM15","v":0},{"$f":"'[1]11 кл'!VBN15","v":0},{"$f":"'[1]11 кл'!VBO15","v":0},{"$f":"'[1]11 кл'!VBP15","v":0},{"$f":"'[1]11 кл'!VBQ15","v":0},{"$f":"'[1]11 кл'!VBR15","v":0},{"$f":"'[1]11 кл'!VBS15","v":0},{"$f":"'[1]11 кл'!VBT15","v":0},{"$f":"'[1]11 кл'!VBU15","v":0},{"$f":"'[1]11 кл'!VBV15","v":0},{"$f":"'[1]11 кл'!VBW15","v":0},{"$f":"'[1]11 кл'!VBX15","v":0},{"$f":"'[1]11 кл'!VBY15","v":0},{"$f":"'[1]11 кл'!VBZ15","v":0},{"$f":"'[1]11 кл'!VCA15","v":0},{"$f":"'[1]11 кл'!VCB15","v":0},{"$f":"'[1]11 кл'!VCC15","v":0},{"$f":"'[1]11 кл'!VCD15","v":0},{"$f":"'[1]11 кл'!VCE15","v":0},{"$f":"'[1]11 кл'!VCF15","v":0},{"$f":"'[1]11 кл'!VCG15","v":0},{"$f":"'[1]11 кл'!VCH15","v":0},{"$f":"'[1]11 кл'!VCI15","v":0},{"$f":"'[1]11 кл'!VCJ15","v":0},{"$f":"'[1]11 кл'!VCK15","v":0},{"$f":"'[1]11 кл'!VCL15","v":0},{"$f":"'[1]11 кл'!VCM15","v":0},{"$f":"'[1]11 кл'!VCN15","v":0},{"$f":"'[1]11 кл'!VCO15","v":0},{"$f":"'[1]11 кл'!VCP15","v":0},{"$f":"'[1]11 кл'!VCQ15","v":0},{"$f":"'[1]11 кл'!VCR15","v":0},{"$f":"'[1]11 кл'!VCS15","v":0},{"$f":"'[1]11 кл'!VCT15","v":0},{"$f":"'[1]11 кл'!VCU15","v":0},{"$f":"'[1]11 кл'!VCV15","v":0},{"$f":"'[1]11 кл'!VCW15","v":0},{"$f":"'[1]11 кл'!VCX15","v":0},{"$f":"'[1]11 кл'!VCY15","v":0},{"$f":"'[1]11 кл'!VCZ15","v":0},{"$f":"'[1]11 кл'!VDA15","v":0},{"$f":"'[1]11 кл'!VDB15","v":0},{"$f":"'[1]11 кл'!VDC15","v":0},{"$f":"'[1]11 кл'!VDD15","v":0},{"$f":"'[1]11 кл'!VDE15","v":0},{"$f":"'[1]11 кл'!VDF15","v":0},{"$f":"'[1]11 кл'!VDG15","v":0},{"$f":"'[1]11 кл'!VDH15","v":0},{"$f":"'[1]11 кл'!VDI15","v":0},{"$f":"'[1]11 кл'!VDJ15","v":0},{"$f":"'[1]11 кл'!VDK15","v":0},{"$f":"'[1]11 кл'!VDL15","v":0},{"$f":"'[1]11 кл'!VDM15","v":0},{"$f":"'[1]11 кл'!VDN15","v":0},{"$f":"'[1]11 кл'!VDO15","v":0},{"$f":"'[1]11 кл'!VDP15","v":0},{"$f":"'[1]11 кл'!VDQ15","v":0},{"$f":"'[1]11 кл'!VDR15","v":0},{"$f":"'[1]11 кл'!VDS15","v":0},{"$f":"'[1]11 кл'!VDT15","v":0},{"$f":"'[1]11 кл'!VDU15","v":0},{"$f":"'[1]11 кл'!VDV15","v":0},{"$f":"'[1]11 кл'!VDW15","v":0},{"$f":"'[1]11 кл'!VDX15","v":0},{"$f":"'[1]11 кл'!VDY15","v":0},{"$f":"'[1]11 кл'!VDZ15","v":0},{"$f":"'[1]11 кл'!VEA15","v":0},{"$f":"'[1]11 кл'!VEB15","v":0},{"$f":"'[1]11 кл'!VEC15","v":0},{"$f":"'[1]11 кл'!VED15","v":0},{"$f":"'[1]11 кл'!VEE15","v":0},{"$f":"'[1]11 кл'!VEF15","v":0},{"$f":"'[1]11 кл'!VEG15","v":0},{"$f":"'[1]11 кл'!VEH15","v":0},{"$f":"'[1]11 кл'!VEI15","v":0},{"$f":"'[1]11 кл'!VEJ15","v":0},{"$f":"'[1]11 кл'!VEK15","v":0},{"$f":"'[1]11 кл'!VEL15","v":0},{"$f":"'[1]11 кл'!VEM15","v":0},{"$f":"'[1]11 кл'!VEN15","v":0},{"$f":"'[1]11 кл'!VEO15","v":0},{"$f":"'[1]11 кл'!VEP15","v":0},{"$f":"'[1]11 кл'!VEQ15","v":0},{"$f":"'[1]11 кл'!VER15","v":0},{"$f":"'[1]11 кл'!VES15","v":0},{"$f":"'[1]11 кл'!VET15","v":0},{"$f":"'[1]11 кл'!VEU15","v":0},{"$f":"'[1]11 кл'!VEV15","v":0},{"$f":"'[1]11 кл'!VEW15","v":0},{"$f":"'[1]11 кл'!VEX15","v":0},{"$f":"'[1]11 кл'!VEY15","v":0},{"$f":"'[1]11 кл'!VEZ15","v":0},{"$f":"'[1]11 кл'!VFA15","v":0},{"$f":"'[1]11 кл'!VFB15","v":0},{"$f":"'[1]11 кл'!VFC15","v":0},{"$f":"'[1]11 кл'!VFD15","v":0},{"$f":"'[1]11 кл'!VFE15","v":0},{"$f":"'[1]11 кл'!VFF15","v":0},{"$f":"'[1]11 кл'!VFG15","v":0},{"$f":"'[1]11 кл'!VFH15","v":0},{"$f":"'[1]11 кл'!VFI15","v":0},{"$f":"'[1]11 кл'!VFJ15","v":0},{"$f":"'[1]11 кл'!VFK15","v":0},{"$f":"'[1]11 кл'!VFL15","v":0},{"$f":"'[1]11 кл'!VFM15","v":0},{"$f":"'[1]11 кл'!VFN15","v":0},{"$f":"'[1]11 кл'!VFO15","v":0},{"$f":"'[1]11 кл'!VFP15","v":0},{"$f":"'[1]11 кл'!VFQ15","v":0},{"$f":"'[1]11 кл'!VFR15","v":0},{"$f":"'[1]11 кл'!VFS15","v":0},{"$f":"'[1]11 кл'!VFT15","v":0},{"$f":"'[1]11 кл'!VFU15","v":0},{"$f":"'[1]11 кл'!VFV15","v":0},{"$f":"'[1]11 кл'!VFW15","v":0},{"$f":"'[1]11 кл'!VFX15","v":0},{"$f":"'[1]11 кл'!VFY15","v":0},{"$f":"'[1]11 кл'!VFZ15","v":0},{"$f":"'[1]11 кл'!VGA15","v":0},{"$f":"'[1]11 кл'!VGB15","v":0},{"$f":"'[1]11 кл'!VGC15","v":0},{"$f":"'[1]11 кл'!VGD15","v":0},{"$f":"'[1]11 кл'!VGE15","v":0},{"$f":"'[1]11 кл'!VGF15","v":0},{"$f":"'[1]11 кл'!VGG15","v":0},{"$f":"'[1]11 кл'!VGH15","v":0},{"$f":"'[1]11 кл'!VGI15","v":0},{"$f":"'[1]11 кл'!VGJ15","v":0},{"$f":"'[1]11 кл'!VGK15","v":0},{"$f":"'[1]11 кл'!VGL15","v":0},{"$f":"'[1]11 кл'!VGM15","v":0},{"$f":"'[1]11 кл'!VGN15","v":0},{"$f":"'[1]11 кл'!VGO15","v":0},{"$f":"'[1]11 кл'!VGP15","v":0},{"$f":"'[1]11 кл'!VGQ15","v":0},{"$f":"'[1]11 кл'!VGR15","v":0},{"$f":"'[1]11 кл'!VGS15","v":0},{"$f":"'[1]11 кл'!VGT15","v":0},{"$f":"'[1]11 кл'!VGU15","v":0},{"$f":"'[1]11 кл'!VGV15","v":0},{"$f":"'[1]11 кл'!VGW15","v":0},{"$f":"'[1]11 кл'!VGX15","v":0},{"$f":"'[1]11 кл'!VGY15","v":0},{"$f":"'[1]11 кл'!VGZ15","v":0},{"$f":"'[1]11 кл'!VHA15","v":0},{"$f":"'[1]11 кл'!VHB15","v":0},{"$f":"'[1]11 кл'!VHC15","v":0},{"$f":"'[1]11 кл'!VHD15","v":0},{"$f":"'[1]11 кл'!VHE15","v":0},{"$f":"'[1]11 кл'!VHF15","v":0},{"$f":"'[1]11 кл'!VHG15","v":0},{"$f":"'[1]11 кл'!VHH15","v":0},{"$f":"'[1]11 кл'!VHI15","v":0},{"$f":"'[1]11 кл'!VHJ15","v":0},{"$f":"'[1]11 кл'!VHK15","v":0},{"$f":"'[1]11 кл'!VHL15","v":0},{"$f":"'[1]11 кл'!VHM15","v":0},{"$f":"'[1]11 кл'!VHN15","v":0},{"$f":"'[1]11 кл'!VHO15","v":0},{"$f":"'[1]11 кл'!VHP15","v":0},{"$f":"'[1]11 кл'!VHQ15","v":0},{"$f":"'[1]11 кл'!VHR15","v":0},{"$f":"'[1]11 кл'!VHS15","v":0},{"$f":"'[1]11 кл'!VHT15","v":0},{"$f":"'[1]11 кл'!VHU15","v":0},{"$f":"'[1]11 кл'!VHV15","v":0},{"$f":"'[1]11 кл'!VHW15","v":0},{"$f":"'[1]11 кл'!VHX15","v":0},{"$f":"'[1]11 кл'!VHY15","v":0},{"$f":"'[1]11 кл'!VHZ15","v":0},{"$f":"'[1]11 кл'!VIA15","v":0},{"$f":"'[1]11 кл'!VIB15","v":0},{"$f":"'[1]11 кл'!VIC15","v":0},{"$f":"'[1]11 кл'!VID15","v":0},{"$f":"'[1]11 кл'!VIE15","v":0},{"$f":"'[1]11 кл'!VIF15","v":0},{"$f":"'[1]11 кл'!VIG15","v":0},{"$f":"'[1]11 кл'!VIH15","v":0},{"$f":"'[1]11 кл'!VII15","v":0},{"$f":"'[1]11 кл'!VIJ15","v":0},{"$f":"'[1]11 кл'!VIK15","v":0},{"$f":"'[1]11 кл'!VIL15","v":0},{"$f":"'[1]11 кл'!VIM15","v":0},{"$f":"'[1]11 кл'!VIN15","v":0},{"$f":"'[1]11 кл'!VIO15","v":0},{"$f":"'[1]11 кл'!VIP15","v":0},{"$f":"'[1]11 кл'!VIQ15","v":0},{"$f":"'[1]11 кл'!VIR15","v":0},{"$f":"'[1]11 кл'!VIS15","v":0},{"$f":"'[1]11 кл'!VIT15","v":0},{"$f":"'[1]11 кл'!VIU15","v":0},{"$f":"'[1]11 кл'!VIV15","v":0},{"$f":"'[1]11 кл'!VIW15","v":0},{"$f":"'[1]11 кл'!VIX15","v":0},{"$f":"'[1]11 кл'!VIY15","v":0},{"$f":"'[1]11 кл'!VIZ15","v":0},{"$f":"'[1]11 кл'!VJA15","v":0},{"$f":"'[1]11 кл'!VJB15","v":0},{"$f":"'[1]11 кл'!VJC15","v":0},{"$f":"'[1]11 кл'!VJD15","v":0},{"$f":"'[1]11 кл'!VJE15","v":0},{"$f":"'[1]11 кл'!VJF15","v":0},{"$f":"'[1]11 кл'!VJG15","v":0},{"$f":"'[1]11 кл'!VJH15","v":0},{"$f":"'[1]11 кл'!VJI15","v":0},{"$f":"'[1]11 кл'!VJJ15","v":0},{"$f":"'[1]11 кл'!VJK15","v":0},{"$f":"'[1]11 кл'!VJL15","v":0},{"$f":"'[1]11 кл'!VJM15","v":0},{"$f":"'[1]11 кл'!VJN15","v":0},{"$f":"'[1]11 кл'!VJO15","v":0},{"$f":"'[1]11 кл'!VJP15","v":0},{"$f":"'[1]11 кл'!VJQ15","v":0},{"$f":"'[1]11 кл'!VJR15","v":0},{"$f":"'[1]11 кл'!VJS15","v":0},{"$f":"'[1]11 кл'!VJT15","v":0},{"$f":"'[1]11 кл'!VJU15","v":0},{"$f":"'[1]11 кл'!VJV15","v":0},{"$f":"'[1]11 кл'!VJW15","v":0},{"$f":"'[1]11 кл'!VJX15","v":0},{"$f":"'[1]11 кл'!VJY15","v":0},{"$f":"'[1]11 кл'!VJZ15","v":0},{"$f":"'[1]11 кл'!VKA15","v":0},{"$f":"'[1]11 кл'!VKB15","v":0},{"$f":"'[1]11 кл'!VKC15","v":0},{"$f":"'[1]11 кл'!VKD15","v":0},{"$f":"'[1]11 кл'!VKE15","v":0},{"$f":"'[1]11 кл'!VKF15","v":0},{"$f":"'[1]11 кл'!VKG15","v":0},{"$f":"'[1]11 кл'!VKH15","v":0},{"$f":"'[1]11 кл'!VKI15","v":0},{"$f":"'[1]11 кл'!VKJ15","v":0},{"$f":"'[1]11 кл'!VKK15","v":0},{"$f":"'[1]11 кл'!VKL15","v":0},{"$f":"'[1]11 кл'!VKM15","v":0},{"$f":"'[1]11 кл'!VKN15","v":0},{"$f":"'[1]11 кл'!VKO15","v":0},{"$f":"'[1]11 кл'!VKP15","v":0},{"$f":"'[1]11 кл'!VKQ15","v":0},{"$f":"'[1]11 кл'!VKR15","v":0},{"$f":"'[1]11 кл'!VKS15","v":0},{"$f":"'[1]11 кл'!VKT15","v":0},{"$f":"'[1]11 кл'!VKU15","v":0},{"$f":"'[1]11 кл'!VKV15","v":0},{"$f":"'[1]11 кл'!VKW15","v":0},{"$f":"'[1]11 кл'!VKX15","v":0},{"$f":"'[1]11 кл'!VKY15","v":0},{"$f":"'[1]11 кл'!VKZ15","v":0},{"$f":"'[1]11 кл'!VLA15","v":0},{"$f":"'[1]11 кл'!VLB15","v":0},{"$f":"'[1]11 кл'!VLC15","v":0},{"$f":"'[1]11 кл'!VLD15","v":0},{"$f":"'[1]11 кл'!VLE15","v":0},{"$f":"'[1]11 кл'!VLF15","v":0},{"$f":"'[1]11 кл'!VLG15","v":0},{"$f":"'[1]11 кл'!VLH15","v":0},{"$f":"'[1]11 кл'!VLI15","v":0},{"$f":"'[1]11 кл'!VLJ15","v":0},{"$f":"'[1]11 кл'!VLK15","v":0},{"$f":"'[1]11 кл'!VLL15","v":0},{"$f":"'[1]11 кл'!VLM15","v":0},{"$f":"'[1]11 кл'!VLN15","v":0},{"$f":"'[1]11 кл'!VLO15","v":0},{"$f":"'[1]11 кл'!VLP15","v":0},{"$f":"'[1]11 кл'!VLQ15","v":0},{"$f":"'[1]11 кл'!VLR15","v":0},{"$f":"'[1]11 кл'!VLS15","v":0},{"$f":"'[1]11 кл'!VLT15","v":0},{"$f":"'[1]11 кл'!VLU15","v":0},{"$f":"'[1]11 кл'!VLV15","v":0},{"$f":"'[1]11 кл'!VLW15","v":0},{"$f":"'[1]11 кл'!VLX15","v":0},{"$f":"'[1]11 кл'!VLY15","v":0},{"$f":"'[1]11 кл'!VLZ15","v":0},{"$f":"'[1]11 кл'!VMA15","v":0},{"$f":"'[1]11 кл'!VMB15","v":0},{"$f":"'[1]11 кл'!VMC15","v":0},{"$f":"'[1]11 кл'!VMD15","v":0},{"$f":"'[1]11 кл'!VME15","v":0},{"$f":"'[1]11 кл'!VMF15","v":0},{"$f":"'[1]11 кл'!VMG15","v":0},{"$f":"'[1]11 кл'!VMH15","v":0},{"$f":"'[1]11 кл'!VMI15","v":0},{"$f":"'[1]11 кл'!VMJ15","v":0},{"$f":"'[1]11 кл'!VMK15","v":0},{"$f":"'[1]11 кл'!VML15","v":0},{"$f":"'[1]11 кл'!VMM15","v":0},{"$f":"'[1]11 кл'!VMN15","v":0},{"$f":"'[1]11 кл'!VMO15","v":0},{"$f":"'[1]11 кл'!VMP15","v":0},{"$f":"'[1]11 кл'!VMQ15","v":0},{"$f":"'[1]11 кл'!VMR15","v":0},{"$f":"'[1]11 кл'!VMS15","v":0},{"$f":"'[1]11 кл'!VMT15","v":0},{"$f":"'[1]11 кл'!VMU15","v":0},{"$f":"'[1]11 кл'!VMV15","v":0},{"$f":"'[1]11 кл'!VMW15","v":0},{"$f":"'[1]11 кл'!VMX15","v":0},{"$f":"'[1]11 кл'!VMY15","v":0},{"$f":"'[1]11 кл'!VMZ15","v":0},{"$f":"'[1]11 кл'!VNA15","v":0},{"$f":"'[1]11 кл'!VNB15","v":0},{"$f":"'[1]11 кл'!VNC15","v":0},{"$f":"'[1]11 кл'!VND15","v":0},{"$f":"'[1]11 кл'!VNE15","v":0},{"$f":"'[1]11 кл'!VNF15","v":0},{"$f":"'[1]11 кл'!VNG15","v":0},{"$f":"'[1]11 кл'!VNH15","v":0},{"$f":"'[1]11 кл'!VNI15","v":0},{"$f":"'[1]11 кл'!VNJ15","v":0},{"$f":"'[1]11 кл'!VNK15","v":0},{"$f":"'[1]11 кл'!VNL15","v":0},{"$f":"'[1]11 кл'!VNM15","v":0},{"$f":"'[1]11 кл'!VNN15","v":0},{"$f":"'[1]11 кл'!VNO15","v":0},{"$f":"'[1]11 кл'!VNP15","v":0},{"$f":"'[1]11 кл'!VNQ15","v":0},{"$f":"'[1]11 кл'!VNR15","v":0},{"$f":"'[1]11 кл'!VNS15","v":0},{"$f":"'[1]11 кл'!VNT15","v":0},{"$f":"'[1]11 кл'!VNU15","v":0},{"$f":"'[1]11 кл'!VNV15","v":0},{"$f":"'[1]11 кл'!VNW15","v":0},{"$f":"'[1]11 кл'!VNX15","v":0},{"$f":"'[1]11 кл'!VNY15","v":0},{"$f":"'[1]11 кл'!VNZ15","v":0},{"$f":"'[1]11 кл'!VOA15","v":0},{"$f":"'[1]11 кл'!VOB15","v":0},{"$f":"'[1]11 кл'!VOC15","v":0},{"$f":"'[1]11 кл'!VOD15","v":0},{"$f":"'[1]11 кл'!VOE15","v":0},{"$f":"'[1]11 кл'!VOF15","v":0},{"$f":"'[1]11 кл'!VOG15","v":0},{"$f":"'[1]11 кл'!VOH15","v":0},{"$f":"'[1]11 кл'!VOI15","v":0},{"$f":"'[1]11 кл'!VOJ15","v":0},{"$f":"'[1]11 кл'!VOK15","v":0},{"$f":"'[1]11 кл'!VOL15","v":0},{"$f":"'[1]11 кл'!VOM15","v":0},{"$f":"'[1]11 кл'!VON15","v":0},{"$f":"'[1]11 кл'!VOO15","v":0},{"$f":"'[1]11 кл'!VOP15","v":0},{"$f":"'[1]11 кл'!VOQ15","v":0},{"$f":"'[1]11 кл'!VOR15","v":0},{"$f":"'[1]11 кл'!VOS15","v":0},{"$f":"'[1]11 кл'!VOT15","v":0},{"$f":"'[1]11 кл'!VOU15","v":0},{"$f":"'[1]11 кл'!VOV15","v":0},{"$f":"'[1]11 кл'!VOW15","v":0},{"$f":"'[1]11 кл'!VOX15","v":0},{"$f":"'[1]11 кл'!VOY15","v":0},{"$f":"'[1]11 кл'!VOZ15","v":0},{"$f":"'[1]11 кл'!VPA15","v":0},{"$f":"'[1]11 кл'!VPB15","v":0},{"$f":"'[1]11 кл'!VPC15","v":0},{"$f":"'[1]11 кл'!VPD15","v":0},{"$f":"'[1]11 кл'!VPE15","v":0},{"$f":"'[1]11 кл'!VPF15","v":0},{"$f":"'[1]11 кл'!VPG15","v":0},{"$f":"'[1]11 кл'!VPH15","v":0},{"$f":"'[1]11 кл'!VPI15","v":0},{"$f":"'[1]11 кл'!VPJ15","v":0},{"$f":"'[1]11 кл'!VPK15","v":0},{"$f":"'[1]11 кл'!VPL15","v":0},{"$f":"'[1]11 кл'!VPM15","v":0},{"$f":"'[1]11 кл'!VPN15","v":0},{"$f":"'[1]11 кл'!VPO15","v":0},{"$f":"'[1]11 кл'!VPP15","v":0},{"$f":"'[1]11 кл'!VPQ15","v":0},{"$f":"'[1]11 кл'!VPR15","v":0},{"$f":"'[1]11 кл'!VPS15","v":0},{"$f":"'[1]11 кл'!VPT15","v":0},{"$f":"'[1]11 кл'!VPU15","v":0},{"$f":"'[1]11 кл'!VPV15","v":0},{"$f":"'[1]11 кл'!VPW15","v":0},{"$f":"'[1]11 кл'!VPX15","v":0},{"$f":"'[1]11 кл'!VPY15","v":0},{"$f":"'[1]11 кл'!VPZ15","v":0},{"$f":"'[1]11 кл'!VQA15","v":0},{"$f":"'[1]11 кл'!VQB15","v":0},{"$f":"'[1]11 кл'!VQC15","v":0},{"$f":"'[1]11 кл'!VQD15","v":0},{"$f":"'[1]11 кл'!VQE15","v":0},{"$f":"'[1]11 кл'!VQF15","v":0},{"$f":"'[1]11 кл'!VQG15","v":0},{"$f":"'[1]11 кл'!VQH15","v":0},{"$f":"'[1]11 кл'!VQI15","v":0},{"$f":"'[1]11 кл'!VQJ15","v":0},{"$f":"'[1]11 кл'!VQK15","v":0},{"$f":"'[1]11 кл'!VQL15","v":0},{"$f":"'[1]11 кл'!VQM15","v":0},{"$f":"'[1]11 кл'!VQN15","v":0},{"$f":"'[1]11 кл'!VQO15","v":0},{"$f":"'[1]11 кл'!VQP15","v":0},{"$f":"'[1]11 кл'!VQQ15","v":0},{"$f":"'[1]11 кл'!VQR15","v":0},{"$f":"'[1]11 кл'!VQS15","v":0},{"$f":"'[1]11 кл'!VQT15","v":0},{"$f":"'[1]11 кл'!VQU15","v":0},{"$f":"'[1]11 кл'!VQV15","v":0},{"$f":"'[1]11 кл'!VQW15","v":0},{"$f":"'[1]11 кл'!VQX15","v":0},{"$f":"'[1]11 кл'!VQY15","v":0},{"$f":"'[1]11 кл'!VQZ15","v":0},{"$f":"'[1]11 кл'!VRA15","v":0},{"$f":"'[1]11 кл'!VRB15","v":0},{"$f":"'[1]11 кл'!VRC15","v":0},{"$f":"'[1]11 кл'!VRD15","v":0},{"$f":"'[1]11 кл'!VRE15","v":0},{"$f":"'[1]11 кл'!VRF15","v":0},{"$f":"'[1]11 кл'!VRG15","v":0},{"$f":"'[1]11 кл'!VRH15","v":0},{"$f":"'[1]11 кл'!VRI15","v":0},{"$f":"'[1]11 кл'!VRJ15","v":0},{"$f":"'[1]11 кл'!VRK15","v":0},{"$f":"'[1]11 кл'!VRL15","v":0},{"$f":"'[1]11 кл'!VRM15","v":0},{"$f":"'[1]11 кл'!VRN15","v":0},{"$f":"'[1]11 кл'!VRO15","v":0},{"$f":"'[1]11 кл'!VRP15","v":0},{"$f":"'[1]11 кл'!VRQ15","v":0},{"$f":"'[1]11 кл'!VRR15","v":0},{"$f":"'[1]11 кл'!VRS15","v":0},{"$f":"'[1]11 кл'!VRT15","v":0},{"$f":"'[1]11 кл'!VRU15","v":0},{"$f":"'[1]11 кл'!VRV15","v":0},{"$f":"'[1]11 кл'!VRW15","v":0},{"$f":"'[1]11 кл'!VRX15","v":0},{"$f":"'[1]11 кл'!VRY15","v":0},{"$f":"'[1]11 кл'!VRZ15","v":0},{"$f":"'[1]11 кл'!VSA15","v":0},{"$f":"'[1]11 кл'!VSB15","v":0},{"$f":"'[1]11 кл'!VSC15","v":0},{"$f":"'[1]11 кл'!VSD15","v":0},{"$f":"'[1]11 кл'!VSE15","v":0},{"$f":"'[1]11 кл'!VSF15","v":0},{"$f":"'[1]11 кл'!VSG15","v":0},{"$f":"'[1]11 кл'!VSH15","v":0},{"$f":"'[1]11 кл'!VSI15","v":0},{"$f":"'[1]11 кл'!VSJ15","v":0},{"$f":"'[1]11 кл'!VSK15","v":0},{"$f":"'[1]11 кл'!VSL15","v":0},{"$f":"'[1]11 кл'!VSM15","v":0},{"$f":"'[1]11 кл'!VSN15","v":0},{"$f":"'[1]11 кл'!VSO15","v":0},{"$f":"'[1]11 кл'!VSP15","v":0},{"$f":"'[1]11 кл'!VSQ15","v":0},{"$f":"'[1]11 кл'!VSR15","v":0},{"$f":"'[1]11 кл'!VSS15","v":0},{"$f":"'[1]11 кл'!VST15","v":0},{"$f":"'[1]11 кл'!VSU15","v":0},{"$f":"'[1]11 кл'!VSV15","v":0},{"$f":"'[1]11 кл'!VSW15","v":0},{"$f":"'[1]11 кл'!VSX15","v":0},{"$f":"'[1]11 кл'!VSY15","v":0},{"$f":"'[1]11 кл'!VSZ15","v":0},{"$f":"'[1]11 кл'!VTA15","v":0},{"$f":"'[1]11 кл'!VTB15","v":0},{"$f":"'[1]11 кл'!VTC15","v":0},{"$f":"'[1]11 кл'!VTD15","v":0},{"$f":"'[1]11 кл'!VTE15","v":0},{"$f":"'[1]11 кл'!VTF15","v":0},{"$f":"'[1]11 кл'!VTG15","v":0},{"$f":"'[1]11 кл'!VTH15","v":0},{"$f":"'[1]11 кл'!VTI15","v":0},{"$f":"'[1]11 кл'!VTJ15","v":0},{"$f":"'[1]11 кл'!VTK15","v":0},{"$f":"'[1]11 кл'!VTL15","v":0},{"$f":"'[1]11 кл'!VTM15","v":0},{"$f":"'[1]11 кл'!VTN15","v":0},{"$f":"'[1]11 кл'!VTO15","v":0},{"$f":"'[1]11 кл'!VTP15","v":0},{"$f":"'[1]11 кл'!VTQ15","v":0},{"$f":"'[1]11 кл'!VTR15","v":0},{"$f":"'[1]11 кл'!VTS15","v":0},{"$f":"'[1]11 кл'!VTT15","v":0},{"$f":"'[1]11 кл'!VTU15","v":0},{"$f":"'[1]11 кл'!VTV15","v":0},{"$f":"'[1]11 кл'!VTW15","v":0},{"$f":"'[1]11 кл'!VTX15","v":0},{"$f":"'[1]11 кл'!VTY15","v":0},{"$f":"'[1]11 кл'!VTZ15","v":0},{"$f":"'[1]11 кл'!VUA15","v":0},{"$f":"'[1]11 кл'!VUB15","v":0},{"$f":"'[1]11 кл'!VUC15","v":0},{"$f":"'[1]11 кл'!VUD15","v":0},{"$f":"'[1]11 кл'!VUE15","v":0},{"$f":"'[1]11 кл'!VUF15","v":0},{"$f":"'[1]11 кл'!VUG15","v":0},{"$f":"'[1]11 кл'!VUH15","v":0},{"$f":"'[1]11 кл'!VUI15","v":0},{"$f":"'[1]11 кл'!VUJ15","v":0},{"$f":"'[1]11 кл'!VUK15","v":0},{"$f":"'[1]11 кл'!VUL15","v":0},{"$f":"'[1]11 кл'!VUM15","v":0},{"$f":"'[1]11 кл'!VUN15","v":0},{"$f":"'[1]11 кл'!VUO15","v":0},{"$f":"'[1]11 кл'!VUP15","v":0},{"$f":"'[1]11 кл'!VUQ15","v":0},{"$f":"'[1]11 кл'!VUR15","v":0},{"$f":"'[1]11 кл'!VUS15","v":0},{"$f":"'[1]11 кл'!VUT15","v":0},{"$f":"'[1]11 кл'!VUU15","v":0},{"$f":"'[1]11 кл'!VUV15","v":0},{"$f":"'[1]11 кл'!VUW15","v":0},{"$f":"'[1]11 кл'!VUX15","v":0},{"$f":"'[1]11 кл'!VUY15","v":0},{"$f":"'[1]11 кл'!VUZ15","v":0},{"$f":"'[1]11 кл'!VVA15","v":0},{"$f":"'[1]11 кл'!VVB15","v":0},{"$f":"'[1]11 кл'!VVC15","v":0},{"$f":"'[1]11 кл'!VVD15","v":0},{"$f":"'[1]11 кл'!VVE15","v":0},{"$f":"'[1]11 кл'!VVF15","v":0},{"$f":"'[1]11 кл'!VVG15","v":0},{"$f":"'[1]11 кл'!VVH15","v":0},{"$f":"'[1]11 кл'!VVI15","v":0},{"$f":"'[1]11 кл'!VVJ15","v":0},{"$f":"'[1]11 кл'!VVK15","v":0},{"$f":"'[1]11 кл'!VVL15","v":0},{"$f":"'[1]11 кл'!VVM15","v":0},{"$f":"'[1]11 кл'!VVN15","v":0},{"$f":"'[1]11 кл'!VVO15","v":0},{"$f":"'[1]11 кл'!VVP15","v":0},{"$f":"'[1]11 кл'!VVQ15","v":0},{"$f":"'[1]11 кл'!VVR15","v":0},{"$f":"'[1]11 кл'!VVS15","v":0},{"$f":"'[1]11 кл'!VVT15","v":0},{"$f":"'[1]11 кл'!VVU15","v":0},{"$f":"'[1]11 кл'!VVV15","v":0},{"$f":"'[1]11 кл'!VVW15","v":0},{"$f":"'[1]11 кл'!VVX15","v":0},{"$f":"'[1]11 кл'!VVY15","v":0},{"$f":"'[1]11 кл'!VVZ15","v":0},{"$f":"'[1]11 кл'!VWA15","v":0},{"$f":"'[1]11 кл'!VWB15","v":0},{"$f":"'[1]11 кл'!VWC15","v":0},{"$f":"'[1]11 кл'!VWD15","v":0},{"$f":"'[1]11 кл'!VWE15","v":0},{"$f":"'[1]11 кл'!VWF15","v":0},{"$f":"'[1]11 кл'!VWG15","v":0},{"$f":"'[1]11 кл'!VWH15","v":0},{"$f":"'[1]11 кл'!VWI15","v":0},{"$f":"'[1]11 кл'!VWJ15","v":0},{"$f":"'[1]11 кл'!VWK15","v":0},{"$f":"'[1]11 кл'!VWL15","v":0},{"$f":"'[1]11 кл'!VWM15","v":0},{"$f":"'[1]11 кл'!VWN15","v":0},{"$f":"'[1]11 кл'!VWO15","v":0},{"$f":"'[1]11 кл'!VWP15","v":0},{"$f":"'[1]11 кл'!VWQ15","v":0},{"$f":"'[1]11 кл'!VWR15","v":0},{"$f":"'[1]11 кл'!VWS15","v":0},{"$f":"'[1]11 кл'!VWT15","v":0},{"$f":"'[1]11 кл'!VWU15","v":0},{"$f":"'[1]11 кл'!VWV15","v":0},{"$f":"'[1]11 кл'!VWW15","v":0},{"$f":"'[1]11 кл'!VWX15","v":0},{"$f":"'[1]11 кл'!VWY15","v":0},{"$f":"'[1]11 кл'!VWZ15","v":0},{"$f":"'[1]11 кл'!VXA15","v":0},{"$f":"'[1]11 кл'!VXB15","v":0},{"$f":"'[1]11 кл'!VXC15","v":0},{"$f":"'[1]11 кл'!VXD15","v":0},{"$f":"'[1]11 кл'!VXE15","v":0},{"$f":"'[1]11 кл'!VXF15","v":0},{"$f":"'[1]11 кл'!VXG15","v":0},{"$f":"'[1]11 кл'!VXH15","v":0},{"$f":"'[1]11 кл'!VXI15","v":0},{"$f":"'[1]11 кл'!VXJ15","v":0},{"$f":"'[1]11 кл'!VXK15","v":0},{"$f":"'[1]11 кл'!VXL15","v":0},{"$f":"'[1]11 кл'!VXM15","v":0},{"$f":"'[1]11 кл'!VXN15","v":0},{"$f":"'[1]11 кл'!VXO15","v":0},{"$f":"'[1]11 кл'!VXP15","v":0},{"$f":"'[1]11 кл'!VXQ15","v":0},{"$f":"'[1]11 кл'!VXR15","v":0},{"$f":"'[1]11 кл'!VXS15","v":0},{"$f":"'[1]11 кл'!VXT15","v":0},{"$f":"'[1]11 кл'!VXU15","v":0},{"$f":"'[1]11 кл'!VXV15","v":0},{"$f":"'[1]11 кл'!VXW15","v":0},{"$f":"'[1]11 кл'!VXX15","v":0},{"$f":"'[1]11 кл'!VXY15","v":0},{"$f":"'[1]11 кл'!VXZ15","v":0},{"$f":"'[1]11 кл'!VYA15","v":0},{"$f":"'[1]11 кл'!VYB15","v":0},{"$f":"'[1]11 кл'!VYC15","v":0},{"$f":"'[1]11 кл'!VYD15","v":0},{"$f":"'[1]11 кл'!VYE15","v":0},{"$f":"'[1]11 кл'!VYF15","v":0},{"$f":"'[1]11 кл'!VYG15","v":0},{"$f":"'[1]11 кл'!VYH15","v":0},{"$f":"'[1]11 кл'!VYI15","v":0},{"$f":"'[1]11 кл'!VYJ15","v":0},{"$f":"'[1]11 кл'!VYK15","v":0},{"$f":"'[1]11 кл'!VYL15","v":0},{"$f":"'[1]11 кл'!VYM15","v":0},{"$f":"'[1]11 кл'!VYN15","v":0},{"$f":"'[1]11 кл'!VYO15","v":0},{"$f":"'[1]11 кл'!VYP15","v":0},{"$f":"'[1]11 кл'!VYQ15","v":0},{"$f":"'[1]11 кл'!VYR15","v":0},{"$f":"'[1]11 кл'!VYS15","v":0},{"$f":"'[1]11 кл'!VYT15","v":0},{"$f":"'[1]11 кл'!VYU15","v":0},{"$f":"'[1]11 кл'!VYV15","v":0},{"$f":"'[1]11 кл'!VYW15","v":0},{"$f":"'[1]11 кл'!VYX15","v":0},{"$f":"'[1]11 кл'!VYY15","v":0},{"$f":"'[1]11 кл'!VYZ15","v":0},{"$f":"'[1]11 кл'!VZA15","v":0},{"$f":"'[1]11 кл'!VZB15","v":0},{"$f":"'[1]11 кл'!VZC15","v":0},{"$f":"'[1]11 кл'!VZD15","v":0},{"$f":"'[1]11 кл'!VZE15","v":0},{"$f":"'[1]11 кл'!VZF15","v":0},{"$f":"'[1]11 кл'!VZG15","v":0},{"$f":"'[1]11 кл'!VZH15","v":0},{"$f":"'[1]11 кл'!VZI15","v":0},{"$f":"'[1]11 кл'!VZJ15","v":0},{"$f":"'[1]11 кл'!VZK15","v":0},{"$f":"'[1]11 кл'!VZL15","v":0},{"$f":"'[1]11 кл'!VZM15","v":0},{"$f":"'[1]11 кл'!VZN15","v":0},{"$f":"'[1]11 кл'!VZO15","v":0},{"$f":"'[1]11 кл'!VZP15","v":0},{"$f":"'[1]11 кл'!VZQ15","v":0},{"$f":"'[1]11 кл'!VZR15","v":0},{"$f":"'[1]11 кл'!VZS15","v":0},{"$f":"'[1]11 кл'!VZT15","v":0},{"$f":"'[1]11 кл'!VZU15","v":0},{"$f":"'[1]11 кл'!VZV15","v":0},{"$f":"'[1]11 кл'!VZW15","v":0},{"$f":"'[1]11 кл'!VZX15","v":0},{"$f":"'[1]11 кл'!VZY15","v":0},{"$f":"'[1]11 кл'!VZZ15","v":0},{"$f":"'[1]11 кл'!WAA15","v":0},{"$f":"'[1]11 кл'!WAB15","v":0},{"$f":"'[1]11 кл'!WAC15","v":0},{"$f":"'[1]11 кл'!WAD15","v":0},{"$f":"'[1]11 кл'!WAE15","v":0},{"$f":"'[1]11 кл'!WAF15","v":0},{"$f":"'[1]11 кл'!WAG15","v":0},{"$f":"'[1]11 кл'!WAH15","v":0},{"$f":"'[1]11 кл'!WAI15","v":0},{"$f":"'[1]11 кл'!WAJ15","v":0},{"$f":"'[1]11 кл'!WAK15","v":0},{"$f":"'[1]11 кл'!WAL15","v":0},{"$f":"'[1]11 кл'!WAM15","v":0},{"$f":"'[1]11 кл'!WAN15","v":0},{"$f":"'[1]11 кл'!WAO15","v":0},{"$f":"'[1]11 кл'!WAP15","v":0},{"$f":"'[1]11 кл'!WAQ15","v":0},{"$f":"'[1]11 кл'!WAR15","v":0},{"$f":"'[1]11 кл'!WAS15","v":0},{"$f":"'[1]11 кл'!WAT15","v":0},{"$f":"'[1]11 кл'!WAU15","v":0},{"$f":"'[1]11 кл'!WAV15","v":0},{"$f":"'[1]11 кл'!WAW15","v":0},{"$f":"'[1]11 кл'!WAX15","v":0},{"$f":"'[1]11 кл'!WAY15","v":0},{"$f":"'[1]11 кл'!WAZ15","v":0},{"$f":"'[1]11 кл'!WBA15","v":0},{"$f":"'[1]11 кл'!WBB15","v":0},{"$f":"'[1]11 кл'!WBC15","v":0},{"$f":"'[1]11 кл'!WBD15","v":0},{"$f":"'[1]11 кл'!WBE15","v":0},{"$f":"'[1]11 кл'!WBF15","v":0},{"$f":"'[1]11 кл'!WBG15","v":0},{"$f":"'[1]11 кл'!WBH15","v":0},{"$f":"'[1]11 кл'!WBI15","v":0},{"$f":"'[1]11 кл'!WBJ15","v":0},{"$f":"'[1]11 кл'!WBK15","v":0},{"$f":"'[1]11 кл'!WBL15","v":0},{"$f":"'[1]11 кл'!WBM15","v":0},{"$f":"'[1]11 кл'!WBN15","v":0},{"$f":"'[1]11 кл'!WBO15","v":0},{"$f":"'[1]11 кл'!WBP15","v":0},{"$f":"'[1]11 кл'!WBQ15","v":0},{"$f":"'[1]11 кл'!WBR15","v":0},{"$f":"'[1]11 кл'!WBS15","v":0},{"$f":"'[1]11 кл'!WBT15","v":0},{"$f":"'[1]11 кл'!WBU15","v":0},{"$f":"'[1]11 кл'!WBV15","v":0},{"$f":"'[1]11 кл'!WBW15","v":0},{"$f":"'[1]11 кл'!WBX15","v":0},{"$f":"'[1]11 кл'!WBY15","v":0},{"$f":"'[1]11 кл'!WBZ15","v":0},{"$f":"'[1]11 кл'!WCA15","v":0},{"$f":"'[1]11 кл'!WCB15","v":0},{"$f":"'[1]11 кл'!WCC15","v":0},{"$f":"'[1]11 кл'!WCD15","v":0},{"$f":"'[1]11 кл'!WCE15","v":0},{"$f":"'[1]11 кл'!WCF15","v":0},{"$f":"'[1]11 кл'!WCG15","v":0},{"$f":"'[1]11 кл'!WCH15","v":0},{"$f":"'[1]11 кл'!WCI15","v":0},{"$f":"'[1]11 кл'!WCJ15","v":0},{"$f":"'[1]11 кл'!WCK15","v":0},{"$f":"'[1]11 кл'!WCL15","v":0},{"$f":"'[1]11 кл'!WCM15","v":0},{"$f":"'[1]11 кл'!WCN15","v":0},{"$f":"'[1]11 кл'!WCO15","v":0},{"$f":"'[1]11 кл'!WCP15","v":0},{"$f":"'[1]11 кл'!WCQ15","v":0},{"$f":"'[1]11 кл'!WCR15","v":0},{"$f":"'[1]11 кл'!WCS15","v":0},{"$f":"'[1]11 кл'!WCT15","v":0},{"$f":"'[1]11 кл'!WCU15","v":0},{"$f":"'[1]11 кл'!WCV15","v":0},{"$f":"'[1]11 кл'!WCW15","v":0},{"$f":"'[1]11 кл'!WCX15","v":0},{"$f":"'[1]11 кл'!WCY15","v":0},{"$f":"'[1]11 кл'!WCZ15","v":0},{"$f":"'[1]11 кл'!WDA15","v":0},{"$f":"'[1]11 кл'!WDB15","v":0},{"$f":"'[1]11 кл'!WDC15","v":0},{"$f":"'[1]11 кл'!WDD15","v":0},{"$f":"'[1]11 кл'!WDE15","v":0},{"$f":"'[1]11 кл'!WDF15","v":0},{"$f":"'[1]11 кл'!WDG15","v":0},{"$f":"'[1]11 кл'!WDH15","v":0},{"$f":"'[1]11 кл'!WDI15","v":0},{"$f":"'[1]11 кл'!WDJ15","v":0},{"$f":"'[1]11 кл'!WDK15","v":0},{"$f":"'[1]11 кл'!WDL15","v":0},{"$f":"'[1]11 кл'!WDM15","v":0},{"$f":"'[1]11 кл'!WDN15","v":0},{"$f":"'[1]11 кл'!WDO15","v":0},{"$f":"'[1]11 кл'!WDP15","v":0},{"$f":"'[1]11 кл'!WDQ15","v":0},{"$f":"'[1]11 кл'!WDR15","v":0},{"$f":"'[1]11 кл'!WDS15","v":0},{"$f":"'[1]11 кл'!WDT15","v":0},{"$f":"'[1]11 кл'!WDU15","v":0},{"$f":"'[1]11 кл'!WDV15","v":0},{"$f":"'[1]11 кл'!WDW15","v":0},{"$f":"'[1]11 кл'!WDX15","v":0},{"$f":"'[1]11 кл'!WDY15","v":0},{"$f":"'[1]11 кл'!WDZ15","v":0},{"$f":"'[1]11 кл'!WEA15","v":0},{"$f":"'[1]11 кл'!WEB15","v":0},{"$f":"'[1]11 кл'!WEC15","v":0},{"$f":"'[1]11 кл'!WED15","v":0},{"$f":"'[1]11 кл'!WEE15","v":0},{"$f":"'[1]11 кл'!WEF15","v":0},{"$f":"'[1]11 кл'!WEG15","v":0},{"$f":"'[1]11 кл'!WEH15","v":0},{"$f":"'[1]11 кл'!WEI15","v":0},{"$f":"'[1]11 кл'!WEJ15","v":0},{"$f":"'[1]11 кл'!WEK15","v":0},{"$f":"'[1]11 кл'!WEL15","v":0},{"$f":"'[1]11 кл'!WEM15","v":0},{"$f":"'[1]11 кл'!WEN15","v":0},{"$f":"'[1]11 кл'!WEO15","v":0},{"$f":"'[1]11 кл'!WEP15","v":0},{"$f":"'[1]11 кл'!WEQ15","v":0},{"$f":"'[1]11 кл'!WER15","v":0},{"$f":"'[1]11 кл'!WES15","v":0},{"$f":"'[1]11 кл'!WET15","v":0},{"$f":"'[1]11 кл'!WEU15","v":0},{"$f":"'[1]11 кл'!WEV15","v":0},{"$f":"'[1]11 кл'!WEW15","v":0},{"$f":"'[1]11 кл'!WEX15","v":0},{"$f":"'[1]11 кл'!WEY15","v":0},{"$f":"'[1]11 кл'!WEZ15","v":0},{"$f":"'[1]11 кл'!WFA15","v":0},{"$f":"'[1]11 кл'!WFB15","v":0},{"$f":"'[1]11 кл'!WFC15","v":0},{"$f":"'[1]11 кл'!WFD15","v":0},{"$f":"'[1]11 кл'!WFE15","v":0},{"$f":"'[1]11 кл'!WFF15","v":0},{"$f":"'[1]11 кл'!WFG15","v":0},{"$f":"'[1]11 кл'!WFH15","v":0},{"$f":"'[1]11 кл'!WFI15","v":0},{"$f":"'[1]11 кл'!WFJ15","v":0},{"$f":"'[1]11 кл'!WFK15","v":0},{"$f":"'[1]11 кл'!WFL15","v":0},{"$f":"'[1]11 кл'!WFM15","v":0},{"$f":"'[1]11 кл'!WFN15","v":0},{"$f":"'[1]11 кл'!WFO15","v":0},{"$f":"'[1]11 кл'!WFP15","v":0},{"$f":"'[1]11 кл'!WFQ15","v":0},{"$f":"'[1]11 кл'!WFR15","v":0},{"$f":"'[1]11 кл'!WFS15","v":0},{"$f":"'[1]11 кл'!WFT15","v":0},{"$f":"'[1]11 кл'!WFU15","v":0},{"$f":"'[1]11 кл'!WFV15","v":0},{"$f":"'[1]11 кл'!WFW15","v":0},{"$f":"'[1]11 кл'!WFX15","v":0},{"$f":"'[1]11 кл'!WFY15","v":0},{"$f":"'[1]11 кл'!WFZ15","v":0},{"$f":"'[1]11 кл'!WGA15","v":0},{"$f":"'[1]11 кл'!WGB15","v":0},{"$f":"'[1]11 кл'!WGC15","v":0},{"$f":"'[1]11 кл'!WGD15","v":0},{"$f":"'[1]11 кл'!WGE15","v":0},{"$f":"'[1]11 кл'!WGF15","v":0},{"$f":"'[1]11 кл'!WGG15","v":0},{"$f":"'[1]11 кл'!WGH15","v":0},{"$f":"'[1]11 кл'!WGI15","v":0},{"$f":"'[1]11 кл'!WGJ15","v":0},{"$f":"'[1]11 кл'!WGK15","v":0},{"$f":"'[1]11 кл'!WGL15","v":0},{"$f":"'[1]11 кл'!WGM15","v":0},{"$f":"'[1]11 кл'!WGN15","v":0},{"$f":"'[1]11 кл'!WGO15","v":0},{"$f":"'[1]11 кл'!WGP15","v":0},{"$f":"'[1]11 кл'!WGQ15","v":0},{"$f":"'[1]11 кл'!WGR15","v":0},{"$f":"'[1]11 кл'!WGS15","v":0},{"$f":"'[1]11 кл'!WGT15","v":0},{"$f":"'[1]11 кл'!WGU15","v":0},{"$f":"'[1]11 кл'!WGV15","v":0},{"$f":"'[1]11 кл'!WGW15","v":0},{"$f":"'[1]11 кл'!WGX15","v":0},{"$f":"'[1]11 кл'!WGY15","v":0},{"$f":"'[1]11 кл'!WGZ15","v":0},{"$f":"'[1]11 кл'!WHA15","v":0},{"$f":"'[1]11 кл'!WHB15","v":0},{"$f":"'[1]11 кл'!WHC15","v":0},{"$f":"'[1]11 кл'!WHD15","v":0},{"$f":"'[1]11 кл'!WHE15","v":0},{"$f":"'[1]11 кл'!WHF15","v":0},{"$f":"'[1]11 кл'!WHG15","v":0},{"$f":"'[1]11 кл'!WHH15","v":0},{"$f":"'[1]11 кл'!WHI15","v":0},{"$f":"'[1]11 кл'!WHJ15","v":0},{"$f":"'[1]11 кл'!WHK15","v":0},{"$f":"'[1]11 кл'!WHL15","v":0},{"$f":"'[1]11 кл'!WHM15","v":0},{"$f":"'[1]11 кл'!WHN15","v":0},{"$f":"'[1]11 кл'!WHO15","v":0},{"$f":"'[1]11 кл'!WHP15","v":0},{"$f":"'[1]11 кл'!WHQ15","v":0},{"$f":"'[1]11 кл'!WHR15","v":0},{"$f":"'[1]11 кл'!WHS15","v":0},{"$f":"'[1]11 кл'!WHT15","v":0},{"$f":"'[1]11 кл'!WHU15","v":0},{"$f":"'[1]11 кл'!WHV15","v":0},{"$f":"'[1]11 кл'!WHW15","v":0},{"$f":"'[1]11 кл'!WHX15","v":0},{"$f":"'[1]11 кл'!WHY15","v":0},{"$f":"'[1]11 кл'!WHZ15","v":0},{"$f":"'[1]11 кл'!WIA15","v":0},{"$f":"'[1]11 кл'!WIB15","v":0},{"$f":"'[1]11 кл'!WIC15","v":0},{"$f":"'[1]11 кл'!WID15","v":0},{"$f":"'[1]11 кл'!WIE15","v":0},{"$f":"'[1]11 кл'!WIF15","v":0},{"$f":"'[1]11 кл'!WIG15","v":0},{"$f":"'[1]11 кл'!WIH15","v":0},{"$f":"'[1]11 кл'!WII15","v":0},{"$f":"'[1]11 кл'!WIJ15","v":0},{"$f":"'[1]11 кл'!WIK15","v":0},{"$f":"'[1]11 кл'!WIL15","v":0},{"$f":"'[1]11 кл'!WIM15","v":0},{"$f":"'[1]11 кл'!WIN15","v":0},{"$f":"'[1]11 кл'!WIO15","v":0},{"$f":"'[1]11 кл'!WIP15","v":0},{"$f":"'[1]11 кл'!WIQ15","v":0},{"$f":"'[1]11 кл'!WIR15","v":0},{"$f":"'[1]11 кл'!WIS15","v":0},{"$f":"'[1]11 кл'!WIT15","v":0},{"$f":"'[1]11 кл'!WIU15","v":0},{"$f":"'[1]11 кл'!WIV15","v":0},{"$f":"'[1]11 кл'!WIW15","v":0},{"$f":"'[1]11 кл'!WIX15","v":0},{"$f":"'[1]11 кл'!WIY15","v":0},{"$f":"'[1]11 кл'!WIZ15","v":0},{"$f":"'[1]11 кл'!WJA15","v":0},{"$f":"'[1]11 кл'!WJB15","v":0},{"$f":"'[1]11 кл'!WJC15","v":0},{"$f":"'[1]11 кл'!WJD15","v":0},{"$f":"'[1]11 кл'!WJE15","v":0},{"$f":"'[1]11 кл'!WJF15","v":0},{"$f":"'[1]11 кл'!WJG15","v":0},{"$f":"'[1]11 кл'!WJH15","v":0},{"$f":"'[1]11 кл'!WJI15","v":0},{"$f":"'[1]11 кл'!WJJ15","v":0},{"$f":"'[1]11 кл'!WJK15","v":0},{"$f":"'[1]11 кл'!WJL15","v":0},{"$f":"'[1]11 кл'!WJM15","v":0},{"$f":"'[1]11 кл'!WJN15","v":0},{"$f":"'[1]11 кл'!WJO15","v":0},{"$f":"'[1]11 кл'!WJP15","v":0},{"$f":"'[1]11 кл'!WJQ15","v":0},{"$f":"'[1]11 кл'!WJR15","v":0},{"$f":"'[1]11 кл'!WJS15","v":0},{"$f":"'[1]11 кл'!WJT15","v":0},{"$f":"'[1]11 кл'!WJU15","v":0},{"$f":"'[1]11 кл'!WJV15","v":0},{"$f":"'[1]11 кл'!WJW15","v":0},{"$f":"'[1]11 кл'!WJX15","v":0},{"$f":"'[1]11 кл'!WJY15","v":0},{"$f":"'[1]11 кл'!WJZ15","v":0},{"$f":"'[1]11 кл'!WKA15","v":0},{"$f":"'[1]11 кл'!WKB15","v":0},{"$f":"'[1]11 кл'!WKC15","v":0},{"$f":"'[1]11 кл'!WKD15","v":0},{"$f":"'[1]11 кл'!WKE15","v":0},{"$f":"'[1]11 кл'!WKF15","v":0},{"$f":"'[1]11 кл'!WKG15","v":0},{"$f":"'[1]11 кл'!WKH15","v":0},{"$f":"'[1]11 кл'!WKI15","v":0},{"$f":"'[1]11 кл'!WKJ15","v":0},{"$f":"'[1]11 кл'!WKK15","v":0},{"$f":"'[1]11 кл'!WKL15","v":0},{"$f":"'[1]11 кл'!WKM15","v":0},{"$f":"'[1]11 кл'!WKN15","v":0},{"$f":"'[1]11 кл'!WKO15","v":0},{"$f":"'[1]11 кл'!WKP15","v":0},{"$f":"'[1]11 кл'!WKQ15","v":0},{"$f":"'[1]11 кл'!WKR15","v":0},{"$f":"'[1]11 кл'!WKS15","v":0},{"$f":"'[1]11 кл'!WKT15","v":0},{"$f":"'[1]11 кл'!WKU15","v":0},{"$f":"'[1]11 кл'!WKV15","v":0},{"$f":"'[1]11 кл'!WKW15","v":0},{"$f":"'[1]11 кл'!WKX15","v":0},{"$f":"'[1]11 кл'!WKY15","v":0},{"$f":"'[1]11 кл'!WKZ15","v":0},{"$f":"'[1]11 кл'!WLA15","v":0},{"$f":"'[1]11 кл'!WLB15","v":0},{"$f":"'[1]11 кл'!WLC15","v":0},{"$f":"'[1]11 кл'!WLD15","v":0},{"$f":"'[1]11 кл'!WLE15","v":0},{"$f":"'[1]11 кл'!WLF15","v":0},{"$f":"'[1]11 кл'!WLG15","v":0},{"$f":"'[1]11 кл'!WLH15","v":0},{"$f":"'[1]11 кл'!WLI15","v":0},{"$f":"'[1]11 кл'!WLJ15","v":0},{"$f":"'[1]11 кл'!WLK15","v":0},{"$f":"'[1]11 кл'!WLL15","v":0},{"$f":"'[1]11 кл'!WLM15","v":0},{"$f":"'[1]11 кл'!WLN15","v":0},{"$f":"'[1]11 кл'!WLO15","v":0},{"$f":"'[1]11 кл'!WLP15","v":0},{"$f":"'[1]11 кл'!WLQ15","v":0},{"$f":"'[1]11 кл'!WLR15","v":0},{"$f":"'[1]11 кл'!WLS15","v":0},{"$f":"'[1]11 кл'!WLT15","v":0},{"$f":"'[1]11 кл'!WLU15","v":0},{"$f":"'[1]11 кл'!WLV15","v":0},{"$f":"'[1]11 кл'!WLW15","v":0},{"$f":"'[1]11 кл'!WLX15","v":0},{"$f":"'[1]11 кл'!WLY15","v":0},{"$f":"'[1]11 кл'!WLZ15","v":0},{"$f":"'[1]11 кл'!WMA15","v":0},{"$f":"'[1]11 кл'!WMB15","v":0},{"$f":"'[1]11 кл'!WMC15","v":0},{"$f":"'[1]11 кл'!WMD15","v":0},{"$f":"'[1]11 кл'!WME15","v":0},{"$f":"'[1]11 кл'!WMF15","v":0},{"$f":"'[1]11 кл'!WMG15","v":0},{"$f":"'[1]11 кл'!WMH15","v":0},{"$f":"'[1]11 кл'!WMI15","v":0},{"$f":"'[1]11 кл'!WMJ15","v":0},{"$f":"'[1]11 кл'!WMK15","v":0},{"$f":"'[1]11 кл'!WML15","v":0},{"$f":"'[1]11 кл'!WMM15","v":0},{"$f":"'[1]11 кл'!WMN15","v":0},{"$f":"'[1]11 кл'!WMO15","v":0},{"$f":"'[1]11 кл'!WMP15","v":0},{"$f":"'[1]11 кл'!WMQ15","v":0},{"$f":"'[1]11 кл'!WMR15","v":0},{"$f":"'[1]11 кл'!WMS15","v":0},{"$f":"'[1]11 кл'!WMT15","v":0},{"$f":"'[1]11 кл'!WMU15","v":0},{"$f":"'[1]11 кл'!WMV15","v":0},{"$f":"'[1]11 кл'!WMW15","v":0},{"$f":"'[1]11 кл'!WMX15","v":0},{"$f":"'[1]11 кл'!WMY15","v":0},{"$f":"'[1]11 кл'!WMZ15","v":0},{"$f":"'[1]11 кл'!WNA15","v":0},{"$f":"'[1]11 кл'!WNB15","v":0},{"$f":"'[1]11 кл'!WNC15","v":0},{"$f":"'[1]11 кл'!WND15","v":0},{"$f":"'[1]11 кл'!WNE15","v":0},{"$f":"'[1]11 кл'!WNF15","v":0},{"$f":"'[1]11 кл'!WNG15","v":0},{"$f":"'[1]11 кл'!WNH15","v":0},{"$f":"'[1]11 кл'!WNI15","v":0},{"$f":"'[1]11 кл'!WNJ15","v":0},{"$f":"'[1]11 кл'!WNK15","v":0},{"$f":"'[1]11 кл'!WNL15","v":0},{"$f":"'[1]11 кл'!WNM15","v":0},{"$f":"'[1]11 кл'!WNN15","v":0},{"$f":"'[1]11 кл'!WNO15","v":0},{"$f":"'[1]11 кл'!WNP15","v":0},{"$f":"'[1]11 кл'!WNQ15","v":0},{"$f":"'[1]11 кл'!WNR15","v":0},{"$f":"'[1]11 кл'!WNS15","v":0},{"$f":"'[1]11 кл'!WNT15","v":0},{"$f":"'[1]11 кл'!WNU15","v":0},{"$f":"'[1]11 кл'!WNV15","v":0},{"$f":"'[1]11 кл'!WNW15","v":0},{"$f":"'[1]11 кл'!WNX15","v":0},{"$f":"'[1]11 кл'!WNY15","v":0},{"$f":"'[1]11 кл'!WNZ15","v":0},{"$f":"'[1]11 кл'!WOA15","v":0},{"$f":"'[1]11 кл'!WOB15","v":0},{"$f":"'[1]11 кл'!WOC15","v":0},{"$f":"'[1]11 кл'!WOD15","v":0},{"$f":"'[1]11 кл'!WOE15","v":0},{"$f":"'[1]11 кл'!WOF15","v":0},{"$f":"'[1]11 кл'!WOG15","v":0},{"$f":"'[1]11 кл'!WOH15","v":0},{"$f":"'[1]11 кл'!WOI15","v":0},{"$f":"'[1]11 кл'!WOJ15","v":0},{"$f":"'[1]11 кл'!WOK15","v":0},{"$f":"'[1]11 кл'!WOL15","v":0},{"$f":"'[1]11 кл'!WOM15","v":0},{"$f":"'[1]11 кл'!WON15","v":0},{"$f":"'[1]11 кл'!WOO15","v":0},{"$f":"'[1]11 кл'!WOP15","v":0},{"$f":"'[1]11 кл'!WOQ15","v":0},{"$f":"'[1]11 кл'!WOR15","v":0},{"$f":"'[1]11 кл'!WOS15","v":0},{"$f":"'[1]11 кл'!WOT15","v":0},{"$f":"'[1]11 кл'!WOU15","v":0},{"$f":"'[1]11 кл'!WOV15","v":0},{"$f":"'[1]11 кл'!WOW15","v":0},{"$f":"'[1]11 кл'!WOX15","v":0},{"$f":"'[1]11 кл'!WOY15","v":0},{"$f":"'[1]11 кл'!WOZ15","v":0},{"$f":"'[1]11 кл'!WPA15","v":0},{"$f":"'[1]11 кл'!WPB15","v":0},{"$f":"'[1]11 кл'!WPC15","v":0},{"$f":"'[1]11 кл'!WPD15","v":0},{"$f":"'[1]11 кл'!WPE15","v":0},{"$f":"'[1]11 кл'!WPF15","v":0},{"$f":"'[1]11 кл'!WPG15","v":0},{"$f":"'[1]11 кл'!WPH15","v":0},{"$f":"'[1]11 кл'!WPI15","v":0},{"$f":"'[1]11 кл'!WPJ15","v":0},{"$f":"'[1]11 кл'!WPK15","v":0},{"$f":"'[1]11 кл'!WPL15","v":0},{"$f":"'[1]11 кл'!WPM15","v":0},{"$f":"'[1]11 кл'!WPN15","v":0},{"$f":"'[1]11 кл'!WPO15","v":0},{"$f":"'[1]11 кл'!WPP15","v":0},{"$f":"'[1]11 кл'!WPQ15","v":0},{"$f":"'[1]11 кл'!WPR15","v":0},{"$f":"'[1]11 кл'!WPS15","v":0},{"$f":"'[1]11 кл'!WPT15","v":0},{"$f":"'[1]11 кл'!WPU15","v":0},{"$f":"'[1]11 кл'!WPV15","v":0},{"$f":"'[1]11 кл'!WPW15","v":0},{"$f":"'[1]11 кл'!WPX15","v":0},{"$f":"'[1]11 кл'!WPY15","v":0},{"$f":"'[1]11 кл'!WPZ15","v":0},{"$f":"'[1]11 кл'!WQA15","v":0},{"$f":"'[1]11 кл'!WQB15","v":0},{"$f":"'[1]11 кл'!WQC15","v":0},{"$f":"'[1]11 кл'!WQD15","v":0},{"$f":"'[1]11 кл'!WQE15","v":0},{"$f":"'[1]11 кл'!WQF15","v":0},{"$f":"'[1]11 кл'!WQG15","v":0},{"$f":"'[1]11 кл'!WQH15","v":0},{"$f":"'[1]11 кл'!WQI15","v":0},{"$f":"'[1]11 кл'!WQJ15","v":0},{"$f":"'[1]11 кл'!WQK15","v":0},{"$f":"'[1]11 кл'!WQL15","v":0},{"$f":"'[1]11 кл'!WQM15","v":0},{"$f":"'[1]11 кл'!WQN15","v":0},{"$f":"'[1]11 кл'!WQO15","v":0},{"$f":"'[1]11 кл'!WQP15","v":0},{"$f":"'[1]11 кл'!WQQ15","v":0},{"$f":"'[1]11 кл'!WQR15","v":0},{"$f":"'[1]11 кл'!WQS15","v":0},{"$f":"'[1]11 кл'!WQT15","v":0},{"$f":"'[1]11 кл'!WQU15","v":0},{"$f":"'[1]11 кл'!WQV15","v":0},{"$f":"'[1]11 кл'!WQW15","v":0},{"$f":"'[1]11 кл'!WQX15","v":0},{"$f":"'[1]11 кл'!WQY15","v":0},{"$f":"'[1]11 кл'!WQZ15","v":0},{"$f":"'[1]11 кл'!WRA15","v":0},{"$f":"'[1]11 кл'!WRB15","v":0},{"$f":"'[1]11 кл'!WRC15","v":0},{"$f":"'[1]11 кл'!WRD15","v":0},{"$f":"'[1]11 кл'!WRE15","v":0},{"$f":"'[1]11 кл'!WRF15","v":0},{"$f":"'[1]11 кл'!WRG15","v":0},{"$f":"'[1]11 кл'!WRH15","v":0},{"$f":"'[1]11 кл'!WRI15","v":0},{"$f":"'[1]11 кл'!WRJ15","v":0},{"$f":"'[1]11 кл'!WRK15","v":0},{"$f":"'[1]11 кл'!WRL15","v":0},{"$f":"'[1]11 кл'!WRM15","v":0},{"$f":"'[1]11 кл'!WRN15","v":0},{"$f":"'[1]11 кл'!WRO15","v":0},{"$f":"'[1]11 кл'!WRP15","v":0},{"$f":"'[1]11 кл'!WRQ15","v":0},{"$f":"'[1]11 кл'!WRR15","v":0},{"$f":"'[1]11 кл'!WRS15","v":0},{"$f":"'[1]11 кл'!WRT15","v":0},{"$f":"'[1]11 кл'!WRU15","v":0},{"$f":"'[1]11 кл'!WRV15","v":0},{"$f":"'[1]11 кл'!WRW15","v":0},{"$f":"'[1]11 кл'!WRX15","v":0},{"$f":"'[1]11 кл'!WRY15","v":0},{"$f":"'[1]11 кл'!WRZ15","v":0},{"$f":"'[1]11 кл'!WSA15","v":0},{"$f":"'[1]11 кл'!WSB15","v":0},{"$f":"'[1]11 кл'!WSC15","v":0},{"$f":"'[1]11 кл'!WSD15","v":0},{"$f":"'[1]11 кл'!WSE15","v":0},{"$f":"'[1]11 кл'!WSF15","v":0},{"$f":"'[1]11 кл'!WSG15","v":0},{"$f":"'[1]11 кл'!WSH15","v":0},{"$f":"'[1]11 кл'!WSI15","v":0},{"$f":"'[1]11 кл'!WSJ15","v":0},{"$f":"'[1]11 кл'!WSK15","v":0},{"$f":"'[1]11 кл'!WSL15","v":0},{"$f":"'[1]11 кл'!WSM15","v":0},{"$f":"'[1]11 кл'!WSN15","v":0},{"$f":"'[1]11 кл'!WSO15","v":0},{"$f":"'[1]11 кл'!WSP15","v":0},{"$f":"'[1]11 кл'!WSQ15","v":0},{"$f":"'[1]11 кл'!WSR15","v":0},{"$f":"'[1]11 кл'!WSS15","v":0},{"$f":"'[1]11 кл'!WST15","v":0},{"$f":"'[1]11 кл'!WSU15","v":0},{"$f":"'[1]11 кл'!WSV15","v":0},{"$f":"'[1]11 кл'!WSW15","v":0},{"$f":"'[1]11 кл'!WSX15","v":0},{"$f":"'[1]11 кл'!WSY15","v":0},{"$f":"'[1]11 кл'!WSZ15","v":0},{"$f":"'[1]11 кл'!WTA15","v":0},{"$f":"'[1]11 кл'!WTB15","v":0},{"$f":"'[1]11 кл'!WTC15","v":0},{"$f":"'[1]11 кл'!WTD15","v":0},{"$f":"'[1]11 кл'!WTE15","v":0},{"$f":"'[1]11 кл'!WTF15","v":0},{"$f":"'[1]11 кл'!WTG15","v":0},{"$f":"'[1]11 кл'!WTH15","v":0},{"$f":"'[1]11 кл'!WTI15","v":0},{"$f":"'[1]11 кл'!WTJ15","v":0},{"$f":"'[1]11 кл'!WTK15","v":0},{"$f":"'[1]11 кл'!WTL15","v":0},{"$f":"'[1]11 кл'!WTM15","v":0},{"$f":"'[1]11 кл'!WTN15","v":0},{"$f":"'[1]11 кл'!WTO15","v":0},{"$f":"'[1]11 кл'!WTP15","v":0},{"$f":"'[1]11 кл'!WTQ15","v":0},{"$f":"'[1]11 кл'!WTR15","v":0},{"$f":"'[1]11 кл'!WTS15","v":0},{"$f":"'[1]11 кл'!WTT15","v":0},{"$f":"'[1]11 кл'!WTU15","v":0},{"$f":"'[1]11 кл'!WTV15","v":0},{"$f":"'[1]11 кл'!WTW15","v":0},{"$f":"'[1]11 кл'!WTX15","v":0},{"$f":"'[1]11 кл'!WTY15","v":0},{"$f":"'[1]11 кл'!WTZ15","v":0},{"$f":"'[1]11 кл'!WUA15","v":0},{"$f":"'[1]11 кл'!WUB15","v":0},{"$f":"'[1]11 кл'!WUC15","v":0},{"$f":"'[1]11 кл'!WUD15","v":0},{"$f":"'[1]11 кл'!WUE15","v":0},{"$f":"'[1]11 кл'!WUF15","v":0},{"$f":"'[1]11 кл'!WUG15","v":0},{"$f":"'[1]11 кл'!WUH15","v":0},{"$f":"'[1]11 кл'!WUI15","v":0},{"$f":"'[1]11 кл'!WUJ15","v":0},{"$f":"'[1]11 кл'!WUK15","v":0},{"$f":"'[1]11 кл'!WUL15","v":0},{"$f":"'[1]11 кл'!WUM15","v":0},{"$f":"'[1]11 кл'!WUN15","v":0},{"$f":"'[1]11 кл'!WUO15","v":0},{"$f":"'[1]11 кл'!WUP15","v":0},{"$f":"'[1]11 кл'!WUQ15","v":0},{"$f":"'[1]11 кл'!WUR15","v":0},{"$f":"'[1]11 кл'!WUS15","v":0},{"$f":"'[1]11 кл'!WUT15","v":0},{"$f":"'[1]11 кл'!WUU15","v":0},{"$f":"'[1]11 кл'!WUV15","v":0},{"$f":"'[1]11 кл'!WUW15","v":0},{"$f":"'[1]11 кл'!WUX15","v":0},{"$f":"'[1]11 кл'!WUY15","v":0},{"$f":"'[1]11 кл'!WUZ15","v":0},{"$f":"'[1]11 кл'!WVA15","v":0},{"$f":"'[1]11 кл'!WVB15","v":0},{"$f":"'[1]11 кл'!WVC15","v":0},{"$f":"'[1]11 кл'!WVD15","v":0},{"$f":"'[1]11 кл'!WVE15","v":0},{"$f":"'[1]11 кл'!WVF15","v":0},{"$f":"'[1]11 кл'!WVG15","v":0},{"$f":"'[1]11 кл'!WVH15","v":0},{"$f":"'[1]11 кл'!WVI15","v":0},{"$f":"'[1]11 кл'!WVJ15","v":0},{"$f":"'[1]11 кл'!WVK15","v":0},{"$f":"'[1]11 кл'!WVL15","v":0},{"$f":"'[1]11 кл'!WVM15","v":0},{"$f":"'[1]11 кл'!WVN15","v":0},{"$f":"'[1]11 кл'!WVO15","v":0},{"$f":"'[1]11 кл'!WVP15","v":0},{"$f":"'[1]11 кл'!WVQ15","v":0},{"$f":"'[1]11 кл'!WVR15","v":0},{"$f":"'[1]11 кл'!WVS15","v":0},{"$f":"'[1]11 кл'!WVT15","v":0},{"$f":"'[1]11 кл'!WVU15","v":0},{"$f":"'[1]11 кл'!WVV15","v":0},{"$f":"'[1]11 кл'!WVW15","v":0},{"$f":"'[1]11 кл'!WVX15","v":0},{"$f":"'[1]11 кл'!WVY15","v":0},{"$f":"'[1]11 кл'!WVZ15","v":0},{"$f":"'[1]11 кл'!WWA15","v":0},{"$f":"'[1]11 кл'!WWB15","v":0},{"$f":"'[1]11 кл'!WWC15","v":0},{"$f":"'[1]11 кл'!WWD15","v":0},{"$f":"'[1]11 кл'!WWE15","v":0},{"$f":"'[1]11 кл'!WWF15","v":0},{"$f":"'[1]11 кл'!WWG15","v":0},{"$f":"'[1]11 кл'!WWH15","v":0},{"$f":"'[1]11 кл'!WWI15","v":0},{"$f":"'[1]11 кл'!WWJ15","v":0},{"$f":"'[1]11 кл'!WWK15","v":0},{"$f":"'[1]11 кл'!WWL15","v":0},{"$f":"'[1]11 кл'!WWM15","v":0},{"$f":"'[1]11 кл'!WWN15","v":0},{"$f":"'[1]11 кл'!WWO15","v":0},{"$f":"'[1]11 кл'!WWP15","v":0},{"$f":"'[1]11 кл'!WWQ15","v":0},{"$f":"'[1]11 кл'!WWR15","v":0},{"$f":"'[1]11 кл'!WWS15","v":0},{"$f":"'[1]11 кл'!WWT15","v":0},{"$f":"'[1]11 кл'!WWU15","v":0},{"$f":"'[1]11 кл'!WWV15","v":0},{"$f":"'[1]11 кл'!WWW15","v":0},{"$f":"'[1]11 кл'!WWX15","v":0},{"$f":"'[1]11 кл'!WWY15","v":0},{"$f":"'[1]11 кл'!WWZ15","v":0},{"$f":"'[1]11 кл'!WXA15","v":0},{"$f":"'[1]11 кл'!WXB15","v":0},{"$f":"'[1]11 кл'!WXC15","v":0},{"$f":"'[1]11 кл'!WXD15","v":0},{"$f":"'[1]11 кл'!WXE15","v":0},{"$f":"'[1]11 кл'!WXF15","v":0},{"$f":"'[1]11 кл'!WXG15","v":0},{"$f":"'[1]11 кл'!WXH15","v":0},{"$f":"'[1]11 кл'!WXI15","v":0},{"$f":"'[1]11 кл'!WXJ15","v":0},{"$f":"'[1]11 кл'!WXK15","v":0},{"$f":"'[1]11 кл'!WXL15","v":0},{"$f":"'[1]11 кл'!WXM15","v":0},{"$f":"'[1]11 кл'!WXN15","v":0},{"$f":"'[1]11 кл'!WXO15","v":0},{"$f":"'[1]11 кл'!WXP15","v":0},{"$f":"'[1]11 кл'!WXQ15","v":0},{"$f":"'[1]11 кл'!WXR15","v":0},{"$f":"'[1]11 кл'!WXS15","v":0},{"$f":"'[1]11 кл'!WXT15","v":0},{"$f":"'[1]11 кл'!WXU15","v":0},{"$f":"'[1]11 кл'!WXV15","v":0},{"$f":"'[1]11 кл'!WXW15","v":0},{"$f":"'[1]11 кл'!WXX15","v":0},{"$f":"'[1]11 кл'!WXY15","v":0},{"$f":"'[1]11 кл'!WXZ15","v":0},{"$f":"'[1]11 кл'!WYA15","v":0},{"$f":"'[1]11 кл'!WYB15","v":0},{"$f":"'[1]11 кл'!WYC15","v":0},{"$f":"'[1]11 кл'!WYD15","v":0},{"$f":"'[1]11 кл'!WYE15","v":0},{"$f":"'[1]11 кл'!WYF15","v":0},{"$f":"'[1]11 кл'!WYG15","v":0},{"$f":"'[1]11 кл'!WYH15","v":0},{"$f":"'[1]11 кл'!WYI15","v":0},{"$f":"'[1]11 кл'!WYJ15","v":0},{"$f":"'[1]11 кл'!WYK15","v":0},{"$f":"'[1]11 кл'!WYL15","v":0},{"$f":"'[1]11 кл'!WYM15","v":0},{"$f":"'[1]11 кл'!WYN15","v":0},{"$f":"'[1]11 кл'!WYO15","v":0},{"$f":"'[1]11 кл'!WYP15","v":0},{"$f":"'[1]11 кл'!WYQ15","v":0},{"$f":"'[1]11 кл'!WYR15","v":0},{"$f":"'[1]11 кл'!WYS15","v":0},{"$f":"'[1]11 кл'!WYT15","v":0},{"$f":"'[1]11 кл'!WYU15","v":0},{"$f":"'[1]11 кл'!WYV15","v":0},{"$f":"'[1]11 кл'!WYW15","v":0},{"$f":"'[1]11 кл'!WYX15","v":0},{"$f":"'[1]11 кл'!WYY15","v":0},{"$f":"'[1]11 кл'!WYZ15","v":0},{"$f":"'[1]11 кл'!WZA15","v":0},{"$f":"'[1]11 кл'!WZB15","v":0},{"$f":"'[1]11 кл'!WZC15","v":0},{"$f":"'[1]11 кл'!WZD15","v":0},{"$f":"'[1]11 кл'!WZE15","v":0},{"$f":"'[1]11 кл'!WZF15","v":0},{"$f":"'[1]11 кл'!WZG15","v":0},{"$f":"'[1]11 кл'!WZH15","v":0},{"$f":"'[1]11 кл'!WZI15","v":0},{"$f":"'[1]11 кл'!WZJ15","v":0},{"$f":"'[1]11 кл'!WZK15","v":0},{"$f":"'[1]11 кл'!WZL15","v":0},{"$f":"'[1]11 кл'!WZM15","v":0},{"$f":"'[1]11 кл'!WZN15","v":0},{"$f":"'[1]11 кл'!WZO15","v":0},{"$f":"'[1]11 кл'!WZP15","v":0},{"$f":"'[1]11 кл'!WZQ15","v":0},{"$f":"'[1]11 кл'!WZR15","v":0},{"$f":"'[1]11 кл'!WZS15","v":0},{"$f":"'[1]11 кл'!WZT15","v":0},{"$f":"'[1]11 кл'!WZU15","v":0},{"$f":"'[1]11 кл'!WZV15","v":0},{"$f":"'[1]11 кл'!WZW15","v":0},{"$f":"'[1]11 кл'!WZX15","v":0},{"$f":"'[1]11 кл'!WZY15","v":0},{"$f":"'[1]11 кл'!WZZ15","v":0},{"$f":"'[1]11 кл'!XAA15","v":0},{"$f":"'[1]11 кл'!XAB15","v":0},{"$f":"'[1]11 кл'!XAC15","v":0},{"$f":"'[1]11 кл'!XAD15","v":0},{"$f":"'[1]11 кл'!XAE15","v":0},{"$f":"'[1]11 кл'!XAF15","v":0},{"$f":"'[1]11 кл'!XAG15","v":0},{"$f":"'[1]11 кл'!XAH15","v":0},{"$f":"'[1]11 кл'!XAI15","v":0},{"$f":"'[1]11 кл'!XAJ15","v":0},{"$f":"'[1]11 кл'!XAK15","v":0},{"$f":"'[1]11 кл'!XAL15","v":0},{"$f":"'[1]11 кл'!XAM15","v":0},{"$f":"'[1]11 кл'!XAN15","v":0},{"$f":"'[1]11 кл'!XAO15","v":0},{"$f":"'[1]11 кл'!XAP15","v":0},{"$f":"'[1]11 кл'!XAQ15","v":0},{"$f":"'[1]11 кл'!XAR15","v":0},{"$f":"'[1]11 кл'!XAS15","v":0},{"$f":"'[1]11 кл'!XAT15","v":0},{"$f":"'[1]11 кл'!XAU15","v":0},{"$f":"'[1]11 кл'!XAV15","v":0},{"$f":"'[1]11 кл'!XAW15","v":0},{"$f":"'[1]11 кл'!XAX15","v":0},{"$f":"'[1]11 кл'!XAY15","v":0},{"$f":"'[1]11 кл'!XAZ15","v":0},{"$f":"'[1]11 кл'!XBA15","v":0},{"$f":"'[1]11 кл'!XBB15","v":0},{"$f":"'[1]11 кл'!XBC15","v":0},{"$f":"'[1]11 кл'!XBD15","v":0},{"$f":"'[1]11 кл'!XBE15","v":0},{"$f":"'[1]11 кл'!XBF15","v":0},{"$f":"'[1]11 кл'!XBG15","v":0},{"$f":"'[1]11 кл'!XBH15","v":0},{"$f":"'[1]11 кл'!XBI15","v":0},{"$f":"'[1]11 кл'!XBJ15","v":0},{"$f":"'[1]11 кл'!XBK15","v":0},{"$f":"'[1]11 кл'!XBL15","v":0},{"$f":"'[1]11 кл'!XBM15","v":0},{"$f":"'[1]11 кл'!XBN15","v":0},{"$f":"'[1]11 кл'!XBO15","v":0},{"$f":"'[1]11 кл'!XBP15","v":0},{"$f":"'[1]11 кл'!XBQ15","v":0},{"$f":"'[1]11 кл'!XBR15","v":0},{"$f":"'[1]11 кл'!XBS15","v":0},{"$f":"'[1]11 кл'!XBT15","v":0},{"$f":"'[1]11 кл'!XBU15","v":0},{"$f":"'[1]11 кл'!XBV15","v":0},{"$f":"'[1]11 кл'!XBW15","v":0},{"$f":"'[1]11 кл'!XBX15","v":0},{"$f":"'[1]11 кл'!XBY15","v":0},{"$f":"'[1]11 кл'!XBZ15","v":0},{"$f":"'[1]11 кл'!XCA15","v":0},{"$f":"'[1]11 кл'!XCB15","v":0},{"$f":"'[1]11 кл'!XCC15","v":0},{"$f":"'[1]11 кл'!XCD15","v":0},{"$f":"'[1]11 кл'!XCE15","v":0},{"$f":"'[1]11 кл'!XCF15","v":0},{"$f":"'[1]11 кл'!XCG15","v":0},{"$f":"'[1]11 кл'!XCH15","v":0},{"$f":"'[1]11 кл'!XCI15","v":0},{"$f":"'[1]11 кл'!XCJ15","v":0},{"$f":"'[1]11 кл'!XCK15","v":0},{"$f":"'[1]11 кл'!XCL15","v":0},{"$f":"'[1]11 кл'!XCM15","v":0},{"$f":"'[1]11 кл'!XCN15","v":0},{"$f":"'[1]11 кл'!XCO15","v":0},{"$f":"'[1]11 кл'!XCP15","v":0},{"$f":"'[1]11 кл'!XCQ15","v":0},{"$f":"'[1]11 кл'!XCR15","v":0},{"$f":"'[1]11 кл'!XCS15","v":0},{"$f":"'[1]11 кл'!XCT15","v":0},{"$f":"'[1]11 кл'!XCU15","v":0},{"$f":"'[1]11 кл'!XCV15","v":0},{"$f":"'[1]11 кл'!XCW15","v":0},{"$f":"'[1]11 кл'!XCX15","v":0},{"$f":"'[1]11 кл'!XCY15","v":0},{"$f":"'[1]11 кл'!XCZ15","v":0},{"$f":"'[1]11 кл'!XDA15","v":0},{"$f":"'[1]11 кл'!XDB15","v":0},{"$f":"'[1]11 кл'!XDC15","v":0},{"$f":"'[1]11 кл'!XDD15","v":0},{"$f":"'[1]11 кл'!XDE15","v":0},{"$f":"'[1]11 кл'!XDF15","v":0},{"$f":"'[1]11 кл'!XDG15","v":0},{"$f":"'[1]11 кл'!XDH15","v":0},{"$f":"'[1]11 кл'!XDI15","v":0},{"$f":"'[1]11 кл'!XDJ15","v":0},{"$f":"'[1]11 кл'!XDK15","v":0},{"$f":"'[1]11 кл'!XDL15","v":0},{"$f":"'[1]11 кл'!XDM15","v":0},{"$f":"'[1]11 кл'!XDN15","v":0},{"$f":"'[1]11 кл'!XDO15","v":0},{"$f":"'[1]11 кл'!XDP15","v":0},{"$f":"'[1]11 кл'!XDQ15","v":0},{"$f":"'[1]11 кл'!XDR15","v":0},{"$f":"'[1]11 кл'!XDS15","v":0},{"$f":"'[1]11 кл'!XDT15","v":0},{"$f":"'[1]11 кл'!XDU15","v":0},{"$f":"'[1]11 кл'!XDV15","v":0},{"$f":"'[1]11 кл'!XDW15","v":0},{"$f":"'[1]11 кл'!XDX15","v":0},{"$f":"'[1]11 кл'!XDY15","v":0},{"$f":"'[1]11 кл'!XDZ15","v":0},{"$f":"'[1]11 кл'!XEA15","v":0},{"$f":"'[1]11 кл'!XEB15","v":0},{"$f":"'[1]11 кл'!XEC15","v":0},{"$f":"'[1]11 кл'!XED15","v":0},{"$f":"'[1]11 кл'!XEE15","v":0},{"$f":"'[1]11 кл'!XEF15","v":0},{"$f":"'[1]11 кл'!XEG15","v":0},{"$f":"'[1]11 кл'!XEH15","v":0},{"$f":"'[1]11 кл'!XEI15","v":0},{"$f":"'[1]11 кл'!XEJ15","v":0},{"$f":"'[1]11 кл'!XEK15","v":0},{"$f":"'[1]11 кл'!XEL15","v":0},{"$f":"'[1]11 кл'!XEM15","v":0},{"$f":"'[1]11 кл'!XEN15","v":0},{"$f":"'[1]11 кл'!XEO15","v":0},{"$f":"'[1]11 кл'!XEP15","v":0},{"$f":"'[1]11 кл'!XEQ15","v":0},{"$f":"'[1]11 кл'!XER15","v":0},{"$f":"'[1]11 кл'!XES15","v":0},{"$f":"'[1]11 кл'!XET15","v":0},{"$f":"'[1]11 кл'!XEU15","v":0},{"$f":"'[1]11 кл'!XEV15","v":0},{"$f":"'[1]11 кл'!XEW15","v":0},{"$f":"'[1]11 кл'!XEX15","v":0},{"$f":"'[1]11 кл'!XEY15","v":0},{"$f":"'[1]11 кл'!XEZ15","v":0},{"$f":"'[1]11 кл'!XFA15","v":0},{"$f":"'[1]11 кл'!XFB15","v":0},{"$f":"'[1]11 кл'!XFC15","v":0},{"$f":"'[1]11 кл'!XFD15","v":0}]
[10,"291002_15491497698_25","МБОУ \"ЗСОШ №2\" ЗМР РТ",15491497698,"Хасанова","Диляра","Ильдаровна","ж","2008-01-25",null,10,10,33.5,null,null,68,null,null,"Забурдаева Раушания Рифовна","МБОУ \"ЗСОШ №2\""]
[11,"291002_15741549884_25","МБОУ \"ЗСОШ №2\" ЗМР РТ",15741549884,"Гилаева","Гульназ","Ринатовна","ж","2008-07-25",null,10,10,24.5,null,null,68,null,null,"Забурдаева Раушания Рифовна","МБОУ \"ЗСОШ №2\""]
[12,"291006_16249179688_25","МБОУ \"ЗСОШ №6\" ЗМР РТ",16249179688,"Галимова","Азалия","Ильгизовна","ж","2008-08-05",null,10,10,38.5,null,null,68,"призер",null,"Миннегулова Милеуша Мусавировна","МБОУ «ЗСОШ №6»"]
[13,"291006_15716462273_25","МБОУ \"ЗСОШ №6\" ЗМР РТ",15716462273,"Хафизова","Диляра","Рамисовна","ж","2008-09-19",null,10,10,32,null,null,68,null,null,"Миннегулова Милеуша Мусавировна","МБОУ «ЗСОШ №6»"]
[14,"291007_16100424397_25","МБОУ \"ЗСОШ №7 с УИОП\" ЗМР РТ",16100424397,"Хузеев","Адель","Маратович","ж","2009-01-17",null,10,10,67,null,null,68,"победитель",null,"Петрова Альфия Минирахмановна","МБОУ \"ЗСОШ №7 с УИОП\""]
[15,"291004_15718820485_25","МБОУ ЗСОШ№4",15718820485,"Гайнутдинова ","Ляйсан ","Ильдаровна","Ж","2008-08-01",null,10,10,27,null,null,68,null,null,"Мухаметшина Венера Фаретдиновна","МБОУ ЗСОШ№4"]
[16,"291004_15757331590_25","МБОУ ЗСОШ№4",15757331590,"Агзамова","Ляйсан ","Алмазовна","Ж","2008-11-25",null,10,10,33,null,null,68,null,null,"Мухаметшина Венера Фаретдиновна","МБОУ ЗСОШ№4"]
[17,"291002_15977095428_25","МБОУ \"ЗСОШ №2\" ЗМР РТ",15977095428,"Ратникова","Валентина","Валерьевна","ж","2008-02-08",null,10,10,13,null,null,68,null,null,"Забурдаева Раушания Рифовна","МБОУ \"ЗСОШ №2\""]
[18,"291006_15452930263_25","МБОУ \"ЗСОШ №6\" ЗМР РТ",15452930263,"Набиуллина","Аделина","Ленаровна","ж","2008-10-03",null,10,10,23,null,null,68,null,null,{"$f":"$S$8","v":"Мухамадиева Сария Муллаяновна"},{"$f":"$T$8","v":"МБОУ \"ЗСОШ № 1\""}]
[19,"291002_19067873413_25","МБОУ \"ЗСОШ №2\" ЗМР РТ",19067873413,"Бекирова","Лилия","Эдуардовна","ж","2009-03-06",null,9,9,10,null,null,68,null,null,"Забурдаева Раушания Рифовна","МБОУ \"ЗСОШ №2\""]
[20,"291006_15653578900_25","МБОУ \"ЗСОШ №6\" ЗМР РТ",15653578900,"Мавляутдинова","Диляра","Рамилевна","ж","2009-11-04",null,9,9,16,null,null,68,null,null,"Миннегулова Милеуша Мусавировна","МБОУ «ЗСОШ №6»"]
[21,"291002_15724192468_25","МБОУ \"ЗСОШ №2\" ЗМР РТ",15724192468,"Алешова","Азалия","Нафилевна","ж","2009-03-10",null,9,9,13.5,null,null,68,null,null,"Забурдаева Раушания Рифовна","МБОУ \"ЗСОШ №2\""]
[22,"291001_15726045465_25","МБОУ \"ЗСОШ №1\" ЗМР РТ",15726045465,"Газизова","Эвелина","Рамилевна","ж","2009-02-03",null,9,9,12,null,null,68,null,null,"Шаймарданова Мавлузя Касимовна","МБОУ \"ЗСОШ № 1\""]
[23,"291001_15678689340_25","МБОУ \"ЗСОШ №1\" ЗМР РТ",15678689340,"Хасанова","Рузиля","Рамилевна","ж","2009-11-29",null,9,9,9.5,null,null,68,null,null,"Шаймарданова Мавлузя Касимовна","МБОУ \"ЗСОШ № 1\""]
[24,"291001_17216566872_25","МБОУ \"ЗСОШ №1\" ЗМР РТ",17216566872,"Амиров","Амир","Маратович","м","2009-08-27",null,9,9,9,null,null,68,null,null,"Шаймарданова Мавлузя Касимовна","МБОУ \"ЗСОШ № 1\""]
[25,"291004_15707190366_25","МБОУ ЗСОШ№4",15707190366,"Минникаева ","Алина ","Ровшановна","Ж","2009-07-31",null,9,9,67,null,null,68,"победитель",null,"Фартдинова Венера Илшатовна","МБОУ ЗСОШ№4"]
[26,"292017_15422830342_25","МБОУ \"Савалеевская СОШ\" ЗМР РТ",15422830342,"Сабаева","Алиса","Артемовна","ж","2009-01-09",null,9,9,66,null,null,68,"призер",null,"Москова Светлана Ивановна","МБОУ \"Савалеевская СОШ\""]
[27,"291004_15640605957_25","МБОУ ЗСОШ№4",15640605957,"Кузьмина ","Виктория","Алексеевна","Ж","2009-10-27",null,9,9,21,null,null,68,null,null,"Фартдинова Венера Илшатовна","МБОУ ЗСОШ№4"]
[28,"291006_16252969284_25","МБОУ \"ЗСОШ №6\" ЗМР РТ",16252969284,"Валиуллина","Розалия","Ильдаровна","ж","2009-01-23",null,9,9,17,null,null,68,null,null,"Романова Галина Николаевна","МБОУ «ЗСОШ №6»"]
[29,"291005_16591475905_25","МБОУ \"ЗООШ №5\" ЗМР РТ",16591475905,"Нуруллина","Зарина","Ильмировна","ж","2009-11-20",null,9,9,19.5,null,null,68,null,null,"Абдукаева Гулия Габделхаевна","МБОУ\"ЗООШ №5\""]
[30,"291006_15450409444_25","МБОУ \"ЗСОШ №6\" ЗМР РТ",15450409444,"Валиахметова","Азалия","Анваровна","ж","2009-04-05",null,9,9,9,null,null,68,null,null,"Романова Галина Николаевна","МБОУ «ЗСОШ №6»"]
[31,"292017_15457719696_25","МБОУ \"Савалеевская СОШ\" ЗМР РТ",15457719696,"Мингалимова","Диана","Ильнуровна","ж","2009-05-02",null,9,9,16,null,null,68,null,null,"Москова Светлана Ивановна","МБОУ \"Савалеевская СОШ\""]
[32,"292017_15502869768_25","МБОУ \"Савалеевская СОШ\" ЗМР РТ",15502869768,"Рябова","Амелия","Александровна","ж","2009-06-13",null,9,9,26,null,null,68,"призер",null,"Москова Светлана Ивановна","МБОУ \"Савалеевская СОШ\""]
[33,"292017_15699584343_25","МБОУ \"Савалеевская СОШ\" ЗМР РТ",15699584343,"Шарипова","Эвелина","Ренатовна","ж","2009-12-08",null,9,9,11,null,null,68,null,null,"Москова Светлана Ивановна","МБОУ \"Савалеевская СОШ\""]
[34,"291002_15758792631_25","МБОУ \"ЗСОШ №2\" ЗМР РТ",15758792631,"Шагиева","Алина","Инсафовна","ж","2010-02-02",null,8,8,17,null,null,60,null,null,"Парфенова Светлана Петровна","МБОУ \"ЗСОШ №2\""]
[35,"291002_16896129023_25","МБОУ \"ЗСОШ №2\" ЗМР РТ",16896129023,"Султанов","Назиль","Ильгизович","м","2010-10-01",null,8,8,11,null,null,60,null,null,"Парфенова Светлана Петровна","МБОУ \"ЗСОШ №2\""]
[36,"291001_16405674769_25","МБОУ \"ЗСОШ №1\" ЗМР РТ",16405674769,"Кондратьева","Анна","Михайловна","ж","2010-11-29",null,8,8,59,null,null,60,"победитель","призер","Хайрутдинова Лениза Аухадеевна","МБОУ \"ЗСОШ № 1\""]
[37,"291002_16145478166_25","МБОУ \"ЗСОШ №2\" ЗМР РТ",16145478166,"Дмитриева","Анастасия","Алексеевна","ж","2010-05-05",null,8,8,10,null,null,60,null,null,"Парфенова Светлана Петровна","МБОУ \"ЗСОШ №2\""]
[38,"291006_15901919679_25","МБОУ \"ЗСОШ №6\" ЗМР РТ",15901919679,"Иванова","Анна","Вадимовна","ж","2010-03-14",null,8,8,15,null,null,60,null,null,"Романова Галина Николаевна","МБОУ «ЗСОШ №6»"]
[39,"291006_16218598180_25","МБОУ \"ЗСОШ №6\" ЗМР РТ",16218598180,"Хуснутдинова","Лия","Радиковна","ж","2010-09-26",null,8,8,10,null,null,60,null,null,"Романова Галина Николаевна","МБОУ «ЗСОШ №6»"]
[40,"291006_15894032091_25","МБОУ \"ЗСОШ №6\" ЗМР РТ",15894032091,"Мустакимова","Алия","Айратовна","ж","2010-04-14",null,8,8,26,null,null,60,"призер",null,"Данилова Зилара Галимьяновна","МБОУ «ЗСОШ №6»"]
[41,"292017_16143226432_25","МБОУ \"Савалеевская СОШ\" ЗМР РТ",16143226432,"Бутяев","Артем","Витальевич","м","2010-07-07",null,8,8,25.5,null,null,60,"призер",null,"Зарипова Рамзия Рашитовна","МБОУ \"Савалеевская СОШ\""]
[42,"291004_16048685280_25","МБОУ ЗСОШ№4",16048685280,"Гумеров","Раиль","Рустамович","М","2010-06-05",null,8,8,11,null,null,60,null,null,"Мухаметшина Венера Фаретдиновна","МБОУ ЗСОШ№4"]
[43,"291002_17224139546_25","МБОУ \"ЗСОШ №2\" ЗМР РТ",17224139546,"Имамиев","Салават","Ильнарович","м","2010-04-03",null,8,8,12,null,null,60,null,null,"Парфенова Светлана Петровна","МБОУ \"ЗСОШ №2\""]
[44,"291006_15968739748_25","МБОУ \"ЗСОШ №6\" ЗМР РТ",15968739748,"Рамазанов","Ильнур","Рамильевич","м","2010-05-05",null,8,8,11.5,null,null,60,null,null,"Данилова Зилара Галимьяновна","МБОУ «ЗСОШ №6»"]
[45,"292017_15990398322_25","МБОУ \"Савалеевская СОШ\" ЗМР РТ",15990398322,"Смирнов","Егор","Радикович","м","2010-03-27",null,8,8,11,null,null,60,null,null,"Зарипова Рамзия Рашитовна","МБОУ \"Савалеевская СОШ\""]
[46,"291001_15716462778_25","МБОУ \"ЗСОШ №1\" ЗМР РТ",15716462778,"Галимова","Полина","Руслановна","ж","2009-12-29",null,8,8,14.5,null,null,60,null,null,"Хайрутдинова Лениза Аухадеевна","МБОУ \"ЗСОШ № 1\""]
[47,"291003_17304280037_25","МБОУ \"ЗСОШ №3\" ЗМР РТ",17304280037,"Мухаметдинова","Миляуша","Рамисовна","ж","2010-01-06",null,8,8,14,null,null,60,null,null,"Халиуллиа Халида Ахатовна","МБОУ \"ЗСОШ №3\""]
[48,"291007_16115582143_25","МБОУ \"ЗСОШ №7 с УИОП\" ЗМР РТ",16115582143,"Камалов","Адель","Русланович","м","2010-06-08",null,8,8,15,null,null,60,null,null,"Нургалина Эльза Миргарифановна","МБОУ \"ЗСОШ №7 с УИОП\""]
[49,"291003_15731633867_25","МБОУ \"ЗСОШ №3\" ЗМР РТ",15731633867,"Каримуллина","Диляра","Ильсуровна","ж","2010-01-25",null,8,8,11,null,null,60,null,null,"Халиуллиа Халида Ахатовна","МБОУ \"ЗСОШ №3\""]
[50,"291001_16928980636_25","МБОУ \"ЗСОШ №1\" ЗМР РТ",16928980636,"Миннеханова","Айзиля","Ильшатовна","Ж","2011-12-04",null,7,7,50.5,null,null,60,"призер",null,"Мухамадиева Сария Муллаяновна","МБОУ \"ЗСОШ № 1\""]
[51,"291001_16850781601_25","МБОУ \"ЗСОШ №1\" ЗМР РТ",16850781601,"Махмутов","Айнур","Рустемович","м","2011-06-03",null,7,7,14.5,null,null,60,null,null,"Мухамадиева Сария Муллаяновна","МБОУ \"ЗСОШ № 1\""]
[52,"291004_20804569655_25","МБОУ ЗСОШ№4",20804569655,"Фартдинова ","Риана ","Риназовна","Ж","2010-08-21",null,7,7,59,null,null,60,"победитель","призер","Мухаметшина Венера Фаретдиновна","МБОУ ЗСОШ№4"]
[53,"291006_16833667707_25","МБОУ \"ЗСОШ №6\" ЗМР РТ",16833667707,"Арсланова","Лейля","Рамилевна","ж","2011-09-27",null,7,7,18,null,null,60,null,null,"Данилова Зилара Галимьяновна","МБОУ «ЗСОШ №6»"]
[54,"291006_16872241793_25","МБОУ \"ЗСОШ №6\" ЗМР РТ",16872241793,"Исламова","Диана","Динаровна","ж","2011-10-30",null,7,7,13,null,null,60,null,null,"Данилова Зилара Галимьяновна","МБОУ «ЗСОШ №6»"]
[55,"291006_16572919706_25","МБОУ \"ЗСОШ №6\" ЗМР РТ",16572919706,"Хуснутдинова","Румия","Раисовна","ж","2011-05-03",null,7,7,12,null,null,60,null,null,"Назмутдинова Миляуша Анасовна","МБОУ «ЗСОШ №6»"]
[56,"291003_16647694015_25","МБОУ \"ЗСОШ №3\" ЗМР РТ",16647694015,"Краснова","Элина","Николаевна","ж","2011-06-08",null,7,7,23,null,null,60,null,null,"Хайрутдинова Фаридя Салиховна","МБОУ \"ЗСОШ №3\""]
[57,"291003_16591475804_25","МБОУ \"ЗСОШ №3\" ЗМР РТ",16591475804,"Ахунова","Миляуша","Ниязовна","ж","2011-04-29",null,7,7,9,null,null,60,null,null,"Хайрутдинова Фаридя Салиховна","МБОУ \"ЗСОШ №3\""]
[58,"292017_16572919302_25","МБОУ \"Савалеевская СОШ\" ЗМР РТ",16572919302,"Аюкин","Иван","Филиппович","м","2011-04-20",null,7,7,21.5,null,null,60,null,null,"Зарипова Рамзия Рашитовна","МБОУ \"Савалеевская СОШ\""]
[59,"291003_16520571248_25","МБОУ \"ЗСОШ №3\" ЗМР РТ",16520571248,"Бадретдинова","Айзиля","Айнуровна","ж","2011-03-31",null,7,7,12,null,null,60,null,null,"Хайрутдинова Фаридя Салиховна","МБОУ \"ЗСОШ №3\""]
[60,"291002_17020760830_25","МБОУ \"ЗСОШ №2\" ЗМР РТ",17020760830,"Султанова","Камиля","Ильгизовна","ж","2012-01-31",null,6,6,56,null,null,58,"призер","призер","Забурдаева Раушания Рифовна","МБОУ \"ЗСОШ №2\""]
[61,"291002_17297651310_25","МБОУ \"ЗСОШ №2\" ЗМР РТ",17297651310,"Шарапова","Ралина","Маратовна","ж","2012-07-25",null,6,6,57,null,null,58,"победитель",null,"Забурдаева Раушания Рифовна","МБОУ \"ЗСОШ №2\""]
[62,"291002_16932935405_25","МБОУ \"ЗСОШ №2\" ЗМР РТ",16932935405,"Ганиева","Айзиля","Ильдаровна","ж","2011-11-30",null,6,6,20.5,null,null,58,null,null,"Забурдаева Раушания Рифовна","МБОУ \"ЗСОШ №2\""]
[63,"291001_17224139748_25","МБОУ \"ЗСОШ №1\" ЗМР РТ",17224139748,"Глухова","Ксения","Петровна","ж","2012-05-24",null,6,6,31.5,null,null,58,null,null,"Шаймарданова Мавлузя Касимовна","МБОУ \"ЗСОШ № 1\""]
[64,"291001_17082270960_25","МБОУ \"ЗСОШ №1\" ЗМР РТ",17082270960,"Гильфанова","Амина","Ильдаровна","ж","2012-03-07",null,6,6,32,null,null,58,null,null,"Шаймарданова Мавлузя Касимовна","МБОУ \"ЗСОШ № 1\""]
[65,"291006_17183368989_25","МБОУ \"ЗСОШ №6\" ЗМР РТ",17183368989,"Меньшиков","Булат","Ленарович","м","2012-04-30",null,6,6,21.5,null,null,58,null,null,"Ахметшина Фануза Альтафовна","МБОУ «ЗСОШ №6»"]
[66,"291004_17443184572_25","МБОУ ЗСОШ№4",17443184572,"Агзамов ","Назир","Алмазович","М","2012-11-13",null,6,6,18.5,null,null,58,null,null,"Ахметзянова Лейсан Камиловна","МБОУ ЗСОШ№4"]
[67,"291006_17126401031_25","МБОУ \"ЗСОШ №6\" ЗМР РТ",17126401031,"Хайруллина","Камиля","Марселевна","ж","2012-04-06",null,6,6,23.5,null,null,58,null,null,"Ахметшина Фануза Альтафовна","МБОУ «ЗСОШ №6»"]
[68,"291006_17098772919_25","МБОУ \"ЗСОШ №6\" ЗМР РТ",17098772919,"Ахметшина","Азалия","Азатовна","ж","2012-03-14",null,6,6,29.5,null,null,58,null,null,"Ахметшина Фануза Альтафовна","МБОУ «ЗСОШ №6»"]
[69,"291004_16978578360_25","МБОУ ЗСОШ№4",16978578360,"Абзалов","Ислам","Айзатович","М","2011-12-09",null,6,6,14.5,null,null,58,null,null,"Габдрахимова Венера Алмасовна","МБОУ ЗСОШ№4"]
[70,"291002_17134049039_25","МБОУ \"ЗСОШ №2\" ЗМР РТ",17134049039,"Багуринова","Эвелина","Андреевна","ж","2012-03-04",null,6,6,11,null,null,58,null,null,"Забурдаева Раушания Рифовна","МБОУ \"ЗСОШ №2\""]
[71,"291003_17257908903_25","МБОУ \"ЗСОШ №3\" ЗМР РТ",17257908903,"Гатауллин","Шамиль","Алмазович","м","2012-06-22",null,6,6,10.5,null,null,58,null,null,"Ягудина Клара Гапбасовна","МБОУ \"ЗСОШ №3\""]
[72,"291003_17348199401_25","МБОУ \"ЗСОШ №3\" ЗМР РТ",17348199401,"Мухаметдинова","Лилия","Рамисовна","ж","2012-09-05",null,6,6,13,null,null,58,null,null,"Ягудина Клара Гапбасовна","МБОУ \"ЗСОШ №3\""]
[73,"291002_17696935246_25","МБОУ \"ЗСОШ №2\" ЗМР РТ",17696935246,"Муханов","Ренат","Валерьевич","м","2013-05-19",null,5,5,28.5,null,null,54,null,null,"Парфенова Светлана Петровна","МБОУ \"ЗСОШ №2\""]
[74,"291002_17795911941_25","МБОУ \"ЗСОШ №2\" ЗМР РТ",17795911941,"Биккинин","Анвар","Ильнурович","м","2013-08-16",null,5,5,24.5,null,null,54,null,null,"Парфенова Светлана Петровна","МБОУ \"ЗСОШ №2\""]
[75,"291002_17434299588_25","МБОУ \"ЗСОШ №2\" ЗМР РТ",17434299588,"Гумерова","Лилиана","Ильнаровна","ж","2012-11-06",null,5,5,17,null,null,54,null,null,"Парфенова Светлана Петровна","МБОУ \"ЗСОШ №2\""]
[76,"291007_17744119284_25","МБОУ \"ЗСОШ №7 с УИОП\" ЗМР РТ",17744119284,"Хузеева","Аделина","Маратовна","ж","2013-07-12",null,5,5,29.5,null,null,54,null,null,"Нигматзянова Резида Рахимзяновна","МБОУ \"ЗСОШ №7 с УИОП\""]
[77,"291004_17910070155_25","МБОУ ЗСОШ№4",17910070155,"Абзалова","Диляра","Айзатовна","Ж","2013-11-01",null,5,5,16.5,null,null,54,null,null,"Ахметзянова Лейсан Камиловна","МБОУ ЗСОШ№4"]
[78,"291001_17866583237_25","МБОУ \"ЗСОШ №1\" ЗМР РТ",17866583237,"Муханова","Софья","Вячеславовна","ж","2013-10-16",null,5,5,53,null,null,54,"победитель",null,"Мухамадиева Сария Муллаяновна","МБОУ \"ЗСОШ № 1\""]
[79,"291006_17642978214_25","МБОУ \"ЗСОШ №6\" ЗМР РТ",17642978214,"Исакова","Камилла","Васильевна","ж","2013-04-07",null,5,5,14.5,null,null,54,null,null,"Набиуллина Раушания Габбасовна","МБОУ «ЗСОШ №6»"]
[80,"291001_17501638659_25","МБОУ \"ЗСОШ №1\" ЗМР РТ",17501638659,"Гиниятова","Лейля","Ильясовна","ж","2012-12-18",null,5,5,27,null,null,54,null,null,"Мухамадиева Сария Муллаяновна","МБОУ \"ЗСОШ № 1\""]
[81,"291006_17670117978_25","МБОУ \"ЗСОШ №6\" ЗМР РТ",17670117978,"Яхина","Азалия","Эльвировна","ж","2013-05-05",null,5,5,22.5,null,null,54,null,null,"Набиуллина Раушания Габбасовна","МБОУ «ЗСОШ №6»"]
[82,"291002_17658690733_25","МБОУ \"ЗСОШ №2\" ЗМР РТ",17658690733,"Тимофеева","Диана","Алексеевна","ж","2013-04-22",null,5,5,13,null,null,54,null,null,"Парфенова Светлана Петровна","МБОУ \"ЗСОШ №2\""]
[83,"291006_17847933029_25","МБОУ \"ЗСОШ №6\" ЗМР РТ",17847933029,"Cахабиева","Халида","Ильнуровна","ж","2013-09-28",null,5,5,31.5,null,null,54,"призер",null,"Набиуллина Раушания Габбасовна","МБОУ «ЗСОШ №6»"]
[84,"291001_18037261760_25","МБОУ \"ЗСОШ №1\" ЗМР РТ",18037261760,"Волков","Данил","Романович","м","2014-02-20",null,5,5,16,null,null,54,null,null,"Мухамадиева Сария Муллаяновна","МБОУ \"ЗСОШ № 1\""]
[85,"291007_17632314259_25","МБОУ \"ЗСОШ №7 с УИОП\" ЗМР РТ",17632314259,"Салашева","Анастасия","Викторовна","ж","2013-04-14",null,5,5,15.5,null,null,54,null,null,"Талипова Алсу Гасимовна","МБОУ \"ЗСОШ №7 с УИОП\""]
[86,"291003_17632313964_25","МБОУ \"ЗСОШ №3\" ЗМР РТ",17632313964,"Ахунова","Язиля","Ниязовна","ж","2013-04-09",null,5,5,13,null,null,54,null,null,"Халиуллиа Халида Ахатовна","МБОУ \"ЗСОШ №3\""]
[87,"291002_17904226477_25","МБОУ \"ЗСОШ №2\" ЗМР РТ",17904226477,"Сахапов","Раиль","Рамилевич","м","2013-11-07",null,4,4,14,null,null,54,null,null,"Забурдаева Раушания Рифовна","МБОУ \"ЗСОШ №2\""]
[88,"291002_18655718722_25","МБОУ \"ЗСОШ №2\" ЗМР РТ",18655718722,"Богданова","Ильнара","Агвердиевна","ж","2014-12-18",null,4,4,16,null,null,54,null,null,"Забурдаева Раушания Рифовна","МБОУ \"ЗСОШ №2\""]
[89,"291006_17991636535_25","МБОУ \"ЗСОШ №6\" ЗМР РТ",17991636535,"Сулайманова","Аделя","Айратовна","ж","2014-01-21",null,4,4,32,null,null,54,"призер",null,"Набиуллина Раушания Габбасовна","МБОУ «ЗСОШ №6»"]
[90,"291001_17957877967_25","МБОУ \"ЗСОШ №1\" ЗМР РТ",17957877967,"Исламов","Альмир","Альбертович","м","2013-12-24",null,4,4,10,null,null,54,null,null,"Мухамадиева Сария Муллаяновна","МБОУ \"ЗСОШ № 1\""]
[91,"291004_17984872051_25","МБОУ ЗСОШ№4",17984872051,"Багаутдинова ","Азалия ","Азатовна","Ж","2014-01-23",null,4,4,31,null,null,54,null,null,"Мухаметшина Венера Фаретдиновна","МБОУ ЗСОШ№4"]
[92,"291001_18061073242_25","МБОУ \"ЗСОШ №1\" ЗМР РТ",18061073242,"Панаморев","Егор","Геннадьевич","м","2014-03-04",null,4,4,13,null,null,54,null,null,"Мухамадиева Сария Муллаяновна","МБОУ \"ЗСОШ № 1\""]
[93,"291004_18589731745_25","МБОУ ЗСОШ№4",18589731745,"Бахтевалиев ","Салават ","Рушатович","М","2014-11-14",null,4,4,17,null,null,54,null,null,"Мухаметшина Венера Фаретдиновна","МБОУ ЗСОШ№4"]
[94,"291006_18061073141_25","МБОУ \"ЗСОШ №6\" ЗМР РТ",18061073141,"Мустакимова","Самина","Ильнуровна","ж","2014-03-12",null,4,4,33,null,null,54,"победитель",null,"Набиуллина Раушания Габбасовна","МБОУ «ЗСОШ №6»"]
[95,"291006_18130485350_25","МБОУ \"ЗСОШ №6\" ЗМР РТ",18130485350,"Габдрахманов","Альмир","Айнурович","м","2014-06-24",null,4,4,16,null,null,54,null,null,"Романова Галина Николаевна","МБОУ «ЗСОШ №6»"]
[96,"291002_18497804432_25","МБОУ \"ЗСОШ №2\" ЗМР РТ",18497804432,"Валиева","Карина","Ринатовна","ж","2014-10-04",null,4,4,13,null,null,54,null,null,"Забурдаева Раушания Рифовна","МБОУ \"ЗСОШ №2\""]
[97,"291006_18194092185_25","МБОУ \"ЗСОШ №6\" ЗМР РТ",18194092185,"Ахметшин","Эмиль","Ильнурович","м","2014-06-10",null,4,4,29,null,null,54,null,null,"Васильева Ирина Ивановна","МБОУ «ЗСОШ №6»"]
[98,"291007_18134523150_25","МБОУ \"ЗСОШ №7 с УИОП\" ЗМР РТ",18134523150,"Баширов","Румиль","Радикович","м","2014-05-11",null,4,4,28,null,null,54,null,null,"Нургалина Эльза Миргарифановна","МБОУ \"ЗСОШ №7 с УИОП\""]